[-- Attachment #1: Type: text/plain, Size: 1912 bytes --] Test-Label: iol-intel-Performance Test-Status: SUCCESS http://dpdk.org/patch/74966 _Performance Testing PASS_ Submitter: Yuval Avnery <yuvalav@mellanox.com> Date: Wednesday, July 29 2020 02:14:51 DPDK git baseline: Repo:dpdk Branch: master CommitID:f6d099d7da83fb973f6849161795d08842d0d328 74966 --> performance testing pass Test environment and result as below: Ubuntu 18.04 Kernel: 4.15.0-generic Compiler: gcc 7.4 NIC: Intel Corporation Ethernet Converged Network Adapter XL710-QDA2 40000 Mbps Target: x86_64-native-linuxapp-gcc Fail/Total: 0/2 Detail performance results: +------------+---------+-------------------------------------+ | frame_size | txd/rxd | throughput difference from expected | +============+=========+=====================================+ | 64 | 512 | 5.219 | +------------+---------+-------------------------------------+ | 64 | 2048 | 2.798 | +------------+---------+-------------------------------------+ Ubuntu 18.04 Kernel: 4.15.0-generic Compiler: gcc 7.4 NIC: Intel Corporation Ethernet Converged Network Adapter 82599ES 10000 Mbps Target: x86_64-native-linuxapp-gcc Fail/Total: 0/2 Detail performance results: +------------+---------+-------------------------------------+ | frame_size | txd/rxd | throughput difference from expected | +============+=========+=====================================+ | 64 | 512 | 2.551 | +------------+---------+-------------------------------------+ | 64 | 2048 | 1.023 | +------------+---------+-------------------------------------+ To view detailed results, visit: https://lab.dpdk.org/results/dashboard/patchsets/12393/ UNH-IOL DPDK Community Lab To manage your email subscriptions, visit: https://lab.dpdk.org/results/dashboard/preferences/subscriptions/
[-- Attachment #1: Type: text/plain, Size: 2907 bytes --] Test-Label: iol-testing Test-Status: SUCCESS http://dpdk.org/patch/74966 _Testing PASS_ Submitter: Yuval Avnery <yuvalav@mellanox.com> Date: Wednesday, July 29 2020 02:14:51 DPDK git baseline: Repo:dpdk Branch: master CommitID:f6d099d7da83fb973f6849161795d08842d0d328 74966 --> testing pass Test environment and result as below: +---------------------+--------------------+-------------------+----------------+------------------+--------------+ | Environment | dpdk_meson_compile | dpdk_compile_spdk | dpdk_unit_test | dpdk_compile_ovs | dpdk_compile | +=====================+====================+===================+================+==================+==============+ | Windows Server 2019 | PASS | SKIPPED | SKIPPED | SKIPPED | SKIPPED | +---------------------+--------------------+-------------------+----------------+------------------+--------------+ | FreeBSD 11.2 | PASS | PASS | SKIPPED | SKIPPED | PASS | +---------------------+--------------------+-------------------+----------------+------------------+--------------+ | Ubuntu 18.04 | PASS | PASS | PASS | PASS | PASS | +---------------------+--------------------+-------------------+----------------+------------------+--------------+ | CentOS 8 | PASS | PASS | SKIPPED | PASS | PASS | +---------------------+--------------------+-------------------+----------------+------------------+--------------+ | Fedora 31 | PASS | PASS | SKIPPED | PASS | PASS | +---------------------+--------------------+-------------------+----------------+------------------+--------------+ | openSUSE Leap 15 | PASS | PASS | SKIPPED | PASS | PASS | +---------------------+--------------------+-------------------+----------------+------------------+--------------+ | Arch Linux | PASS | SKIPPED | SKIPPED | PASS | PASS | +---------------------+--------------------+-------------------+----------------+------------------+--------------+ Windows Server 2019 Kernel: 10.0 Compiler: clang 9.0 FreeBSD 11.2 Kernel: 11.2 Compiler: gcc 8.3 Ubuntu 18.04 Kernel: 4.15.0-generic Compiler: gcc 7.4 CentOS 8 Kernel: 4.18.0.el8_0 Compiler: gcc 8.3.1 Fedora 31 Kernel: 5.3.16 Compiler: gcc 9.2.1 openSUSE Leap 15 Kernel: 4.12.14 Compiler: gcc 7.4.1 Arch Linux Kernel: latest Compiler: gcc latest To view detailed results, visit: https://lab.dpdk.org/results/dashboard/patchsets/12393/ UNH-IOL DPDK Community Lab To manage your email subscriptions, visit: https://lab.dpdk.org/results/dashboard/preferences/subscriptions/
[-- Attachment #1: Type: text/plain, Size: 3962 bytes --] Test-Label: iol-mellanox-Performance Test-Status: SUCCESS http://dpdk.org/patch/74966 _Performance Testing PASS_ Submitter: Yuval Avnery <yuvalav@mellanox.com> Date: Wednesday, July 29 2020 02:14:51 DPDK git baseline: Repo:dpdk Branch: master CommitID:f6d099d7da83fb973f6849161795d08842d0d328 74966 --> performance testing pass Test environment and result as below: Ubuntu 18.04 Kernel: 4.15.0-generic Compiler: gcc 7.4 NIC: Mellanox ConnectX-5 100000 Mbps Target: x86_64-native-linuxapp-gcc Fail/Total: 0/6 Detail performance results: +------------+---------+-------------------------------------+ | frame_size | txd/rxd | throughput difference from expected | +============+=========+=====================================+ | 64 | 256 | -0.034 | +------------+---------+-------------------------------------+ | 128 | 256 | -0.052 | +------------+---------+-------------------------------------+ | 256 | 256 | 0.116 | +------------+---------+-------------------------------------+ | 512 | 256 | -0.151 | +------------+---------+-------------------------------------+ | 1024 | 256 | -0.167 | +------------+---------+-------------------------------------+ | 1518 | 256 | -0.008 | +------------+---------+-------------------------------------+ Ubuntu 18.04 Kernel: 4.15.0-generic Compiler: gcc 7.4 NIC: Mellanox ConnectX-4 Lx 25000 Mbps Target: x86_64-native-linuxapp-gcc Fail/Total: 0/6 Detail performance results: +------------+---------+-------------------------------------+ | frame_size | txd/rxd | throughput difference from expected | +============+=========+=====================================+ | 64 | 256 | -0.021 | +------------+---------+-------------------------------------+ | 128 | 256 | -0.002 | +------------+---------+-------------------------------------+ | 256 | 256 | 0.109 | +------------+---------+-------------------------------------+ | 512 | 256 | -0.007 | +------------+---------+-------------------------------------+ | 1024 | 256 | -0.001 | +------------+---------+-------------------------------------+ | 1518 | 256 | -0.004 | +------------+---------+-------------------------------------+ Ubuntu 18.04 Kernel: 4.15.0-generic Compiler: gcc 7.4 NIC: Mellanox ConnectX-4 Lx 40000 Mbps Target: x86_64-native-linuxapp-gcc Fail/Total: 0/6 Detail performance results: +------------+---------+-------------------------------------+ | frame_size | txd/rxd | throughput difference from expected | +============+=========+=====================================+ | 64 | 256 | 0.132 | +------------+---------+-------------------------------------+ | 128 | 256 | -0.237 | +------------+---------+-------------------------------------+ | 256 | 256 | 0.243 | +------------+---------+-------------------------------------+ | 512 | 256 | 0.005 | +------------+---------+-------------------------------------+ | 1024 | 256 | 0.007 | +------------+---------+-------------------------------------+ | 1518 | 256 | -0.003 | +------------+---------+-------------------------------------+ To view detailed results, visit: https://lab.dpdk.org/results/dashboard/patchsets/12393/ UNH-IOL DPDK Community Lab To manage your email subscriptions, visit: https://lab.dpdk.org/results/dashboard/preferences/subscriptions/