* [dpdk-test-report] |SUCCESS| pw75012 [PATCH] common/mlx5: fix MAC addresses flush
@ 2020-07-29 16:15 dpdklab
0 siblings, 0 replies; 5+ messages in thread
From: dpdklab @ 2020-07-29 16:15 UTC (permalink / raw)
To: Test Report; +Cc: dpdk-test-reports
[-- Attachment #1: Type: text/plain, Size: 1910 bytes --]
Test-Label: iol-intel-Performance
Test-Status: SUCCESS
http://dpdk.org/patch/75012
_Performance Testing PASS_
Submitter: Shiri Kuzin <shirik@mellanox.com>
Date: Wednesday, July 29 2020 14:29:00
DPDK git baseline: Repo:dpdk
Branch: master
CommitID:f6d099d7da83fb973f6849161795d08842d0d328
75012 --> performance testing pass
Test environment and result as below:
Ubuntu 18.04
Kernel: 4.15.0-generic
Compiler: gcc 7.4
NIC: Intel Corporation Ethernet Converged Network Adapter XL710-QDA2 40000 Mbps
Target: x86_64-native-linuxapp-gcc
Fail/Total: 0/2
Detail performance results:
+------------+---------+-------------------------------------+
| frame_size | txd/rxd | throughput difference from expected |
+============+=========+=====================================+
| 64 | 512 | 5.097 |
+------------+---------+-------------------------------------+
| 64 | 2048 | 3.106 |
+------------+---------+-------------------------------------+
Ubuntu 18.04
Kernel: 4.15.0-generic
Compiler: gcc 7.4
NIC: Intel Corporation Ethernet Converged Network Adapter 82599ES 10000 Mbps
Target: x86_64-native-linuxapp-gcc
Fail/Total: 0/2
Detail performance results:
+------------+---------+-------------------------------------+
| frame_size | txd/rxd | throughput difference from expected |
+============+=========+=====================================+
| 64 | 512 | 2.424 |
+------------+---------+-------------------------------------+
| 64 | 2048 | 1.332 |
+------------+---------+-------------------------------------+
To view detailed results, visit:
https://lab.dpdk.org/results/dashboard/patchsets/12415/
UNH-IOL DPDK Community Lab
To manage your email subscriptions, visit:
https://lab.dpdk.org/results/dashboard/preferences/subscriptions/
^ permalink raw reply [flat|nested] 5+ messages in thread
* [dpdk-test-report] |SUCCESS| pw75012 [PATCH] common/mlx5: fix MAC addresses flush
@ 2020-07-29 17:48 dpdklab
0 siblings, 0 replies; 5+ messages in thread
From: dpdklab @ 2020-07-29 17:48 UTC (permalink / raw)
To: Test Report; +Cc: dpdk-test-reports
[-- Attachment #1: Type: text/plain, Size: 2905 bytes --]
Test-Label: iol-testing
Test-Status: SUCCESS
http://dpdk.org/patch/75012
_Testing PASS_
Submitter: Shiri Kuzin <shirik@mellanox.com>
Date: Wednesday, July 29 2020 14:29:00
DPDK git baseline: Repo:dpdk
Branch: master
CommitID:f6d099d7da83fb973f6849161795d08842d0d328
75012 --> testing pass
Test environment and result as below:
+---------------------+--------------------+--------------+----------------+------------------+-------------------+
| Environment | dpdk_meson_compile | dpdk_compile | dpdk_unit_test | dpdk_compile_ovs | dpdk_compile_spdk |
+=====================+====================+==============+================+==================+===================+
| Windows Server 2019 | PASS | SKIPPED | SKIPPED | SKIPPED | SKIPPED |
+---------------------+--------------------+--------------+----------------+------------------+-------------------+
| FreeBSD 11.2 | PASS | PASS | SKIPPED | SKIPPED | PASS |
+---------------------+--------------------+--------------+----------------+------------------+-------------------+
| Ubuntu 18.04 | PASS | PASS | PASS | PASS | PASS |
+---------------------+--------------------+--------------+----------------+------------------+-------------------+
| CentOS 8 | PASS | PASS | SKIPPED | PASS | PASS |
+---------------------+--------------------+--------------+----------------+------------------+-------------------+
| openSUSE Leap 15 | PASS | PASS | SKIPPED | PASS | PASS |
+---------------------+--------------------+--------------+----------------+------------------+-------------------+
| Fedora 31 | PASS | PASS | SKIPPED | PASS | PASS |
+---------------------+--------------------+--------------+----------------+------------------+-------------------+
| Arch Linux | PASS | PASS | SKIPPED | PASS | SKIPPED |
+---------------------+--------------------+--------------+----------------+------------------+-------------------+
Windows Server 2019
Kernel: 10.0
Compiler: clang 9.0
FreeBSD 11.2
Kernel: 11.2
Compiler: gcc 8.3
Ubuntu 18.04
Kernel: 4.15.0-generic
Compiler: gcc 7.4
CentOS 8
Kernel: 4.18.0.el8_0
Compiler: gcc 8.3.1
openSUSE Leap 15
Kernel: 4.12.14
Compiler: gcc 7.4.1
Fedora 31
Kernel: 5.3.16
Compiler: gcc 9.2.1
Arch Linux
Kernel: latest
Compiler: gcc latest
To view detailed results, visit:
https://lab.dpdk.org/results/dashboard/patchsets/12415/
UNH-IOL DPDK Community Lab
To manage your email subscriptions, visit:
https://lab.dpdk.org/results/dashboard/preferences/subscriptions/
^ permalink raw reply [flat|nested] 5+ messages in thread
* [dpdk-test-report] |SUCCESS| pw75012 [PATCH] common/mlx5: fix MAC addresses flush
@ 2020-07-29 21:50 dpdklab
0 siblings, 0 replies; 5+ messages in thread
From: dpdklab @ 2020-07-29 21:50 UTC (permalink / raw)
To: Ali Alnubani, Test Report; +Cc: dpdk-test-reports
[-- Attachment #1: Type: text/plain, Size: 3960 bytes --]
Test-Label: iol-mellanox-Performance
Test-Status: SUCCESS
http://dpdk.org/patch/75012
_Performance Testing PASS_
Submitter: Shiri Kuzin <shirik@mellanox.com>
Date: Wednesday, July 29 2020 14:29:00
DPDK git baseline: Repo:dpdk
Branch: master
CommitID:f6d099d7da83fb973f6849161795d08842d0d328
75012 --> performance testing pass
Test environment and result as below:
Ubuntu 18.04
Kernel: 4.15.0-generic
Compiler: gcc 7.4
NIC: Mellanox ConnectX-5 100000 Mbps
Target: x86_64-native-linuxapp-gcc
Fail/Total: 0/6
Detail performance results:
+------------+---------+-------------------------------------+
| frame_size | txd/rxd | throughput difference from expected |
+============+=========+=====================================+
| 64 | 256 | -0.006 |
+------------+---------+-------------------------------------+
| 128 | 256 | -0.044 |
+------------+---------+-------------------------------------+
| 256 | 256 | 0.002 |
+------------+---------+-------------------------------------+
| 512 | 256 | -0.172 |
+------------+---------+-------------------------------------+
| 1024 | 256 | 0 |
+------------+---------+-------------------------------------+
| 1518 | 256 | -0.001 |
+------------+---------+-------------------------------------+
Ubuntu 18.04
Kernel: 4.15.0-generic
Compiler: gcc 7.4
NIC: Mellanox ConnectX-4 Lx 25000 Mbps
Target: x86_64-native-linuxapp-gcc
Fail/Total: 0/6
Detail performance results:
+------------+---------+-------------------------------------+
| frame_size | txd/rxd | throughput difference from expected |
+============+=========+=====================================+
| 64 | 256 | -0.014 |
+------------+---------+-------------------------------------+
| 128 | 256 | 0.163 |
+------------+---------+-------------------------------------+
| 256 | 256 | -0.125 |
+------------+---------+-------------------------------------+
| 512 | 256 | -0.004 |
+------------+---------+-------------------------------------+
| 1024 | 256 | 0 |
+------------+---------+-------------------------------------+
| 1518 | 256 | -0.001 |
+------------+---------+-------------------------------------+
Ubuntu 18.04
Kernel: 4.15.0-generic
Compiler: gcc 7.4
NIC: Mellanox ConnectX-4 Lx 40000 Mbps
Target: x86_64-native-linuxapp-gcc
Fail/Total: 0/6
Detail performance results:
+------------+---------+-------------------------------------+
| frame_size | txd/rxd | throughput difference from expected |
+============+=========+=====================================+
| 64 | 256 | -0.052 |
+------------+---------+-------------------------------------+
| 128 | 256 | -0.148 |
+------------+---------+-------------------------------------+
| 256 | 256 | -0.309 |
+------------+---------+-------------------------------------+
| 512 | 256 | -0.001 |
+------------+---------+-------------------------------------+
| 1024 | 256 | 0.006 |
+------------+---------+-------------------------------------+
| 1518 | 256 | -0.003 |
+------------+---------+-------------------------------------+
To view detailed results, visit:
https://lab.dpdk.org/results/dashboard/patchsets/12415/
UNH-IOL DPDK Community Lab
To manage your email subscriptions, visit:
https://lab.dpdk.org/results/dashboard/preferences/subscriptions/
^ permalink raw reply [flat|nested] 5+ messages in thread
end of thread, other threads:[~2020-07-29 21:50 UTC | newest]
Thread overview: 5+ messages (download: mbox.gz / follow: Atom feed)
-- links below jump to the message on this page --
[not found] <1596032940-20138-1-git-send-email-shirik@mellanox.com>
2020-07-29 14:30 ` [dpdk-test-report] |SUCCESS| pw75012 [PATCH] common/mlx5: fix MAC addresses flush checkpatch
2020-07-29 16:57 ` [dpdk-test-report] |SUCCESS| pw75012 " 0-day Robot
2020-07-29 16:15 [dpdk-test-report] |SUCCESS| pw75012 [PATCH] " dpdklab
2020-07-29 17:48 dpdklab
2020-07-29 21:50 dpdklab
This is a public inbox, see mirroring instructions
for how to clone and mirror all data and code used for this inbox;
as well as URLs for NNTP newsgroup(s).