[-- Attachment #1: Type: text/plain, Size: 1911 bytes --] Test-Label: iol-intel-Performance Test-Status: SUCCESS http://dpdk.org/patch/75036 _Performance Testing PASS_ Submitter: yang_y_yi <yang_y_yi@163.com> Date: Thursday, July 30 2020 12:08:58 DPDK git baseline: Repo:dpdk Branch: master CommitID:76e821a303fd566c937f8e60c03a4f5803cc00ed 75036-75037 --> performance testing pass Test environment and result as below: Ubuntu 18.04 Kernel: 4.15.0-generic Compiler: gcc 7.4 NIC: Intel Corporation Ethernet Converged Network Adapter XL710-QDA2 40000 Mbps Target: x86_64-native-linuxapp-gcc Fail/Total: 0/2 Detail performance results: +------------+---------+-------------------------------------+ | frame_size | txd/rxd | throughput difference from expected | +============+=========+=====================================+ | 64 | 512 | 4.958 | +------------+---------+-------------------------------------+ | 64 | 2048 | 2.976 | +------------+---------+-------------------------------------+ Ubuntu 18.04 Kernel: 4.15.0-generic Compiler: gcc 7.4 NIC: Intel Corporation Ethernet Converged Network Adapter 82599ES 10000 Mbps Target: x86_64-native-linuxapp-gcc Fail/Total: 0/2 Detail performance results: +------------+---------+-------------------------------------+ | frame_size | txd/rxd | throughput difference from expected | +============+=========+=====================================+ | 64 | 512 | 2.643 | +------------+---------+-------------------------------------+ | 64 | 2048 | 1.410 | +------------+---------+-------------------------------------+ To view detailed results, visit: https://lab.dpdk.org/results/dashboard/patchsets/12426/ UNH-IOL DPDK Community Lab To manage your email subscriptions, visit: https://lab.dpdk.org/results/dashboard/preferences/subscriptions/
[-- Attachment #1: Type: text/plain, Size: 2906 bytes --] Test-Label: iol-testing Test-Status: SUCCESS http://dpdk.org/patch/75036 _Testing PASS_ Submitter: yang_y_yi <yang_y_yi@163.com> Date: Thursday, July 30 2020 12:08:58 DPDK git baseline: Repo:dpdk Branch: master CommitID:76e821a303fd566c937f8e60c03a4f5803cc00ed 75036-75037 --> testing pass Test environment and result as below: +---------------------+--------------------+-------------------+----------------+------------------+--------------+ | Environment | dpdk_meson_compile | dpdk_compile_spdk | dpdk_unit_test | dpdk_compile_ovs | dpdk_compile | +=====================+====================+===================+================+==================+==============+ | Windows Server 2019 | PASS | SKIPPED | SKIPPED | SKIPPED | SKIPPED | +---------------------+--------------------+-------------------+----------------+------------------+--------------+ | FreeBSD 11.2 | PASS | PASS | SKIPPED | SKIPPED | PASS | +---------------------+--------------------+-------------------+----------------+------------------+--------------+ | Ubuntu 18.04 | PASS | PASS | PASS | PASS | PASS | +---------------------+--------------------+-------------------+----------------+------------------+--------------+ | CentOS 8 | PASS | PASS | SKIPPED | PASS | PASS | +---------------------+--------------------+-------------------+----------------+------------------+--------------+ | Fedora 31 | PASS | PASS | SKIPPED | PASS | PASS | +---------------------+--------------------+-------------------+----------------+------------------+--------------+ | openSUSE Leap 15 | PASS | PASS | SKIPPED | PASS | PASS | +---------------------+--------------------+-------------------+----------------+------------------+--------------+ | Arch Linux | PASS | SKIPPED | SKIPPED | PASS | PASS | +---------------------+--------------------+-------------------+----------------+------------------+--------------+ Windows Server 2019 Kernel: 10.0 Compiler: clang 9.0 FreeBSD 11.2 Kernel: 11.2 Compiler: gcc 8.3 Ubuntu 18.04 Kernel: 4.15.0-generic Compiler: gcc 7.4 CentOS 8 Kernel: 4.18.0.el8_0 Compiler: gcc 8.3.1 Fedora 31 Kernel: 5.3.16 Compiler: gcc 9.2.1 openSUSE Leap 15 Kernel: 4.12.14 Compiler: gcc 7.4.1 Arch Linux Kernel: latest Compiler: gcc latest To view detailed results, visit: https://lab.dpdk.org/results/dashboard/patchsets/12426/ UNH-IOL DPDK Community Lab To manage your email subscriptions, visit: https://lab.dpdk.org/results/dashboard/preferences/subscriptions/
[-- Attachment #1: Type: text/plain, Size: 3961 bytes --] Test-Label: iol-mellanox-Performance Test-Status: SUCCESS http://dpdk.org/patch/75036 _Performance Testing PASS_ Submitter: yang_y_yi <yang_y_yi@163.com> Date: Thursday, July 30 2020 12:08:58 DPDK git baseline: Repo:dpdk Branch: master CommitID:76e821a303fd566c937f8e60c03a4f5803cc00ed 75036-75037 --> performance testing pass Test environment and result as below: Ubuntu 18.04 Kernel: 4.15.0-generic Compiler: gcc 7.4 NIC: Mellanox ConnectX-5 100000 Mbps Target: x86_64-native-linuxapp-gcc Fail/Total: 0/6 Detail performance results: +------------+---------+-------------------------------------+ | frame_size | txd/rxd | throughput difference from expected | +============+=========+=====================================+ | 64 | 256 | -0.092 | +------------+---------+-------------------------------------+ | 128 | 256 | -0.162 | +------------+---------+-------------------------------------+ | 256 | 256 | -0.072 | +------------+---------+-------------------------------------+ | 512 | 256 | -0.154 | +------------+---------+-------------------------------------+ | 1024 | 256 | -0.033 | +------------+---------+-------------------------------------+ | 1518 | 256 | -0.004 | +------------+---------+-------------------------------------+ Ubuntu 18.04 Kernel: 4.15.0-generic Compiler: gcc 7.4 NIC: Mellanox ConnectX-4 Lx 25000 Mbps Target: x86_64-native-linuxapp-gcc Fail/Total: 0/6 Detail performance results: +------------+---------+-------------------------------------+ | frame_size | txd/rxd | throughput difference from expected | +============+=========+=====================================+ | 64 | 256 | 0.192 | +------------+---------+-------------------------------------+ | 128 | 256 | -0.201 | +------------+---------+-------------------------------------+ | 256 | 256 | -0.066 | +------------+---------+-------------------------------------+ | 512 | 256 | 0.034 | +------------+---------+-------------------------------------+ | 1024 | 256 | -0.010 | +------------+---------+-------------------------------------+ | 1518 | 256 | -0.002 | +------------+---------+-------------------------------------+ Ubuntu 18.04 Kernel: 4.15.0-generic Compiler: gcc 7.4 NIC: Mellanox ConnectX-4 Lx 40000 Mbps Target: x86_64-native-linuxapp-gcc Fail/Total: 0/6 Detail performance results: +------------+---------+-------------------------------------+ | frame_size | txd/rxd | throughput difference from expected | +============+=========+=====================================+ | 64 | 256 | -0.056 | +------------+---------+-------------------------------------+ | 128 | 256 | 0.003 | +------------+---------+-------------------------------------+ | 256 | 256 | 0.048 | +------------+---------+-------------------------------------+ | 512 | 256 | -0.012 | +------------+---------+-------------------------------------+ | 1024 | 256 | -0.002 | +------------+---------+-------------------------------------+ | 1518 | 256 | -0.013 | +------------+---------+-------------------------------------+ To view detailed results, visit: https://lab.dpdk.org/results/dashboard/patchsets/12426/ UNH-IOL DPDK Community Lab To manage your email subscriptions, visit: https://lab.dpdk.org/results/dashboard/preferences/subscriptions/