From: dpdklab@iol.unh.edu To: Test Report <test-report@dpdk.org> Cc: dpdk-test-reports@iol.unh.edu Subject: [dpdk-test-report] |SUCCESS| pw75048 [PATCH] [v1] net/ice: optimize TCP header size calculation Date: Thu, 30 Jul 2020 22:23:20 -0400 (EDT) Message-ID: <20200731022320.291F130627@noxus.dpdklab.iol.unh.edu> (raw) [-- Attachment #1: Type: text/plain, Size: 2921 bytes --] Test-Label: iol-testing Test-Status: SUCCESS http://dpdk.org/patch/75048 _Testing PASS_ Submitter: Haiyue Wang <haiyue.wang@intel.com> Date: Thursday, July 30 2020 16:04:30 DPDK git baseline: Repo:dpdk-next-net-intel Branch: master CommitID:795d3bade8bd98c922a5302c4b54ae3329c7d4b4 75048 --> testing pass Test environment and result as below: +---------------------+--------------------+-------------------+----------------+------------------+--------------+ | Environment | dpdk_meson_compile | dpdk_compile_spdk | dpdk_unit_test | dpdk_compile_ovs | dpdk_compile | +=====================+====================+===================+================+==================+==============+ | Windows Server 2019 | PASS | SKIPPED | SKIPPED | SKIPPED | SKIPPED | +---------------------+--------------------+-------------------+----------------+------------------+--------------+ | FreeBSD 11.2 | PASS | PASS | SKIPPED | SKIPPED | PASS | +---------------------+--------------------+-------------------+----------------+------------------+--------------+ | Ubuntu 18.04 | PASS | PASS | PASS | PASS | PASS | +---------------------+--------------------+-------------------+----------------+------------------+--------------+ | CentOS 8 | PASS | PASS | SKIPPED | PASS | PASS | +---------------------+--------------------+-------------------+----------------+------------------+--------------+ | Fedora 31 | PASS | PASS | SKIPPED | PASS | PASS | +---------------------+--------------------+-------------------+----------------+------------------+--------------+ | Arch Linux | PASS | SKIPPED | SKIPPED | PASS | PASS | +---------------------+--------------------+-------------------+----------------+------------------+--------------+ | openSUSE Leap 15 | PASS | PASS | SKIPPED | PASS | PASS | +---------------------+--------------------+-------------------+----------------+------------------+--------------+ Windows Server 2019 Kernel: 10.0 Compiler: clang 9.0 FreeBSD 11.2 Kernel: 11.2 Compiler: gcc 8.3 Ubuntu 18.04 Kernel: 4.15.0-generic Compiler: gcc 7.4 CentOS 8 Kernel: 4.18.0.el8_0 Compiler: gcc 8.3.1 Fedora 31 Kernel: 5.3.16 Compiler: gcc 9.2.1 Arch Linux Kernel: latest Compiler: gcc latest openSUSE Leap 15 Kernel: 4.12.14 Compiler: gcc 7.4.1 To view detailed results, visit: https://lab.dpdk.org/results/dashboard/patchsets/12430/ UNH-IOL DPDK Community Lab To manage your email subscriptions, visit: https://lab.dpdk.org/results/dashboard/preferences/subscriptions/
next reply other threads:[~2020-07-31 2:23 UTC|newest] Thread overview: 7+ messages / expand[flat|nested] mbox.gz Atom feed top 2020-07-31 2:23 dpdklab [this message] -- strict thread matches above, loose matches on Subject: below -- 2020-07-31 11:46 dpdklab 2020-07-31 10:54 dpdklab 2020-07-31 1:37 dpdklab 2020-07-30 18:29 dpdklab 2020-07-30 18:00 dpdklab [not found] <20200730160430.10609-1-haiyue.wang@intel.com> 2020-07-30 16:15 ` [dpdk-test-report] |SUCCESS| pw75048 [PATCH v1] " checkpatch
Reply instructions: You may reply publicly to this message via plain-text email using any one of the following methods: * Save the following mbox file, import it into your mail client, and reply-to-all from there: mbox Avoid top-posting and favor interleaved quoting: https://en.wikipedia.org/wiki/Posting_style#Interleaved_style * Reply using the --to, --cc, and --in-reply-to switches of git-send-email(1): git send-email \ --in-reply-to=20200731022320.291F130627@noxus.dpdklab.iol.unh.edu \ --to=dpdklab@iol.unh.edu \ --cc=dpdk-test-reports@iol.unh.edu \ --cc=test-report@dpdk.org \ /path/to/YOUR_REPLY https://kernel.org/pub/software/scm/git/docs/git-send-email.html * If your mail client supports setting the In-Reply-To header via mailto: links, try the mailto: link
automatic DPDK test reports This inbox may be cloned and mirrored by anyone: git clone --mirror http://inbox.dpdk.org/test-report/0 test-report/git/0.git # If you have public-inbox 1.1+ installed, you may # initialize and index your mirror using the following commands: public-inbox-init -V2 test-report test-report/ http://inbox.dpdk.org/test-report \ test-report@dpdk.org public-inbox-index test-report Example config snippet for mirrors. Newsgroup available over NNTP: nntp://inbox.dpdk.org/inbox.dpdk.test-report AGPL code for this site: git clone https://public-inbox.org/public-inbox.git