automatic DPDK test reports
 help / color / Atom feed
* [dpdk-test-report] |SUCCESS| pw75093 [PATCH] [v1] net/ice: revert the TSO fake fix
@ 2020-07-31  9:04 dpdklab
  0 siblings, 0 replies; 4+ messages in thread
From: dpdklab @ 2020-07-31  9:04 UTC (permalink / raw)
  To: Test Report; +Cc: dpdk-test-reports

[-- Attachment #1: Type: text/plain, Size: 2904 bytes --]

Test-Label: iol-testing
Test-Status: SUCCESS
http://dpdk.org/patch/75093

_Testing PASS_

Submitter: Haiyue Wang <haiyue.wang@intel.com>
Date: Friday, July 31 2020 05:59:40 
DPDK git baseline: Repo:dpdk
  Branch: master
  CommitID:aee76bb79b91e2f8bce0e9356bee23f6e52d0513

75093 --> testing pass

Test environment and result as below:

+---------------------+--------------------+--------------+------------------+----------------+-------------------+
|     Environment     | dpdk_meson_compile | dpdk_compile | dpdk_compile_ovs | dpdk_unit_test | dpdk_compile_spdk |
+=====================+====================+==============+==================+================+===================+
| Windows Server 2019 | PASS               | SKIPPED      | SKIPPED          | SKIPPED        | SKIPPED           |
+---------------------+--------------------+--------------+------------------+----------------+-------------------+
| Ubuntu 18.04        | PASS               | PASS         | PASS             | PASS           | PASS              |
+---------------------+--------------------+--------------+------------------+----------------+-------------------+
| FreeBSD 11.2        | PASS               | PASS         | SKIPPED          | SKIPPED        | PASS              |
+---------------------+--------------------+--------------+------------------+----------------+-------------------+
| CentOS 8            | PASS               | PASS         | PASS             | SKIPPED        | PASS              |
+---------------------+--------------------+--------------+------------------+----------------+-------------------+
| openSUSE Leap 15    | PASS               | PASS         | PASS             | SKIPPED        | PASS              |
+---------------------+--------------------+--------------+------------------+----------------+-------------------+
| Fedora 31           | PASS               | PASS         | PASS             | SKIPPED        | PASS              |
+---------------------+--------------------+--------------+------------------+----------------+-------------------+
| Arch Linux          | SKIPPED            | PASS         | PASS             | SKIPPED        | SKIPPED           |
+---------------------+--------------------+--------------+------------------+----------------+-------------------+

Windows Server 2019
	Kernel: 10.0
	Compiler: clang 9.0

Ubuntu 18.04
	Kernel: 4.15.0-generic
	Compiler: gcc 7.4

FreeBSD 11.2
	Kernel: 11.2
	Compiler: gcc 8.3

CentOS 8
	Kernel: 4.18.0.el8_0
	Compiler: gcc 8.3.1

openSUSE Leap 15
	Kernel: 4.12.14
	Compiler: gcc 7.4.1

Fedora 31
	Kernel: 5.3.16
	Compiler: gcc 9.2.1

Arch Linux
	Kernel: latest
	Compiler: gcc latest

To view detailed results, visit:
https://lab.dpdk.org/results/dashboard/patchsets/12439/

UNH-IOL DPDK Community Lab

To manage your email subscriptions, visit: 
https://lab.dpdk.org/results/dashboard/preferences/subscriptions/

^ permalink raw reply	[flat|nested] 4+ messages in thread

* [dpdk-test-report] |SUCCESS| pw75093 [PATCH] [v1] net/ice: revert the TSO fake fix
@ 2020-07-31 19:05 dpdklab
  0 siblings, 0 replies; 4+ messages in thread
From: dpdklab @ 2020-07-31 19:05 UTC (permalink / raw)
  To: Ali Alnubani, Test Report; +Cc: dpdk-test-reports

[-- Attachment #1: Type: text/plain, Size: 3959 bytes --]

Test-Label: iol-mellanox-Performance
Test-Status: SUCCESS
http://dpdk.org/patch/75093

_Performance Testing PASS_

Submitter: Haiyue Wang <haiyue.wang@intel.com>
Date: Friday, July 31 2020 05:59:40 
DPDK git baseline: Repo:dpdk
  Branch: master
  CommitID:aee76bb79b91e2f8bce0e9356bee23f6e52d0513

75093 --> performance testing pass

Test environment and result as below:

Ubuntu 18.04
Kernel: 4.15.0-generic
Compiler: gcc 7.4
NIC: Mellanox ConnectX-5 100000 Mbps
Target: x86_64-native-linuxapp-gcc
Fail/Total: 0/6

Detail performance results: 
+------------+---------+-------------------------------------+
| frame_size | txd/rxd | throughput difference from expected |
+============+=========+=====================================+
| 64         | 256     | -0.117                              |
+------------+---------+-------------------------------------+
| 128        | 256     | -0.212                              |
+------------+---------+-------------------------------------+
| 256        | 256     | 0.070                               |
+------------+---------+-------------------------------------+
| 512        | 256     | 0.177                               |
+------------+---------+-------------------------------------+
| 1024       | 256     | -0.002                              |
+------------+---------+-------------------------------------+
| 1518       | 256     | 0.032                               |
+------------+---------+-------------------------------------+

Ubuntu 18.04
Kernel: 4.15.0-generic
Compiler: gcc 7.4
NIC: Mellanox ConnectX-4 Lx 25000 Mbps
Target: x86_64-native-linuxapp-gcc
Fail/Total: 0/6

Detail performance results: 
+------------+---------+-------------------------------------+
| frame_size | txd/rxd | throughput difference from expected |
+============+=========+=====================================+
| 64         | 256     | 0.235                               |
+------------+---------+-------------------------------------+
| 128        | 256     | 0.081                               |
+------------+---------+-------------------------------------+
| 256        | 256     | 0.052                               |
+------------+---------+-------------------------------------+
| 512        | 256     | -0.121                              |
+------------+---------+-------------------------------------+
| 1024       | 256     | 0.018                               |
+------------+---------+-------------------------------------+
| 1518       | 256     | 0.006                               |
+------------+---------+-------------------------------------+

Ubuntu 18.04
Kernel: 4.15.0-generic
Compiler: gcc 7.4
NIC: Mellanox ConnectX-4 Lx 40000 Mbps
Target: x86_64-native-linuxapp-gcc
Fail/Total: 0/6

Detail performance results: 
+------------+---------+-------------------------------------+
| frame_size | txd/rxd | throughput difference from expected |
+============+=========+=====================================+
| 64         | 256     | -0.244                              |
+------------+---------+-------------------------------------+
| 128        | 256     | 0.056                               |
+------------+---------+-------------------------------------+
| 256        | 256     | 0.360                               |
+------------+---------+-------------------------------------+
| 512        | 256     | -0.003                              |
+------------+---------+-------------------------------------+
| 1024       | 256     | -0.002                              |
+------------+---------+-------------------------------------+
| 1518       | 256     | 0                                   |
+------------+---------+-------------------------------------+

To view detailed results, visit:
https://lab.dpdk.org/results/dashboard/patchsets/12439/

UNH-IOL DPDK Community Lab

To manage your email subscriptions, visit: 
https://lab.dpdk.org/results/dashboard/preferences/subscriptions/

^ permalink raw reply	[flat|nested] 4+ messages in thread

* [dpdk-test-report] |SUCCESS| pw75093 [PATCH] [v1] net/ice: revert the TSO fake fix
@ 2020-07-31  7:04 dpdklab
  0 siblings, 0 replies; 4+ messages in thread
From: dpdklab @ 2020-07-31  7:04 UTC (permalink / raw)
  To: Test Report; +Cc: dpdk-test-reports

[-- Attachment #1: Type: text/plain, Size: 1909 bytes --]

Test-Label: iol-intel-Performance
Test-Status: SUCCESS
http://dpdk.org/patch/75093

_Performance Testing PASS_

Submitter: Haiyue Wang <haiyue.wang@intel.com>
Date: Friday, July 31 2020 05:59:40 
DPDK git baseline: Repo:dpdk
  Branch: master
  CommitID:aee76bb79b91e2f8bce0e9356bee23f6e52d0513

75093 --> performance testing pass

Test environment and result as below:

Ubuntu 18.04
Kernel: 4.15.0-generic
Compiler: gcc 7.4
NIC: Intel Corporation Ethernet Converged Network Adapter XL710-QDA2 40000 Mbps
Target: x86_64-native-linuxapp-gcc
Fail/Total: 0/2

Detail performance results: 
+------------+---------+-------------------------------------+
| frame_size | txd/rxd | throughput difference from expected |
+============+=========+=====================================+
| 64         | 512     | 4.422                               |
+------------+---------+-------------------------------------+
| 64         | 2048    | 2.795                               |
+------------+---------+-------------------------------------+

Ubuntu 18.04
Kernel: 4.15.0-generic
Compiler: gcc 7.4
NIC: Intel Corporation Ethernet Converged Network Adapter 82599ES 10000 Mbps
Target: x86_64-native-linuxapp-gcc
Fail/Total: 0/2

Detail performance results: 
+------------+---------+-------------------------------------+
| frame_size | txd/rxd | throughput difference from expected |
+============+=========+=====================================+
| 64         | 512     | 2.542                               |
+------------+---------+-------------------------------------+
| 64         | 2048    | 0.307                               |
+------------+---------+-------------------------------------+

To view detailed results, visit:
https://lab.dpdk.org/results/dashboard/patchsets/12439/

UNH-IOL DPDK Community Lab

To manage your email subscriptions, visit: 
https://lab.dpdk.org/results/dashboard/preferences/subscriptions/

^ permalink raw reply	[flat|nested] 4+ messages in thread

* [dpdk-test-report] |SUCCESS| pw75093 [PATCH v1] net/ice: revert the TSO fake fix
       [not found] <20200731055940.261825-1-haiyue.wang@intel.com>
@ 2020-07-31  6:10 ` " checkpatch
  0 siblings, 0 replies; 4+ messages in thread
From: checkpatch @ 2020-07-31  6:10 UTC (permalink / raw)
  To: test-report

Test-Label: checkpatch
Test-Status: SUCCESS
http://dpdk.org/patch/75093

_coding style OK_



^ permalink raw reply	[flat|nested] 4+ messages in thread

end of thread, back to index

Thread overview: 4+ messages (download: mbox.gz / follow: Atom feed)
-- links below jump to the message on this page --
2020-07-31  9:04 [dpdk-test-report] |SUCCESS| pw75093 [PATCH] [v1] net/ice: revert the TSO fake fix dpdklab
  -- strict thread matches above, loose matches on Subject: below --
2020-07-31 19:05 dpdklab
2020-07-31  7:04 dpdklab
     [not found] <20200731055940.261825-1-haiyue.wang@intel.com>
2020-07-31  6:10 ` [dpdk-test-report] |SUCCESS| pw75093 [PATCH v1] " checkpatch

automatic DPDK test reports

Archives are clonable:
	git clone --mirror http://inbox.dpdk.org/test-report/0 test-report/git/0.git

	# If you have public-inbox 1.1+ installed, you may
	# initialize and index your mirror using the following commands:
	public-inbox-init -V2 test-report test-report/ http://inbox.dpdk.org/test-report \
		test-report@dpdk.org
	public-inbox-index test-report


Newsgroup available over NNTP:
	nntp://inbox.dpdk.org/inbox.dpdk.test-report


AGPL code for this site: git clone https://public-inbox.org/ public-inbox