automatic DPDK test reports
 help / color / Atom feed
* [dpdk-test-report] |SUCCESS| pw75103-75104 [PATCH] [1/2] net/bnxt: fix memory leak when freeing vf_info
@ 2020-07-31 20:02 dpdklab
  0 siblings, 0 replies; 3+ messages in thread
From: dpdklab @ 2020-07-31 20:02 UTC (permalink / raw)
  To: Ali Alnubani, Test Report; +Cc: dpdk-test-reports

[-- Attachment #1: Type: text/plain, Size: 3966 bytes --]

Test-Label: iol-mellanox-Performance
Test-Status: SUCCESS
http://dpdk.org/patch/75103

_Performance Testing PASS_

Submitter: wangyunjian <wangyunjian@huawei.com>
Date: Friday, July 31 2020 12:08:55 
DPDK git baseline: Repo:dpdk
  Branch: master
  CommitID:aee76bb79b91e2f8bce0e9356bee23f6e52d0513

75103-75104 --> performance testing pass

Test environment and result as below:

Ubuntu 18.04
Kernel: 4.15.0-generic
Compiler: gcc 7.4
NIC: Mellanox ConnectX-5 100000 Mbps
Target: x86_64-native-linuxapp-gcc
Fail/Total: 0/6

Detail performance results: 
+------------+---------+-------------------------------------+
| frame_size | txd/rxd | throughput difference from expected |
+============+=========+=====================================+
| 64         | 256     | 0.278                               |
+------------+---------+-------------------------------------+
| 128        | 256     | -0.055                              |
+------------+---------+-------------------------------------+
| 256        | 256     | 0.140                               |
+------------+---------+-------------------------------------+
| 512        | 256     | -0.017                              |
+------------+---------+-------------------------------------+
| 1024       | 256     | 0.052                               |
+------------+---------+-------------------------------------+
| 1518       | 256     | 0.007                               |
+------------+---------+-------------------------------------+

Ubuntu 18.04
Kernel: 4.15.0-generic
Compiler: gcc 7.4
NIC: Mellanox ConnectX-4 Lx 25000 Mbps
Target: x86_64-native-linuxapp-gcc
Fail/Total: 0/6

Detail performance results: 
+------------+---------+-------------------------------------+
| frame_size | txd/rxd | throughput difference from expected |
+============+=========+=====================================+
| 64         | 256     | 0.216                               |
+------------+---------+-------------------------------------+
| 128        | 256     | 0.480                               |
+------------+---------+-------------------------------------+
| 256        | 256     | 0.013                               |
+------------+---------+-------------------------------------+
| 512        | 256     | -0.023                              |
+------------+---------+-------------------------------------+
| 1024       | 256     | 0.009                               |
+------------+---------+-------------------------------------+
| 1518       | 256     | -0.003                              |
+------------+---------+-------------------------------------+

Ubuntu 18.04
Kernel: 4.15.0-generic
Compiler: gcc 7.4
NIC: Mellanox ConnectX-4 Lx 40000 Mbps
Target: x86_64-native-linuxapp-gcc
Fail/Total: 0/6

Detail performance results: 
+------------+---------+-------------------------------------+
| frame_size | txd/rxd | throughput difference from expected |
+============+=========+=====================================+
| 64         | 256     | -0.378                              |
+------------+---------+-------------------------------------+
| 128        | 256     | -0.233                              |
+------------+---------+-------------------------------------+
| 256        | 256     | -0.366                              |
+------------+---------+-------------------------------------+
| 512        | 256     | 0.001                               |
+------------+---------+-------------------------------------+
| 1024       | 256     | -0.004                              |
+------------+---------+-------------------------------------+
| 1518       | 256     | 0.001                               |
+------------+---------+-------------------------------------+

To view detailed results, visit:
https://lab.dpdk.org/results/dashboard/patchsets/12440/

UNH-IOL DPDK Community Lab

To manage your email subscriptions, visit: 
https://lab.dpdk.org/results/dashboard/preferences/subscriptions/

^ permalink raw reply	[flat|nested] 3+ messages in thread

* [dpdk-test-report] |SUCCESS| pw75103-75104 [PATCH] [1/2] net/bnxt: fix memory leak when freeing vf_info
@ 2020-07-31 13:19 dpdklab
  0 siblings, 0 replies; 3+ messages in thread
From: dpdklab @ 2020-07-31 13:19 UTC (permalink / raw)
  To: Test Report; +Cc: dpdk-test-reports

[-- Attachment #1: Type: text/plain, Size: 2911 bytes --]

Test-Label: iol-testing
Test-Status: SUCCESS
http://dpdk.org/patch/75103

_Testing PASS_

Submitter: wangyunjian <wangyunjian@huawei.com>
Date: Friday, July 31 2020 12:08:55 
DPDK git baseline: Repo:dpdk
  Branch: master
  CommitID:aee76bb79b91e2f8bce0e9356bee23f6e52d0513

75103-75104 --> testing pass

Test environment and result as below:

+---------------------+--------------------+--------------+------------------+----------------+-------------------+
|     Environment     | dpdk_meson_compile | dpdk_compile | dpdk_compile_ovs | dpdk_unit_test | dpdk_compile_spdk |
+=====================+====================+==============+==================+================+===================+
| Windows Server 2019 | PASS               | SKIPPED      | SKIPPED          | SKIPPED        | SKIPPED           |
+---------------------+--------------------+--------------+------------------+----------------+-------------------+
| FreeBSD 11.2        | PASS               | PASS         | SKIPPED          | SKIPPED        | PASS              |
+---------------------+--------------------+--------------+------------------+----------------+-------------------+
| Ubuntu 18.04        | PASS               | PASS         | PASS             | PASS           | PASS              |
+---------------------+--------------------+--------------+------------------+----------------+-------------------+
| CentOS 8            | PASS               | PASS         | PASS             | SKIPPED        | PASS              |
+---------------------+--------------------+--------------+------------------+----------------+-------------------+
| Fedora 31           | PASS               | PASS         | PASS             | SKIPPED        | PASS              |
+---------------------+--------------------+--------------+------------------+----------------+-------------------+
| openSUSE Leap 15    | PASS               | PASS         | PASS             | SKIPPED        | PASS              |
+---------------------+--------------------+--------------+------------------+----------------+-------------------+
| Arch Linux          | PASS               | PASS         | PASS             | SKIPPED        | SKIPPED           |
+---------------------+--------------------+--------------+------------------+----------------+-------------------+

Windows Server 2019
	Kernel: 10.0
	Compiler: clang 9.0

FreeBSD 11.2
	Kernel: 11.2
	Compiler: gcc 8.3

Ubuntu 18.04
	Kernel: 4.15.0-generic
	Compiler: gcc 7.4

CentOS 8
	Kernel: 4.18.0.el8_0
	Compiler: gcc 8.3.1

Fedora 31
	Kernel: 5.3.16
	Compiler: gcc 9.2.1

openSUSE Leap 15
	Kernel: 4.12.14
	Compiler: gcc 7.4.1

Arch Linux
	Kernel: latest
	Compiler: gcc latest

To view detailed results, visit:
https://lab.dpdk.org/results/dashboard/patchsets/12440/

UNH-IOL DPDK Community Lab

To manage your email subscriptions, visit: 
https://lab.dpdk.org/results/dashboard/preferences/subscriptions/

^ permalink raw reply	[flat|nested] 3+ messages in thread

* [dpdk-test-report] |SUCCESS| pw75103-75104 [PATCH] [1/2] net/bnxt: fix memory leak when freeing vf_info
@ 2020-07-31 12:59 dpdklab
  0 siblings, 0 replies; 3+ messages in thread
From: dpdklab @ 2020-07-31 12:59 UTC (permalink / raw)
  To: Test Report; +Cc: dpdk-test-reports

[-- Attachment #1: Type: text/plain, Size: 1916 bytes --]

Test-Label: iol-intel-Performance
Test-Status: SUCCESS
http://dpdk.org/patch/75103

_Performance Testing PASS_

Submitter: wangyunjian <wangyunjian@huawei.com>
Date: Friday, July 31 2020 12:08:55 
DPDK git baseline: Repo:dpdk
  Branch: master
  CommitID:aee76bb79b91e2f8bce0e9356bee23f6e52d0513

75103-75104 --> performance testing pass

Test environment and result as below:

Ubuntu 18.04
Kernel: 4.15.0-generic
Compiler: gcc 7.4
NIC: Intel Corporation Ethernet Converged Network Adapter XL710-QDA2 40000 Mbps
Target: x86_64-native-linuxapp-gcc
Fail/Total: 0/2

Detail performance results: 
+------------+---------+-------------------------------------+
| frame_size | txd/rxd | throughput difference from expected |
+============+=========+=====================================+
| 64         | 512     | 4.943                               |
+------------+---------+-------------------------------------+
| 64         | 2048    | 2.543                               |
+------------+---------+-------------------------------------+

Ubuntu 18.04
Kernel: 4.15.0-generic
Compiler: gcc 7.4
NIC: Intel Corporation Ethernet Converged Network Adapter 82599ES 10000 Mbps
Target: x86_64-native-linuxapp-gcc
Fail/Total: 0/2

Detail performance results: 
+------------+---------+-------------------------------------+
| frame_size | txd/rxd | throughput difference from expected |
+============+=========+=====================================+
| 64         | 512     | 3.262                               |
+------------+---------+-------------------------------------+
| 64         | 2048    | 1.687                               |
+------------+---------+-------------------------------------+

To view detailed results, visit:
https://lab.dpdk.org/results/dashboard/patchsets/12440/

UNH-IOL DPDK Community Lab

To manage your email subscriptions, visit: 
https://lab.dpdk.org/results/dashboard/preferences/subscriptions/

^ permalink raw reply	[flat|nested] 3+ messages in thread

end of thread, back to index

Thread overview: 3+ messages (download: mbox.gz / follow: Atom feed)
-- links below jump to the message on this page --
2020-07-31 20:02 [dpdk-test-report] |SUCCESS| pw75103-75104 [PATCH] [1/2] net/bnxt: fix memory leak when freeing vf_info dpdklab
  -- strict thread matches above, loose matches on Subject: below --
2020-07-31 13:19 dpdklab
2020-07-31 12:59 dpdklab

automatic DPDK test reports

Archives are clonable:
	git clone --mirror http://inbox.dpdk.org/test-report/0 test-report/git/0.git

	# If you have public-inbox 1.1+ installed, you may
	# initialize and index your mirror using the following commands:
	public-inbox-init -V2 test-report test-report/ http://inbox.dpdk.org/test-report \
		test-report@dpdk.org
	public-inbox-index test-report


Newsgroup available over NNTP:
	nntp://inbox.dpdk.org/inbox.dpdk.test-report


AGPL code for this site: git clone https://public-inbox.org/ public-inbox