automatic DPDK test reports
 help / color / Atom feed
* [dpdk-test-report] |SUCCESS| pw75115 [PATCH] net/rte_pmd_i40e: remove duplicate check
       [not found] <20200801015752.15397-1-gaurav1086@gmail.com>
@ 2020-08-01  1:59 ` checkpatch
  2020-08-01  4:27 ` [dpdk-test-report] |SUCCESS| pw75115 " 0-day Robot
  1 sibling, 0 replies; 5+ messages in thread
From: checkpatch @ 2020-08-01  1:59 UTC (permalink / raw)
  To: test-report

Test-Label: checkpatch
Test-Status: SUCCESS
http://dpdk.org/patch/75115

_coding style OK_



^ permalink raw reply	[flat|nested] 5+ messages in thread

* [dpdk-test-report] |SUCCESS| pw75115 net/rte_pmd_i40e: remove duplicate check
       [not found] <20200801015752.15397-1-gaurav1086@gmail.com>
  2020-08-01  1:59 ` [dpdk-test-report] |SUCCESS| pw75115 [PATCH] net/rte_pmd_i40e: remove duplicate check checkpatch
@ 2020-08-01  4:27 ` " 0-day Robot
  1 sibling, 0 replies; 5+ messages in thread
From: 0-day Robot @ 2020-08-01  4:27 UTC (permalink / raw)
  To: test-report; +Cc: robot

From: robot@bytheb.org

Test-Label: travis-robot
Test-Status: SUCCESS
http://dpdk.org/patch/75115

_Travis build: passed_
Build URL: https://travis-ci.com/ovsrobot/dpdk/builds/178038222

^ permalink raw reply	[flat|nested] 5+ messages in thread

* [dpdk-test-report] |SUCCESS| pw75115 [PATCH] net/rte_pmd_i40e: remove duplicate check
@ 2020-08-01  4:16 dpdklab
  0 siblings, 0 replies; 5+ messages in thread
From: dpdklab @ 2020-08-01  4:16 UTC (permalink / raw)
  To: Ali Alnubani, Test Report; +Cc: dpdk-test-reports

[-- Attachment #1: Type: text/plain, Size: 3963 bytes --]

Test-Label: iol-mellanox-Performance
Test-Status: SUCCESS
http://dpdk.org/patch/75115

_Performance Testing PASS_

Submitter: Gaurav Singh <gaurav1086@gmail.com>
Date: Saturday, August 01 2020 01:57:52 
DPDK git baseline: Repo:dpdk
  Branch: master
  CommitID:6636b04b82897816e0e05134f55a578cb7e124bc

75115 --> performance testing pass

Test environment and result as below:

Ubuntu 18.04
Kernel: 4.15.0-generic
Compiler: gcc 7.4
NIC: Mellanox ConnectX-5 100000 Mbps
Target: x86_64-native-linuxapp-gcc
Fail/Total: 0/6

Detail performance results: 
+------------+---------+-------------------------------------+
| frame_size | txd/rxd | throughput difference from expected |
+============+=========+=====================================+
| 64         | 256     | 0.237                               |
+------------+---------+-------------------------------------+
| 128        | 256     | 0.046                               |
+------------+---------+-------------------------------------+
| 256        | 256     | 0.051                               |
+------------+---------+-------------------------------------+
| 512        | 256     | 0.131                               |
+------------+---------+-------------------------------------+
| 1024       | 256     | -0.022                              |
+------------+---------+-------------------------------------+
| 1518       | 256     | -0.020                              |
+------------+---------+-------------------------------------+

Ubuntu 18.04
Kernel: 4.15.0-generic
Compiler: gcc 7.4
NIC: Mellanox ConnectX-4 Lx 25000 Mbps
Target: x86_64-native-linuxapp-gcc
Fail/Total: 0/6

Detail performance results: 
+------------+---------+-------------------------------------+
| frame_size | txd/rxd | throughput difference from expected |
+============+=========+=====================================+
| 64         | 256     | -0.024                              |
+------------+---------+-------------------------------------+
| 128        | 256     | -0.053                              |
+------------+---------+-------------------------------------+
| 256        | 256     | 0.095                               |
+------------+---------+-------------------------------------+
| 512        | 256     | 0.001                               |
+------------+---------+-------------------------------------+
| 1024       | 256     | -0.006                              |
+------------+---------+-------------------------------------+
| 1518       | 256     | 0.004                               |
+------------+---------+-------------------------------------+

Ubuntu 18.04
Kernel: 4.15.0-generic
Compiler: gcc 7.4
NIC: Mellanox ConnectX-4 Lx 40000 Mbps
Target: x86_64-native-linuxapp-gcc
Fail/Total: 0/6

Detail performance results: 
+------------+---------+-------------------------------------+
| frame_size | txd/rxd | throughput difference from expected |
+============+=========+=====================================+
| 64         | 256     | -0.010                              |
+------------+---------+-------------------------------------+
| 128        | 256     | 0.033                               |
+------------+---------+-------------------------------------+
| 256        | 256     | -0.308                              |
+------------+---------+-------------------------------------+
| 512        | 256     | 0                                   |
+------------+---------+-------------------------------------+
| 1024       | 256     | 0                                   |
+------------+---------+-------------------------------------+
| 1518       | 256     | 0.007                               |
+------------+---------+-------------------------------------+

To view detailed results, visit:
https://lab.dpdk.org/results/dashboard/patchsets/12447/

UNH-IOL DPDK Community Lab

To manage your email subscriptions, visit: 
https://lab.dpdk.org/results/dashboard/preferences/subscriptions/

^ permalink raw reply	[flat|nested] 5+ messages in thread

* [dpdk-test-report] |SUCCESS| pw75115 [PATCH] net/rte_pmd_i40e: remove duplicate check
@ 2020-08-01  3:51 dpdklab
  0 siblings, 0 replies; 5+ messages in thread
From: dpdklab @ 2020-08-01  3:51 UTC (permalink / raw)
  To: Test Report; +Cc: dpdk-test-reports

[-- Attachment #1: Type: text/plain, Size: 2908 bytes --]

Test-Label: iol-testing
Test-Status: SUCCESS
http://dpdk.org/patch/75115

_Testing PASS_

Submitter: Gaurav Singh <gaurav1086@gmail.com>
Date: Saturday, August 01 2020 01:57:52 
DPDK git baseline: Repo:dpdk
  Branch: master
  CommitID:6636b04b82897816e0e05134f55a578cb7e124bc

75115 --> testing pass

Test environment and result as below:

+---------------------+--------------------+-------------------+----------------+--------------+------------------+
|     Environment     | dpdk_meson_compile | dpdk_compile_spdk | dpdk_unit_test | dpdk_compile | dpdk_compile_ovs |
+=====================+====================+===================+================+==============+==================+
| Windows Server 2019 | PASS               | SKIPPED           | SKIPPED        | SKIPPED      | SKIPPED          |
+---------------------+--------------------+-------------------+----------------+--------------+------------------+
| FreeBSD 11.2        | PASS               | PASS              | SKIPPED        | PASS         | SKIPPED          |
+---------------------+--------------------+-------------------+----------------+--------------+------------------+
| Ubuntu 18.04        | PASS               | PASS              | PASS           | PASS         | PASS             |
+---------------------+--------------------+-------------------+----------------+--------------+------------------+
| CentOS 8            | PASS               | PASS              | SKIPPED        | PASS         | PASS             |
+---------------------+--------------------+-------------------+----------------+--------------+------------------+
| Fedora 31           | PASS               | PASS              | SKIPPED        | PASS         | PASS             |
+---------------------+--------------------+-------------------+----------------+--------------+------------------+
| openSUSE Leap 15    | PASS               | PASS              | SKIPPED        | PASS         | PASS             |
+---------------------+--------------------+-------------------+----------------+--------------+------------------+
| Arch Linux          | PASS               | SKIPPED           | SKIPPED        | PASS         | PASS             |
+---------------------+--------------------+-------------------+----------------+--------------+------------------+

Windows Server 2019
	Kernel: 10.0
	Compiler: clang 9.0

FreeBSD 11.2
	Kernel: 11.2
	Compiler: gcc 8.3

Ubuntu 18.04
	Kernel: 4.15.0-generic
	Compiler: gcc 7.4

CentOS 8
	Kernel: 4.18.0.el8_0
	Compiler: gcc 8.3.1

Fedora 31
	Kernel: 5.3.16
	Compiler: gcc 9.2.1

openSUSE Leap 15
	Kernel: 4.12.14
	Compiler: gcc 7.4.1

Arch Linux
	Kernel: latest
	Compiler: gcc latest

To view detailed results, visit:
https://lab.dpdk.org/results/dashboard/patchsets/12447/

UNH-IOL DPDK Community Lab

To manage your email subscriptions, visit: 
https://lab.dpdk.org/results/dashboard/preferences/subscriptions/

^ permalink raw reply	[flat|nested] 5+ messages in thread

* [dpdk-test-report] |SUCCESS| pw75115 [PATCH] net/rte_pmd_i40e: remove duplicate check
@ 2020-08-01  3:11 " dpdklab
  0 siblings, 0 replies; 5+ messages in thread
From: dpdklab @ 2020-08-01  3:11 UTC (permalink / raw)
  To: Test Report; +Cc: dpdk-test-reports

[-- Attachment #1: Type: text/plain, Size: 1913 bytes --]

Test-Label: iol-intel-Performance
Test-Status: SUCCESS
http://dpdk.org/patch/75115

_Performance Testing PASS_

Submitter: Gaurav Singh <gaurav1086@gmail.com>
Date: Saturday, August 01 2020 01:57:52 
DPDK git baseline: Repo:dpdk
  Branch: master
  CommitID:6636b04b82897816e0e05134f55a578cb7e124bc

75115 --> performance testing pass

Test environment and result as below:

Ubuntu 18.04
Kernel: 4.15.0-generic
Compiler: gcc 7.4
NIC: Intel Corporation Ethernet Converged Network Adapter XL710-QDA2 40000 Mbps
Target: x86_64-native-linuxapp-gcc
Fail/Total: 0/2

Detail performance results: 
+------------+---------+-------------------------------------+
| frame_size | txd/rxd | throughput difference from expected |
+============+=========+=====================================+
| 64         | 512     | 4.959                               |
+------------+---------+-------------------------------------+
| 64         | 2048    | 2.787                               |
+------------+---------+-------------------------------------+

Ubuntu 18.04
Kernel: 4.15.0-generic
Compiler: gcc 7.4
NIC: Intel Corporation Ethernet Converged Network Adapter 82599ES 10000 Mbps
Target: x86_64-native-linuxapp-gcc
Fail/Total: 0/2

Detail performance results: 
+------------+---------+-------------------------------------+
| frame_size | txd/rxd | throughput difference from expected |
+============+=========+=====================================+
| 64         | 512     | 2.608                               |
+------------+---------+-------------------------------------+
| 64         | 2048    | 1.243                               |
+------------+---------+-------------------------------------+

To view detailed results, visit:
https://lab.dpdk.org/results/dashboard/patchsets/12447/

UNH-IOL DPDK Community Lab

To manage your email subscriptions, visit: 
https://lab.dpdk.org/results/dashboard/preferences/subscriptions/

^ permalink raw reply	[flat|nested] 5+ messages in thread

end of thread, back to index

Thread overview: 5+ messages (download: mbox.gz / follow: Atom feed)
-- links below jump to the message on this page --
     [not found] <20200801015752.15397-1-gaurav1086@gmail.com>
2020-08-01  1:59 ` [dpdk-test-report] |SUCCESS| pw75115 [PATCH] net/rte_pmd_i40e: remove duplicate check checkpatch
2020-08-01  4:27 ` [dpdk-test-report] |SUCCESS| pw75115 " 0-day Robot
2020-08-01  3:11 [dpdk-test-report] |SUCCESS| pw75115 [PATCH] " dpdklab
2020-08-01  3:51 dpdklab
2020-08-01  4:16 dpdklab

automatic DPDK test reports

Archives are clonable:
	git clone --mirror http://inbox.dpdk.org/test-report/0 test-report/git/0.git

	# If you have public-inbox 1.1+ installed, you may
	# initialize and index your mirror using the following commands:
	public-inbox-init -V2 test-report test-report/ http://inbox.dpdk.org/test-report \
		test-report@dpdk.org
	public-inbox-index test-report


Newsgroup available over NNTP:
	nntp://inbox.dpdk.org/inbox.dpdk.test-report


AGPL code for this site: git clone https://public-inbox.org/ public-inbox