automatic DPDK test reports
 help / color / Atom feed
* [dpdk-test-report] |SUCCESS| pw75116 [PATCH] librte_metrics: fix memory leak
@ 2020-08-01  6:57 dpdklab
  0 siblings, 0 replies; 4+ messages in thread
From: dpdklab @ 2020-08-01  6:57 UTC (permalink / raw)
  To: Test Report; +Cc: dpdk-test-reports

[-- Attachment #1: Type: text/plain, Size: 1913 bytes --]

Test-Label: iol-intel-Performance
Test-Status: SUCCESS
http://dpdk.org/patch/75116

_Performance Testing PASS_

Submitter: Gaurav Singh <gaurav1086@gmail.com>
Date: Saturday, August 01 2020 06:08:38 
DPDK git baseline: Repo:dpdk
  Branch: master
  CommitID:6636b04b82897816e0e05134f55a578cb7e124bc

75116 --> performance testing pass

Test environment and result as below:

Ubuntu 18.04
Kernel: 4.15.0-generic
Compiler: gcc 7.4
NIC: Intel Corporation Ethernet Converged Network Adapter XL710-QDA2 40000 Mbps
Target: x86_64-native-linuxapp-gcc
Fail/Total: 0/2

Detail performance results: 
+------------+---------+-------------------------------------+
| frame_size | txd/rxd | throughput difference from expected |
+============+=========+=====================================+
| 64         | 512     | 5.065                               |
+------------+---------+-------------------------------------+
| 64         | 2048    | 2.741                               |
+------------+---------+-------------------------------------+

Ubuntu 18.04
Kernel: 4.15.0-generic
Compiler: gcc 7.4
NIC: Intel Corporation Ethernet Converged Network Adapter 82599ES 10000 Mbps
Target: x86_64-native-linuxapp-gcc
Fail/Total: 0/2

Detail performance results: 
+------------+---------+-------------------------------------+
| frame_size | txd/rxd | throughput difference from expected |
+============+=========+=====================================+
| 64         | 512     | 2.664                               |
+------------+---------+-------------------------------------+
| 64         | 2048    | 1.145                               |
+------------+---------+-------------------------------------+

To view detailed results, visit:
https://lab.dpdk.org/results/dashboard/patchsets/12448/

UNH-IOL DPDK Community Lab

To manage your email subscriptions, visit: 
https://lab.dpdk.org/results/dashboard/preferences/subscriptions/

^ permalink raw reply	[flat|nested] 4+ messages in thread

* [dpdk-test-report] |SUCCESS| pw75116 [PATCH] librte_metrics: fix memory leak
@ 2020-08-01  7:27 dpdklab
  0 siblings, 0 replies; 4+ messages in thread
From: dpdklab @ 2020-08-01  7:27 UTC (permalink / raw)
  To: Ali Alnubani, Test Report; +Cc: dpdk-test-reports

[-- Attachment #1: Type: text/plain, Size: 3963 bytes --]

Test-Label: iol-mellanox-Performance
Test-Status: SUCCESS
http://dpdk.org/patch/75116

_Performance Testing PASS_

Submitter: Gaurav Singh <gaurav1086@gmail.com>
Date: Saturday, August 01 2020 06:08:38 
DPDK git baseline: Repo:dpdk
  Branch: master
  CommitID:6636b04b82897816e0e05134f55a578cb7e124bc

75116 --> performance testing pass

Test environment and result as below:

Ubuntu 18.04
Kernel: 4.15.0-generic
Compiler: gcc 7.4
NIC: Mellanox ConnectX-5 100000 Mbps
Target: x86_64-native-linuxapp-gcc
Fail/Total: 0/6

Detail performance results: 
+------------+---------+-------------------------------------+
| frame_size | txd/rxd | throughput difference from expected |
+============+=========+=====================================+
| 64         | 256     | 0.154                               |
+------------+---------+-------------------------------------+
| 128        | 256     | 0.170                               |
+------------+---------+-------------------------------------+
| 256        | 256     | 0.035                               |
+------------+---------+-------------------------------------+
| 512        | 256     | -0.003                              |
+------------+---------+-------------------------------------+
| 1024       | 256     | 0.010                               |
+------------+---------+-------------------------------------+
| 1518       | 256     | -0.014                              |
+------------+---------+-------------------------------------+

Ubuntu 18.04
Kernel: 4.15.0-generic
Compiler: gcc 7.4
NIC: Mellanox ConnectX-4 Lx 25000 Mbps
Target: x86_64-native-linuxapp-gcc
Fail/Total: 0/6

Detail performance results: 
+------------+---------+-------------------------------------+
| frame_size | txd/rxd | throughput difference from expected |
+============+=========+=====================================+
| 64         | 256     | 0.033                               |
+------------+---------+-------------------------------------+
| 128        | 256     | 0.045                               |
+------------+---------+-------------------------------------+
| 256        | 256     | -0.034                              |
+------------+---------+-------------------------------------+
| 512        | 256     | -0.017                              |
+------------+---------+-------------------------------------+
| 1024       | 256     | -0.008                              |
+------------+---------+-------------------------------------+
| 1518       | 256     | -0.008                              |
+------------+---------+-------------------------------------+

Ubuntu 18.04
Kernel: 4.15.0-generic
Compiler: gcc 7.4
NIC: Mellanox ConnectX-4 Lx 40000 Mbps
Target: x86_64-native-linuxapp-gcc
Fail/Total: 0/6

Detail performance results: 
+------------+---------+-------------------------------------+
| frame_size | txd/rxd | throughput difference from expected |
+============+=========+=====================================+
| 64         | 256     | 0.076                               |
+------------+---------+-------------------------------------+
| 128        | 256     | -0.001                              |
+------------+---------+-------------------------------------+
| 256        | 256     | -0.110                              |
+------------+---------+-------------------------------------+
| 512        | 256     | 0.002                               |
+------------+---------+-------------------------------------+
| 1024       | 256     | 0.001                               |
+------------+---------+-------------------------------------+
| 1518       | 256     | -0.005                              |
+------------+---------+-------------------------------------+

To view detailed results, visit:
https://lab.dpdk.org/results/dashboard/patchsets/12448/

UNH-IOL DPDK Community Lab

To manage your email subscriptions, visit: 
https://lab.dpdk.org/results/dashboard/preferences/subscriptions/

^ permalink raw reply	[flat|nested] 4+ messages in thread

* [dpdk-test-report] |SUCCESS| pw75116 [PATCH] librte_metrics: fix memory leak
@ 2020-08-01  7:16 dpdklab
  0 siblings, 0 replies; 4+ messages in thread
From: dpdklab @ 2020-08-01  7:16 UTC (permalink / raw)
  To: Test Report; +Cc: dpdk-test-reports

[-- Attachment #1: Type: text/plain, Size: 2908 bytes --]

Test-Label: iol-testing
Test-Status: SUCCESS
http://dpdk.org/patch/75116

_Testing PASS_

Submitter: Gaurav Singh <gaurav1086@gmail.com>
Date: Saturday, August 01 2020 06:08:38 
DPDK git baseline: Repo:dpdk
  Branch: master
  CommitID:6636b04b82897816e0e05134f55a578cb7e124bc

75116 --> testing pass

Test environment and result as below:

+---------------------+--------------------+--------------+----------------+------------------+-------------------+
|     Environment     | dpdk_meson_compile | dpdk_compile | dpdk_unit_test | dpdk_compile_ovs | dpdk_compile_spdk |
+=====================+====================+==============+================+==================+===================+
| Windows Server 2019 | PASS               | SKIPPED      | SKIPPED        | SKIPPED          | SKIPPED           |
+---------------------+--------------------+--------------+----------------+------------------+-------------------+
| FreeBSD 11.2        | PASS               | PASS         | SKIPPED        | SKIPPED          | PASS              |
+---------------------+--------------------+--------------+----------------+------------------+-------------------+
| Ubuntu 18.04        | PASS               | PASS         | PASS           | PASS             | PASS              |
+---------------------+--------------------+--------------+----------------+------------------+-------------------+
| Fedora 31           | PASS               | PASS         | SKIPPED        | PASS             | PASS              |
+---------------------+--------------------+--------------+----------------+------------------+-------------------+
| CentOS 8            | PASS               | PASS         | SKIPPED        | PASS             | PASS              |
+---------------------+--------------------+--------------+----------------+------------------+-------------------+
| openSUSE Leap 15    | PASS               | PASS         | SKIPPED        | PASS             | PASS              |
+---------------------+--------------------+--------------+----------------+------------------+-------------------+
| Arch Linux          | PASS               | PASS         | SKIPPED        | PASS             | SKIPPED           |
+---------------------+--------------------+--------------+----------------+------------------+-------------------+

Windows Server 2019
	Kernel: 10.0
	Compiler: clang 9.0

FreeBSD 11.2
	Kernel: 11.2
	Compiler: gcc 8.3

Ubuntu 18.04
	Kernel: 4.15.0-generic
	Compiler: gcc 7.4

Fedora 31
	Kernel: 5.3.16
	Compiler: gcc 9.2.1

CentOS 8
	Kernel: 4.18.0.el8_0
	Compiler: gcc 8.3.1

openSUSE Leap 15
	Kernel: 4.12.14
	Compiler: gcc 7.4.1

Arch Linux
	Kernel: latest
	Compiler: gcc latest

To view detailed results, visit:
https://lab.dpdk.org/results/dashboard/patchsets/12448/

UNH-IOL DPDK Community Lab

To manage your email subscriptions, visit: 
https://lab.dpdk.org/results/dashboard/preferences/subscriptions/

^ permalink raw reply	[flat|nested] 4+ messages in thread

* [dpdk-test-report] |SUCCESS| pw75116 [PATCH] librte_metrics: fix memory leak
       [not found] <20200801060838.20591-1-gaurav1086@gmail.com>
@ 2020-08-01  6:10 ` checkpatch
  0 siblings, 0 replies; 4+ messages in thread
From: checkpatch @ 2020-08-01  6:10 UTC (permalink / raw)
  To: test-report

Test-Label: checkpatch
Test-Status: SUCCESS
http://dpdk.org/patch/75116

_coding style OK_



^ permalink raw reply	[flat|nested] 4+ messages in thread

end of thread, back to index

Thread overview: 4+ messages (download: mbox.gz / follow: Atom feed)
-- links below jump to the message on this page --
2020-08-01  6:57 [dpdk-test-report] |SUCCESS| pw75116 [PATCH] librte_metrics: fix memory leak dpdklab
  -- strict thread matches above, loose matches on Subject: below --
2020-08-01  7:27 dpdklab
2020-08-01  7:16 dpdklab
     [not found] <20200801060838.20591-1-gaurav1086@gmail.com>
2020-08-01  6:10 ` checkpatch

automatic DPDK test reports

Archives are clonable:
	git clone --mirror http://inbox.dpdk.org/test-report/0 test-report/git/0.git

	# If you have public-inbox 1.1+ installed, you may
	# initialize and index your mirror using the following commands:
	public-inbox-init -V2 test-report test-report/ http://inbox.dpdk.org/test-report \
		test-report@dpdk.org
	public-inbox-index test-report


Newsgroup available over NNTP:
	nntp://inbox.dpdk.org/inbox.dpdk.test-report


AGPL code for this site: git clone https://public-inbox.org/ public-inbox