* [dpdk-test-report] |SUCCESS| pw75206 [PATCH v1] common/mlx5: replace strsep with strtok_r
[not found] <20200805085635.18057-1-ophirmu@mellanox.com>
@ 2020-08-05 8:57 ` checkpatch
2020-08-05 11:27 ` [dpdk-test-report] |SUCCESS| pw75206 " 0-day Robot
1 sibling, 0 replies; 5+ messages in thread
From: checkpatch @ 2020-08-05 8:57 UTC (permalink / raw)
To: test-report
Test-Label: checkpatch
Test-Status: SUCCESS
http://dpdk.org/patch/75206
_coding style OK_
^ permalink raw reply [flat|nested] 5+ messages in thread
* [dpdk-test-report] |SUCCESS| pw75206 common/mlx5: replace strsep with strtok_r
[not found] <20200805085635.18057-1-ophirmu@mellanox.com>
2020-08-05 8:57 ` [dpdk-test-report] |SUCCESS| pw75206 [PATCH v1] common/mlx5: replace strsep with strtok_r checkpatch
@ 2020-08-05 11:27 ` 0-day Robot
1 sibling, 0 replies; 5+ messages in thread
From: 0-day Robot @ 2020-08-05 11:27 UTC (permalink / raw)
To: test-report; +Cc: robot
From: robot@bytheb.org
Test-Label: travis-robot
Test-Status: SUCCESS
http://dpdk.org/patch/75206
_Travis build: passed_
Build URL: https://travis-ci.com/ovsrobot/dpdk/builds/178531317
^ permalink raw reply [flat|nested] 5+ messages in thread
* [dpdk-test-report] |SUCCESS| pw75206 [PATCH] [v1] common/mlx5: replace strsep with strtok_r
@ 2020-08-05 10:10 dpdklab
0 siblings, 0 replies; 5+ messages in thread
From: dpdklab @ 2020-08-05 10:10 UTC (permalink / raw)
To: Ali Alnubani, Test Report; +Cc: dpdk-test-reports
[-- Attachment #1: Type: text/plain, Size: 3962 bytes --]
Test-Label: iol-mellanox-Performance
Test-Status: SUCCESS
http://dpdk.org/patch/75206
_Performance Testing PASS_
Submitter: Ophir Munk <ophirmu@mellanox.com>
Date: Wednesday, August 05 2020 08:56:35
DPDK git baseline: Repo:dpdk
Branch: master
CommitID:6636b04b82897816e0e05134f55a578cb7e124bc
75206 --> performance testing pass
Test environment and result as below:
Ubuntu 18.04
Kernel: 4.15.0-generic
Compiler: gcc 7.4
NIC: Mellanox ConnectX-5 100000 Mbps
Target: x86_64-native-linuxapp-gcc
Fail/Total: 0/6
Detail performance results:
+------------+---------+-------------------------------------+
| frame_size | txd/rxd | throughput difference from expected |
+============+=========+=====================================+
| 64 | 256 | 0.156 |
+------------+---------+-------------------------------------+
| 128 | 256 | 0.167 |
+------------+---------+-------------------------------------+
| 256 | 256 | -0.023 |
+------------+---------+-------------------------------------+
| 512 | 256 | 0.026 |
+------------+---------+-------------------------------------+
| 1024 | 256 | 0.058 |
+------------+---------+-------------------------------------+
| 1518 | 256 | -0.019 |
+------------+---------+-------------------------------------+
Ubuntu 18.04
Kernel: 4.15.0-generic
Compiler: gcc 7.4
NIC: Mellanox ConnectX-4 Lx 25000 Mbps
Target: x86_64-native-linuxapp-gcc
Fail/Total: 0/6
Detail performance results:
+------------+---------+-------------------------------------+
| frame_size | txd/rxd | throughput difference from expected |
+============+=========+=====================================+
| 64 | 256 | 0.040 |
+------------+---------+-------------------------------------+
| 128 | 256 | 0.304 |
+------------+---------+-------------------------------------+
| 256 | 256 | -0.060 |
+------------+---------+-------------------------------------+
| 512 | 256 | -0.017 |
+------------+---------+-------------------------------------+
| 1024 | 256 | -0.008 |
+------------+---------+-------------------------------------+
| 1518 | 256 | -0.009 |
+------------+---------+-------------------------------------+
Ubuntu 18.04
Kernel: 4.15.0-generic
Compiler: gcc 7.4
NIC: Mellanox ConnectX-4 Lx 40000 Mbps
Target: x86_64-native-linuxapp-gcc
Fail/Total: 0/6
Detail performance results:
+------------+---------+-------------------------------------+
| frame_size | txd/rxd | throughput difference from expected |
+============+=========+=====================================+
| 64 | 256 | -0.308 |
+------------+---------+-------------------------------------+
| 128 | 256 | -0.488 |
+------------+---------+-------------------------------------+
| 256 | 256 | 0.073 |
+------------+---------+-------------------------------------+
| 512 | 256 | 0.002 |
+------------+---------+-------------------------------------+
| 1024 | 256 | -0.002 |
+------------+---------+-------------------------------------+
| 1518 | 256 | -0.009 |
+------------+---------+-------------------------------------+
To view detailed results, visit:
https://lab.dpdk.org/results/dashboard/patchsets/12499/
UNH-IOL DPDK Community Lab
To manage your email subscriptions, visit:
https://lab.dpdk.org/results/dashboard/preferences/subscriptions/
^ permalink raw reply [flat|nested] 5+ messages in thread
* [dpdk-test-report] |SUCCESS| pw75206 [PATCH] [v1] common/mlx5: replace strsep with strtok_r
@ 2020-08-05 10:03 dpdklab
0 siblings, 0 replies; 5+ messages in thread
From: dpdklab @ 2020-08-05 10:03 UTC (permalink / raw)
To: Test Report; +Cc: dpdk-test-reports
[-- Attachment #1: Type: text/plain, Size: 2907 bytes --]
Test-Label: iol-testing
Test-Status: SUCCESS
http://dpdk.org/patch/75206
_Testing PASS_
Submitter: Ophir Munk <ophirmu@mellanox.com>
Date: Wednesday, August 05 2020 08:56:35
DPDK git baseline: Repo:dpdk
Branch: master
CommitID:6636b04b82897816e0e05134f55a578cb7e124bc
75206 --> testing pass
Test environment and result as below:
+---------------------+--------------------+--------------+----------------+------------------+-------------------+
| Environment | dpdk_meson_compile | dpdk_compile | dpdk_unit_test | dpdk_compile_ovs | dpdk_compile_spdk |
+=====================+====================+==============+================+==================+===================+
| Windows Server 2019 | PASS | SKIPPED | SKIPPED | SKIPPED | SKIPPED |
+---------------------+--------------------+--------------+----------------+------------------+-------------------+
| FreeBSD 11.2 | PASS | PASS | SKIPPED | SKIPPED | PASS |
+---------------------+--------------------+--------------+----------------+------------------+-------------------+
| Ubuntu 18.04 | PASS | PASS | PASS | PASS | PASS |
+---------------------+--------------------+--------------+----------------+------------------+-------------------+
| openSUSE Leap 15 | PASS | PASS | SKIPPED | PASS | PASS |
+---------------------+--------------------+--------------+----------------+------------------+-------------------+
| Fedora 31 | PASS | PASS | SKIPPED | PASS | PASS |
+---------------------+--------------------+--------------+----------------+------------------+-------------------+
| CentOS 8 | PASS | PASS | SKIPPED | PASS | PASS |
+---------------------+--------------------+--------------+----------------+------------------+-------------------+
| Arch Linux | PASS | PASS | SKIPPED | PASS | SKIPPED |
+---------------------+--------------------+--------------+----------------+------------------+-------------------+
Windows Server 2019
Kernel: 10.0
Compiler: clang 9.0
FreeBSD 11.2
Kernel: 11.2
Compiler: gcc 8.3
Ubuntu 18.04
Kernel: 4.15.0-generic
Compiler: gcc 7.4
openSUSE Leap 15
Kernel: 4.12.14
Compiler: gcc 7.4.1
Fedora 31
Kernel: 5.3.16
Compiler: gcc 9.2.1
CentOS 8
Kernel: 4.18.0.el8_0
Compiler: gcc 8.3.1
Arch Linux
Kernel: latest
Compiler: gcc latest
To view detailed results, visit:
https://lab.dpdk.org/results/dashboard/patchsets/12499/
UNH-IOL DPDK Community Lab
To manage your email subscriptions, visit:
https://lab.dpdk.org/results/dashboard/preferences/subscriptions/
^ permalink raw reply [flat|nested] 5+ messages in thread
* [dpdk-test-report] |SUCCESS| pw75206 [PATCH] [v1] common/mlx5: replace strsep with strtok_r
@ 2020-08-05 9:40 dpdklab
0 siblings, 0 replies; 5+ messages in thread
From: dpdklab @ 2020-08-05 9:40 UTC (permalink / raw)
To: Test Report; +Cc: dpdk-test-reports
[-- Attachment #1: Type: text/plain, Size: 1912 bytes --]
Test-Label: iol-intel-Performance
Test-Status: SUCCESS
http://dpdk.org/patch/75206
_Performance Testing PASS_
Submitter: Ophir Munk <ophirmu@mellanox.com>
Date: Wednesday, August 05 2020 08:56:35
DPDK git baseline: Repo:dpdk
Branch: master
CommitID:6636b04b82897816e0e05134f55a578cb7e124bc
75206 --> performance testing pass
Test environment and result as below:
Ubuntu 18.04
Kernel: 4.15.0-generic
Compiler: gcc 7.4
NIC: Intel Corporation Ethernet Converged Network Adapter XL710-QDA2 40000 Mbps
Target: x86_64-native-linuxapp-gcc
Fail/Total: 0/2
Detail performance results:
+------------+---------+-------------------------------------+
| frame_size | txd/rxd | throughput difference from expected |
+============+=========+=====================================+
| 64 | 512 | 4.981 |
+------------+---------+-------------------------------------+
| 64 | 2048 | 3.026 |
+------------+---------+-------------------------------------+
Ubuntu 18.04
Kernel: 4.15.0-generic
Compiler: gcc 7.4
NIC: Intel Corporation Ethernet Converged Network Adapter 82599ES 10000 Mbps
Target: x86_64-native-linuxapp-gcc
Fail/Total: 0/2
Detail performance results:
+------------+---------+-------------------------------------+
| frame_size | txd/rxd | throughput difference from expected |
+============+=========+=====================================+
| 64 | 512 | 2.693 |
+------------+---------+-------------------------------------+
| 64 | 2048 | 1.287 |
+------------+---------+-------------------------------------+
To view detailed results, visit:
https://lab.dpdk.org/results/dashboard/patchsets/12499/
UNH-IOL DPDK Community Lab
To manage your email subscriptions, visit:
https://lab.dpdk.org/results/dashboard/preferences/subscriptions/
^ permalink raw reply [flat|nested] 5+ messages in thread
end of thread, other threads:[~2020-08-05 11:29 UTC | newest]
Thread overview: 5+ messages (download: mbox.gz / follow: Atom feed)
-- links below jump to the message on this page --
[not found] <20200805085635.18057-1-ophirmu@mellanox.com>
2020-08-05 8:57 ` [dpdk-test-report] |SUCCESS| pw75206 [PATCH v1] common/mlx5: replace strsep with strtok_r checkpatch
2020-08-05 11:27 ` [dpdk-test-report] |SUCCESS| pw75206 " 0-day Robot
2020-08-05 9:40 [dpdk-test-report] |SUCCESS| pw75206 [PATCH] [v1] " dpdklab
2020-08-05 10:03 dpdklab
2020-08-05 10:10 dpdklab
This is a public inbox, see mirroring instructions
for how to clone and mirror all data and code used for this inbox;
as well as URLs for NNTP newsgroup(s).