* [dpdk-test-report] |SUCCESS| pw75255 [PATCH] usertools: warn about future removal of setup script
@ 2020-08-06 23:27 dpdklab
0 siblings, 0 replies; 4+ messages in thread
From: dpdklab @ 2020-08-06 23:27 UTC (permalink / raw)
To: Test Report; +Cc: dpdk-test-reports
[-- Attachment #1: Type: text/plain, Size: 2910 bytes --]
Test-Label: iol-testing
Test-Status: SUCCESS
http://dpdk.org/patch/75255
_Testing PASS_
Submitter: Thomas Monjalon <thomas@monjalon.net>
Date: Thursday, August 06 2020 17:13:03
DPDK git baseline: Repo:dpdk
Branch: master
CommitID:48d1c589dd9b64803cd7728c4da2093f3abe84eb
75255 --> testing pass
Test environment and result as below:
+---------------------+--------------------+-------------------+----------------+------------------+--------------+
| Environment | dpdk_meson_compile | dpdk_compile_spdk | dpdk_unit_test | dpdk_compile_ovs | dpdk_compile |
+=====================+====================+===================+================+==================+==============+
| Windows Server 2019 | PASS | SKIPPED | SKIPPED | SKIPPED | SKIPPED |
+---------------------+--------------------+-------------------+----------------+------------------+--------------+
| FreeBSD 11.2 | PASS | PASS | SKIPPED | SKIPPED | PASS |
+---------------------+--------------------+-------------------+----------------+------------------+--------------+
| Ubuntu 18.04 | PASS | PASS | PASS | PASS | PASS |
+---------------------+--------------------+-------------------+----------------+------------------+--------------+
| CentOS 8 | PASS | PASS | SKIPPED | PASS | PASS |
+---------------------+--------------------+-------------------+----------------+------------------+--------------+
| Fedora 31 | PASS | PASS | SKIPPED | PASS | PASS |
+---------------------+--------------------+-------------------+----------------+------------------+--------------+
| openSUSE Leap 15 | PASS | PASS | SKIPPED | PASS | PASS |
+---------------------+--------------------+-------------------+----------------+------------------+--------------+
| Arch Linux | PASS | SKIPPED | SKIPPED | PASS | PASS |
+---------------------+--------------------+-------------------+----------------+------------------+--------------+
Windows Server 2019
Kernel: 10.0
Compiler: clang 9.0
FreeBSD 11.2
Kernel: 11.2
Compiler: gcc 8.3
Ubuntu 18.04
Kernel: 4.15.0-generic
Compiler: gcc 7.4
CentOS 8
Kernel: 4.18.0.el8_0
Compiler: gcc 8.3.1
Fedora 31
Kernel: 5.3.16
Compiler: gcc 9.2.1
openSUSE Leap 15
Kernel: 4.12.14
Compiler: gcc 7.4.1
Arch Linux
Kernel: latest
Compiler: gcc latest
To view detailed results, visit:
https://lab.dpdk.org/results/dashboard/patchsets/12531/
UNH-IOL DPDK Community Lab
To manage your email subscriptions, visit:
https://lab.dpdk.org/results/dashboard/preferences/subscriptions/
^ permalink raw reply [flat|nested] 4+ messages in thread
* [dpdk-test-report] |SUCCESS| pw75255 [PATCH] usertools: warn about future removal of setup script
@ 2020-08-07 0:52 dpdklab
0 siblings, 0 replies; 4+ messages in thread
From: dpdklab @ 2020-08-07 0:52 UTC (permalink / raw)
To: Ali Alnubani, Test Report; +Cc: dpdk-test-reports
[-- Attachment #1: Type: text/plain, Size: 3965 bytes --]
Test-Label: iol-mellanox-Performance
Test-Status: SUCCESS
http://dpdk.org/patch/75255
_Performance Testing PASS_
Submitter: Thomas Monjalon <thomas@monjalon.net>
Date: Thursday, August 06 2020 17:13:03
DPDK git baseline: Repo:dpdk
Branch: master
CommitID:48d1c589dd9b64803cd7728c4da2093f3abe84eb
75255 --> performance testing pass
Test environment and result as below:
Ubuntu 18.04
Kernel: 4.15.0-generic
Compiler: gcc 7.4
NIC: Mellanox ConnectX-5 100000 Mbps
Target: x86_64-native-linuxapp-gcc
Fail/Total: 0/6
Detail performance results:
+------------+---------+-------------------------------------+
| frame_size | txd/rxd | throughput difference from expected |
+============+=========+=====================================+
| 64 | 256 | -0.656 |
+------------+---------+-------------------------------------+
| 128 | 256 | 0.224 |
+------------+---------+-------------------------------------+
| 256 | 256 | 0.143 |
+------------+---------+-------------------------------------+
| 512 | 256 | 0.094 |
+------------+---------+-------------------------------------+
| 1024 | 256 | 0.142 |
+------------+---------+-------------------------------------+
| 1518 | 256 | 0.010 |
+------------+---------+-------------------------------------+
Ubuntu 18.04
Kernel: 4.15.0-generic
Compiler: gcc 7.4
NIC: Mellanox ConnectX-4 Lx 25000 Mbps
Target: x86_64-native-linuxapp-gcc
Fail/Total: 0/6
Detail performance results:
+------------+---------+-------------------------------------+
| frame_size | txd/rxd | throughput difference from expected |
+============+=========+=====================================+
| 64 | 256 | 0.118 |
+------------+---------+-------------------------------------+
| 128 | 256 | -0.590 |
+------------+---------+-------------------------------------+
| 256 | 256 | 0.187 |
+------------+---------+-------------------------------------+
| 512 | 256 | -0.039 |
+------------+---------+-------------------------------------+
| 1024 | 256 | 0.008 |
+------------+---------+-------------------------------------+
| 1518 | 256 | 0.011 |
+------------+---------+-------------------------------------+
Ubuntu 18.04
Kernel: 4.15.0-generic
Compiler: gcc 7.4
NIC: Mellanox ConnectX-4 Lx 40000 Mbps
Target: x86_64-native-linuxapp-gcc
Fail/Total: 0/6
Detail performance results:
+------------+---------+-------------------------------------+
| frame_size | txd/rxd | throughput difference from expected |
+============+=========+=====================================+
| 64 | 256 | -0.225 |
+------------+---------+-------------------------------------+
| 128 | 256 | -0.044 |
+------------+---------+-------------------------------------+
| 256 | 256 | -0.565 |
+------------+---------+-------------------------------------+
| 512 | 256 | -0.021 |
+------------+---------+-------------------------------------+
| 1024 | 256 | -0.002 |
+------------+---------+-------------------------------------+
| 1518 | 256 | 0.003 |
+------------+---------+-------------------------------------+
To view detailed results, visit:
https://lab.dpdk.org/results/dashboard/patchsets/12531/
UNH-IOL DPDK Community Lab
To manage your email subscriptions, visit:
https://lab.dpdk.org/results/dashboard/preferences/subscriptions/
^ permalink raw reply [flat|nested] 4+ messages in thread
* [dpdk-test-report] |SUCCESS| pw75255 [PATCH] usertools: warn about future removal of setup script
@ 2020-08-06 20:39 dpdklab
0 siblings, 0 replies; 4+ messages in thread
From: dpdklab @ 2020-08-06 20:39 UTC (permalink / raw)
To: Test Report; +Cc: dpdk-test-reports
[-- Attachment #1: Type: text/plain, Size: 1915 bytes --]
Test-Label: iol-intel-Performance
Test-Status: SUCCESS
http://dpdk.org/patch/75255
_Performance Testing PASS_
Submitter: Thomas Monjalon <thomas@monjalon.net>
Date: Thursday, August 06 2020 17:13:03
DPDK git baseline: Repo:dpdk
Branch: master
CommitID:48d1c589dd9b64803cd7728c4da2093f3abe84eb
75255 --> performance testing pass
Test environment and result as below:
Ubuntu 18.04
Kernel: 4.15.0-generic
Compiler: gcc 7.4
NIC: Intel Corporation Ethernet Converged Network Adapter XL710-QDA2 40000 Mbps
Target: x86_64-native-linuxapp-gcc
Fail/Total: 0/2
Detail performance results:
+------------+---------+-------------------------------------+
| frame_size | txd/rxd | throughput difference from expected |
+============+=========+=====================================+
| 64 | 512 | 4.952 |
+------------+---------+-------------------------------------+
| 64 | 2048 | 2.643 |
+------------+---------+-------------------------------------+
Ubuntu 18.04
Kernel: 4.15.0-generic
Compiler: gcc 7.4
NIC: Intel Corporation Ethernet Converged Network Adapter 82599ES 10000 Mbps
Target: x86_64-native-linuxapp-gcc
Fail/Total: 0/2
Detail performance results:
+------------+---------+-------------------------------------+
| frame_size | txd/rxd | throughput difference from expected |
+============+=========+=====================================+
| 64 | 512 | 2.935 |
+------------+---------+-------------------------------------+
| 64 | 2048 | 1.417 |
+------------+---------+-------------------------------------+
To view detailed results, visit:
https://lab.dpdk.org/results/dashboard/patchsets/12531/
UNH-IOL DPDK Community Lab
To manage your email subscriptions, visit:
https://lab.dpdk.org/results/dashboard/preferences/subscriptions/
^ permalink raw reply [flat|nested] 4+ messages in thread
* [dpdk-test-report] |SUCCESS| pw75255 [PATCH] usertools: warn about future removal of setup script
[not found] <20200806171303.3989777-1-thomas@monjalon.net>
@ 2020-08-06 17:13 ` checkpatch
0 siblings, 0 replies; 4+ messages in thread
From: checkpatch @ 2020-08-06 17:13 UTC (permalink / raw)
To: test-report
Test-Label: checkpatch
Test-Status: SUCCESS
http://dpdk.org/patch/75255
_coding style OK_
^ permalink raw reply [flat|nested] 4+ messages in thread
end of thread, other threads:[~2020-08-07 0:52 UTC | newest]
Thread overview: 4+ messages (download: mbox.gz / follow: Atom feed)
-- links below jump to the message on this page --
2020-08-06 23:27 [dpdk-test-report] |SUCCESS| pw75255 [PATCH] usertools: warn about future removal of setup script dpdklab
-- strict thread matches above, loose matches on Subject: below --
2020-08-07 0:52 dpdklab
2020-08-06 20:39 dpdklab
[not found] <20200806171303.3989777-1-thomas@monjalon.net>
2020-08-06 17:13 ` checkpatch
This is a public inbox, see mirroring instructions
for how to clone and mirror all data and code used for this inbox;
as well as URLs for NNTP newsgroup(s).