* [dpdk-test-report] |SUCCESS| pw75434-75435 [PATCH] [v5, 1/2] version: 20.11-rc0
@ 2020-08-11 17:57 dpdklab
0 siblings, 0 replies; 3+ messages in thread
From: dpdklab @ 2020-08-11 17:57 UTC (permalink / raw)
To: Test Report; +Cc: dpdk-test-reports
[-- Attachment #1: Type: text/plain, Size: 1920 bytes --]
Test-Label: iol-intel-Performance
Test-Status: SUCCESS
http://dpdk.org/patch/75434
_Performance Testing PASS_
Submitter: Thomas Monjalon <thomas@monjalon.net>
Date: Tuesday, August 11 2020 14:03:38
DPDK git baseline: Repo:dpdk
Branch: master
CommitID:cd6f1d7a5fde76c4f1e771de9f7aafdf59d691e4
75434-75435 --> performance testing pass
Test environment and result as below:
Ubuntu 18.04
Kernel: 4.15.0-generic
Compiler: gcc 7.4
NIC: Intel Corporation Ethernet Converged Network Adapter XL710-QDA2 40000 Mbps
Target: x86_64-native-linuxapp-gcc
Fail/Total: 0/2
Detail performance results:
+------------+---------+-------------------------------------+
| frame_size | txd/rxd | throughput difference from expected |
+============+=========+=====================================+
| 64 | 512 | 4.392 |
+------------+---------+-------------------------------------+
| 64 | 2048 | 2.371 |
+------------+---------+-------------------------------------+
Ubuntu 18.04
Kernel: 4.15.0-generic
Compiler: gcc 7.4
NIC: Intel Corporation Ethernet Converged Network Adapter 82599ES 10000 Mbps
Target: x86_64-native-linuxapp-gcc
Fail/Total: 0/2
Detail performance results:
+------------+---------+-------------------------------------+
| frame_size | txd/rxd | throughput difference from expected |
+============+=========+=====================================+
| 64 | 512 | 46.456 |
+------------+---------+-------------------------------------+
| 64 | 2048 | 36.190 |
+------------+---------+-------------------------------------+
To view detailed results, visit:
https://lab.dpdk.org/results/dashboard/patchsets/12578/
UNH-IOL DPDK Community Lab
To manage your email subscriptions, visit:
https://lab.dpdk.org/results/dashboard/preferences/subscriptions/
^ permalink raw reply [flat|nested] 3+ messages in thread
* [dpdk-test-report] |SUCCESS| pw75434-75435 [PATCH] [v5, 1/2] version: 20.11-rc0
@ 2020-08-11 19:12 dpdklab
0 siblings, 0 replies; 3+ messages in thread
From: dpdklab @ 2020-08-11 19:12 UTC (permalink / raw)
To: Ali Alnubani, Test Report; +Cc: dpdk-test-reports
[-- Attachment #1: Type: text/plain, Size: 3970 bytes --]
Test-Label: iol-mellanox-Performance
Test-Status: SUCCESS
http://dpdk.org/patch/75434
_Performance Testing PASS_
Submitter: Thomas Monjalon <thomas@monjalon.net>
Date: Tuesday, August 11 2020 14:03:38
DPDK git baseline: Repo:dpdk
Branch: master
CommitID:cd6f1d7a5fde76c4f1e771de9f7aafdf59d691e4
75434-75435 --> performance testing pass
Test environment and result as below:
Ubuntu 18.04
Kernel: 4.15.0-generic
Compiler: gcc 7.4
NIC: Mellanox ConnectX-5 100000 Mbps
Target: x86_64-native-linuxapp-gcc
Fail/Total: 0/6
Detail performance results:
+------------+---------+-------------------------------------+
| frame_size | txd/rxd | throughput difference from expected |
+============+=========+=====================================+
| 64 | 256 | 0.093 |
+------------+---------+-------------------------------------+
| 128 | 256 | 0.186 |
+------------+---------+-------------------------------------+
| 256 | 256 | -0.034 |
+------------+---------+-------------------------------------+
| 512 | 256 | -0.164 |
+------------+---------+-------------------------------------+
| 1024 | 256 | -0.054 |
+------------+---------+-------------------------------------+
| 1518 | 256 | 0.007 |
+------------+---------+-------------------------------------+
Ubuntu 18.04
Kernel: 4.15.0-generic
Compiler: gcc 7.4
NIC: Mellanox ConnectX-4 Lx 25000 Mbps
Target: x86_64-native-linuxapp-gcc
Fail/Total: 0/6
Detail performance results:
+------------+---------+-------------------------------------+
| frame_size | txd/rxd | throughput difference from expected |
+============+=========+=====================================+
| 64 | 256 | -0.043 |
+------------+---------+-------------------------------------+
| 128 | 256 | 0.146 |
+------------+---------+-------------------------------------+
| 256 | 256 | -0.185 |
+------------+---------+-------------------------------------+
| 512 | 256 | -0.028 |
+------------+---------+-------------------------------------+
| 1024 | 256 | 0.017 |
+------------+---------+-------------------------------------+
| 1518 | 256 | 0.002 |
+------------+---------+-------------------------------------+
Ubuntu 18.04
Kernel: 4.15.0-generic
Compiler: gcc 7.4
NIC: Mellanox ConnectX-4 Lx 40000 Mbps
Target: x86_64-native-linuxapp-gcc
Fail/Total: 0/6
Detail performance results:
+------------+---------+-------------------------------------+
| frame_size | txd/rxd | throughput difference from expected |
+============+=========+=====================================+
| 64 | 256 | 0.058 |
+------------+---------+-------------------------------------+
| 128 | 256 | 0.198 |
+------------+---------+-------------------------------------+
| 256 | 256 | 0.395 |
+------------+---------+-------------------------------------+
| 512 | 256 | 0.003 |
+------------+---------+-------------------------------------+
| 1024 | 256 | 0.001 |
+------------+---------+-------------------------------------+
| 1518 | 256 | 0.002 |
+------------+---------+-------------------------------------+
To view detailed results, visit:
https://lab.dpdk.org/results/dashboard/patchsets/12578/
UNH-IOL DPDK Community Lab
To manage your email subscriptions, visit:
https://lab.dpdk.org/results/dashboard/preferences/subscriptions/
^ permalink raw reply [flat|nested] 3+ messages in thread
* [dpdk-test-report] |SUCCESS| pw75434-75435 [PATCH] [v5, 1/2] version: 20.11-rc0
@ 2020-08-11 22:00 dpdklab
0 siblings, 0 replies; 3+ messages in thread
From: dpdklab @ 2020-08-11 22:00 UTC (permalink / raw)
To: Test Report; +Cc: dpdk-test-reports
[-- Attachment #1: Type: text/plain, Size: 2915 bytes --]
Test-Label: iol-testing
Test-Status: SUCCESS
http://dpdk.org/patch/75434
_Testing PASS_
Submitter: Thomas Monjalon <thomas@monjalon.net>
Date: Tuesday, August 11 2020 14:03:38
DPDK git baseline: Repo:dpdk
Branch: master
CommitID:cd6f1d7a5fde76c4f1e771de9f7aafdf59d691e4
75434-75435 --> testing pass
Test environment and result as below:
+---------------------+--------------------+-------------------+--------------+----------------+------------------+
| Environment | dpdk_meson_compile | dpdk_compile_spdk | dpdk_compile | dpdk_unit_test | dpdk_compile_ovs |
+=====================+====================+===================+==============+================+==================+
| Windows Server 2019 | PASS | SKIPPED | SKIPPED | SKIPPED | SKIPPED |
+---------------------+--------------------+-------------------+--------------+----------------+------------------+
| FreeBSD 11.2 | PASS | PASS | PASS | SKIPPED | SKIPPED |
+---------------------+--------------------+-------------------+--------------+----------------+------------------+
| Ubuntu 18.04 | PASS | PASS | PASS | PASS | PASS |
+---------------------+--------------------+-------------------+--------------+----------------+------------------+
| Fedora 31 | PASS | PASS | PASS | SKIPPED | PASS |
+---------------------+--------------------+-------------------+--------------+----------------+------------------+
| CentOS 8 | PASS | PASS | PASS | SKIPPED | PASS |
+---------------------+--------------------+-------------------+--------------+----------------+------------------+
| openSUSE Leap 15 | PASS | PASS | PASS | SKIPPED | PASS |
+---------------------+--------------------+-------------------+--------------+----------------+------------------+
| Arch Linux | PASS | SKIPPED | PASS | SKIPPED | PASS |
+---------------------+--------------------+-------------------+--------------+----------------+------------------+
Windows Server 2019
Kernel: 10.0
Compiler: clang 9.0
FreeBSD 11.2
Kernel: 11.2
Compiler: gcc 8.3
Ubuntu 18.04
Kernel: 4.15.0-generic
Compiler: gcc 7.4
Fedora 31
Kernel: 5.3.16
Compiler: gcc 9.2.1
CentOS 8
Kernel: 4.18.0.el8_0
Compiler: gcc 8.3.1
openSUSE Leap 15
Kernel: 4.12.14
Compiler: gcc 7.4.1
Arch Linux
Kernel: latest
Compiler: gcc latest
To view detailed results, visit:
https://lab.dpdk.org/results/dashboard/patchsets/12578/
UNH-IOL DPDK Community Lab
To manage your email subscriptions, visit:
https://lab.dpdk.org/results/dashboard/preferences/subscriptions/
^ permalink raw reply [flat|nested] 3+ messages in thread
end of thread, other threads:[~2020-08-11 22:00 UTC | newest]
Thread overview: 3+ messages (download: mbox.gz / follow: Atom feed)
-- links below jump to the message on this page --
2020-08-11 17:57 [dpdk-test-report] |SUCCESS| pw75434-75435 [PATCH] [v5, 1/2] version: 20.11-rc0 dpdklab
2020-08-11 19:12 dpdklab
2020-08-11 22:00 dpdklab
This is a public inbox, see mirroring instructions
for how to clone and mirror all data and code used for this inbox;
as well as URLs for NNTP newsgroup(s).