* [dpdk-test-report] |SUCCESS| pw75895 [PATCH] ci: enable vm env for aarch64 builds
@ 2020-08-25 8:33 dpdklab
0 siblings, 0 replies; 5+ messages in thread
From: dpdklab @ 2020-08-25 8:33 UTC (permalink / raw)
To: Ali Alnubani, Test Report; +Cc: dpdk-test-reports
[-- Attachment #1: Type: text/plain, Size: 3969 bytes --]
Test-Label: iol-mellanox-Performance
Test-Status: SUCCESS
http://dpdk.org/patch/75895
_Performance Testing PASS_
Submitter: Juraj Linkeš <juraj.linkes@pantheon.tech>
Date: Tuesday, August 25 2020 07:08:35
DPDK git baseline: Repo:dpdk
Branch: master
CommitID:cd6f1d7a5fde76c4f1e771de9f7aafdf59d691e4
75895 --> performance testing pass
Test environment and result as below:
Ubuntu 18.04
Kernel: 4.15.0-generic
Compiler: gcc 7.4
NIC: Mellanox ConnectX-5 100000 Mbps
Target: x86_64-native-linuxapp-gcc
Fail/Total: 0/6
Detail performance results:
+------------+---------+-------------------------------------+
| frame_size | txd/rxd | throughput difference from expected |
+============+=========+=====================================+
| 64 | 256 | -0.098 |
+------------+---------+-------------------------------------+
| 128 | 256 | 0.116 |
+------------+---------+-------------------------------------+
| 256 | 256 | 0.067 |
+------------+---------+-------------------------------------+
| 512 | 256 | 0.015 |
+------------+---------+-------------------------------------+
| 1024 | 256 | -0.048 |
+------------+---------+-------------------------------------+
| 1518 | 256 | 0.035 |
+------------+---------+-------------------------------------+
Ubuntu 18.04
Kernel: 4.15.0-generic
Compiler: gcc 7.4
NIC: Mellanox ConnectX-4 Lx 25000 Mbps
Target: x86_64-native-linuxapp-gcc
Fail/Total: 0/6
Detail performance results:
+------------+---------+-------------------------------------+
| frame_size | txd/rxd | throughput difference from expected |
+============+=========+=====================================+
| 64 | 256 | 0.058 |
+------------+---------+-------------------------------------+
| 128 | 256 | 0.273 |
+------------+---------+-------------------------------------+
| 256 | 256 | -0.086 |
+------------+---------+-------------------------------------+
| 512 | 256 | -0.031 |
+------------+---------+-------------------------------------+
| 1024 | 256 | 0.017 |
+------------+---------+-------------------------------------+
| 1518 | 256 | 0.003 |
+------------+---------+-------------------------------------+
Ubuntu 18.04
Kernel: 4.15.0-generic
Compiler: gcc 7.4
NIC: Mellanox ConnectX-4 Lx 40000 Mbps
Target: x86_64-native-linuxapp-gcc
Fail/Total: 0/6
Detail performance results:
+------------+---------+-------------------------------------+
| frame_size | txd/rxd | throughput difference from expected |
+============+=========+=====================================+
| 64 | 256 | 0.008 |
+------------+---------+-------------------------------------+
| 128 | 256 | -0.005 |
+------------+---------+-------------------------------------+
| 256 | 256 | 0.697 |
+------------+---------+-------------------------------------+
| 512 | 256 | 0.002 |
+------------+---------+-------------------------------------+
| 1024 | 256 | 0 |
+------------+---------+-------------------------------------+
| 1518 | 256 | -0.001 |
+------------+---------+-------------------------------------+
To view detailed results, visit:
https://lab.dpdk.org/results/dashboard/patchsets/12694/
UNH-IOL DPDK Community Lab
To manage your email subscriptions, visit:
https://lab.dpdk.org/results/dashboard/preferences/subscriptions/
^ permalink raw reply [flat|nested] 5+ messages in thread
* [dpdk-test-report] |SUCCESS| pw75895 [PATCH] ci: enable vm env for aarch64 builds
[not found] <1598339315-8038-1-git-send-email-juraj.linkes@pantheon.tech>
@ 2020-09-08 23:08 ` checkpatch
0 siblings, 0 replies; 5+ messages in thread
From: checkpatch @ 2020-09-08 23:08 UTC (permalink / raw)
To: test-report
Test-Label: checkpatch
Test-Status: SUCCESS
http://dpdk.org/patch/75895
_coding style OK_
^ permalink raw reply [flat|nested] 5+ messages in thread
* [dpdk-test-report] |SUCCESS| pw75895 [PATCH] ci: enable vm env for aarch64 builds
@ 2020-08-25 8:34 dpdklab
0 siblings, 0 replies; 5+ messages in thread
From: dpdklab @ 2020-08-25 8:34 UTC (permalink / raw)
To: Test Report; +Cc: dpdk-test-reports
[-- Attachment #1: Type: text/plain, Size: 2914 bytes --]
Test-Label: iol-testing
Test-Status: SUCCESS
http://dpdk.org/patch/75895
_Testing PASS_
Submitter: Juraj Linkeš <juraj.linkes@pantheon.tech>
Date: Tuesday, August 25 2020 07:08:35
DPDK git baseline: Repo:dpdk
Branch: master
CommitID:cd6f1d7a5fde76c4f1e771de9f7aafdf59d691e4
75895 --> testing pass
Test environment and result as below:
+---------------------+--------------------+--------------+----------------+------------------+-------------------+
| Environment | dpdk_meson_compile | dpdk_compile | dpdk_unit_test | dpdk_compile_ovs | dpdk_compile_spdk |
+=====================+====================+==============+================+==================+===================+
| Windows Server 2019 | PASS | SKIPPED | SKIPPED | SKIPPED | SKIPPED |
+---------------------+--------------------+--------------+----------------+------------------+-------------------+
| FreeBSD 11.2 | PASS | PASS | SKIPPED | SKIPPED | PASS |
+---------------------+--------------------+--------------+----------------+------------------+-------------------+
| Ubuntu 18.04 | PASS | PASS | PASS | PASS | PASS |
+---------------------+--------------------+--------------+----------------+------------------+-------------------+
| CentOS 8 | PASS | PASS | SKIPPED | PASS | PASS |
+---------------------+--------------------+--------------+----------------+------------------+-------------------+
| openSUSE Leap 15 | PASS | PASS | SKIPPED | PASS | PASS |
+---------------------+--------------------+--------------+----------------+------------------+-------------------+
| Fedora 31 | PASS | PASS | SKIPPED | PASS | PASS |
+---------------------+--------------------+--------------+----------------+------------------+-------------------+
| Arch Linux | PASS | PASS | SKIPPED | PASS | SKIPPED |
+---------------------+--------------------+--------------+----------------+------------------+-------------------+
Windows Server 2019
Kernel: 10.0
Compiler: clang 9.0
FreeBSD 11.2
Kernel: 11.2
Compiler: gcc 8.3
Ubuntu 18.04
Kernel: 4.15.0-generic
Compiler: gcc 7.4
CentOS 8
Kernel: 4.18.0.el8_0
Compiler: gcc 8.3.1
openSUSE Leap 15
Kernel: 4.12.14
Compiler: gcc 7.4.1
Fedora 31
Kernel: 5.3.16
Compiler: gcc 9.2.1
Arch Linux
Kernel: latest
Compiler: gcc latest
To view detailed results, visit:
https://lab.dpdk.org/results/dashboard/patchsets/12694/
UNH-IOL DPDK Community Lab
To manage your email subscriptions, visit:
https://lab.dpdk.org/results/dashboard/preferences/subscriptions/
^ permalink raw reply [flat|nested] 5+ messages in thread
* [dpdk-test-report] |SUCCESS| pw75895 [PATCH] ci: enable vm env for aarch64 builds
@ 2020-08-25 7:55 dpdklab
0 siblings, 0 replies; 5+ messages in thread
From: dpdklab @ 2020-08-25 7:55 UTC (permalink / raw)
To: Test Report; +Cc: dpdk-test-reports
[-- Attachment #1: Type: text/plain, Size: 1262 bytes --]
Test-Label: iol-intel-Performance
Test-Status: SUCCESS
http://dpdk.org/patch/75895
_Performance Testing PASS_
Submitter: Juraj Linkeš <juraj.linkes@pantheon.tech>
Date: Tuesday, August 25 2020 07:08:35
DPDK git baseline: Repo:dpdk
Branch: master
CommitID:cd6f1d7a5fde76c4f1e771de9f7aafdf59d691e4
75895 --> performance testing pass
Test environment and result as below:
Ubuntu 18.04
Kernel: 4.15.0-generic
Compiler: gcc 7.4
NIC: Intel Corporation Ethernet Converged Network Adapter 82599ES 10000 Mbps
Target: x86_64-native-linuxapp-gcc
Fail/Total: 0/2
Detail performance results:
+------------+---------+-------------------------------------+
| frame_size | txd/rxd | throughput difference from expected |
+============+=========+=====================================+
| 64 | 512 | 2.709 |
+------------+---------+-------------------------------------+
| 64 | 2048 | 0.991 |
+------------+---------+-------------------------------------+
To view detailed results, visit:
https://lab.dpdk.org/results/dashboard/patchsets/12694/
UNH-IOL DPDK Community Lab
To manage your email subscriptions, visit:
https://lab.dpdk.org/results/dashboard/preferences/subscriptions/
^ permalink raw reply [flat|nested] 5+ messages in thread
* [dpdk-test-report] |SUCCESS| pw75895 [PATCH] ci: enable vm env for aarch64 builds
@ 2020-08-25 7:47 dpdklab
0 siblings, 0 replies; 5+ messages in thread
From: dpdklab @ 2020-08-25 7:47 UTC (permalink / raw)
To: Test Report; +Cc: dpdk-test-reports
[-- Attachment #1: Type: text/plain, Size: 789 bytes --]
Test-Label: iol-intel-Functional
Test-Status: SUCCESS
http://dpdk.org/patch/75895
_Functional Testing PASS_
Submitter: Juraj Linkeš <juraj.linkes@pantheon.tech>
Date: Tuesday, August 25 2020 07:08:35
DPDK git baseline: Repo:dpdk
Branch: master
CommitID:cd6f1d7a5fde76c4f1e771de9f7aafdf59d691e4
75895 --> functional testing pass
Test environment and result as below:
Ubuntu 18.04
Kernel: 4.15.0-generic
Compiler: gcc 7.4
NIC: Intel Corporation Ethernet Converged Network Adapter 82599ES 10000 Mbps
Target: x86_64-native-linuxapp-gcc
Fail/Total: 0/7
To view detailed results, visit:
https://lab.dpdk.org/results/dashboard/patchsets/12694/
UNH-IOL DPDK Community Lab
To manage your email subscriptions, visit:
https://lab.dpdk.org/results/dashboard/preferences/subscriptions/
^ permalink raw reply [flat|nested] 5+ messages in thread
end of thread, other threads:[~2020-09-08 23:08 UTC | newest]
Thread overview: 5+ messages (download: mbox.gz / follow: Atom feed)
-- links below jump to the message on this page --
2020-08-25 8:33 [dpdk-test-report] |SUCCESS| pw75895 [PATCH] ci: enable vm env for aarch64 builds dpdklab
[not found] <1598339315-8038-1-git-send-email-juraj.linkes@pantheon.tech>
2020-09-08 23:08 ` checkpatch
-- strict thread matches above, loose matches on Subject: below --
2020-08-25 8:34 dpdklab
2020-08-25 7:55 dpdklab
2020-08-25 7:47 dpdklab
This is a public inbox, see mirroring instructions
for how to clone and mirror all data and code used for this inbox;
as well as URLs for NNTP newsgroup(s).