* [dpdk-test-report] |SUCCESS| pw76136 [PATCH] [v2] ci: add vm jobs for aarch64 builds with tests
@ 2020-08-28 13:02 dpdklab
0 siblings, 0 replies; 3+ messages in thread
From: dpdklab @ 2020-08-28 13:02 UTC (permalink / raw)
To: Test Report; +Cc: dpdk-test-reports
[-- Attachment #1: Type: text/plain, Size: 2913 bytes --]
Test-Label: iol-testing
Test-Status: SUCCESS
http://dpdk.org/patch/76136
_Testing PASS_
Submitter: Juraj Linkeš <juraj.linkes@pantheon.tech>
Date: Friday, August 28 2020 11:45:37
DPDK git baseline: Repo:dpdk
Branch: master
CommitID:cd6f1d7a5fde76c4f1e771de9f7aafdf59d691e4
76136 --> testing pass
Test environment and result as below:
+---------------------+--------------------+--------------+----------------+------------------+-------------------+
| Environment | dpdk_meson_compile | dpdk_compile | dpdk_unit_test | dpdk_compile_ovs | dpdk_compile_spdk |
+=====================+====================+==============+================+==================+===================+
| Windows Server 2019 | PASS | SKIPPED | SKIPPED | SKIPPED | SKIPPED |
+---------------------+--------------------+--------------+----------------+------------------+-------------------+
| FreeBSD 11.2 | PASS | PASS | SKIPPED | SKIPPED | PASS |
+---------------------+--------------------+--------------+----------------+------------------+-------------------+
| Ubuntu 18.04 | PASS | PASS | PASS | PASS | PASS |
+---------------------+--------------------+--------------+----------------+------------------+-------------------+
| Fedora 31 | PASS | PASS | SKIPPED | PASS | PASS |
+---------------------+--------------------+--------------+----------------+------------------+-------------------+
| CentOS 8 | PASS | PASS | SKIPPED | PASS | PASS |
+---------------------+--------------------+--------------+----------------+------------------+-------------------+
| openSUSE Leap 15 | PASS | PASS | SKIPPED | PASS | PASS |
+---------------------+--------------------+--------------+----------------+------------------+-------------------+
| Arch Linux | PASS | PASS | SKIPPED | PASS | SKIPPED |
+---------------------+--------------------+--------------+----------------+------------------+-------------------+
Windows Server 2019
Kernel: 10.0
Compiler: clang 9.0
FreeBSD 11.2
Kernel: 11.2
Compiler: gcc 8.3
Ubuntu 18.04
Kernel: 4.15.0-generic
Compiler: gcc 7.4
Fedora 31
Kernel: 5.3.16
Compiler: gcc 9.2.1
CentOS 8
Kernel: 4.18.0.el8_0
Compiler: gcc 8.3.1
openSUSE Leap 15
Kernel: 4.12.14
Compiler: gcc 7.4.1
Arch Linux
Kernel: latest
Compiler: gcc latest
To view detailed results, visit:
https://lab.dpdk.org/results/dashboard/patchsets/12746/
UNH-IOL DPDK Community Lab
To manage your email subscriptions, visit:
https://lab.dpdk.org/results/dashboard/preferences/subscriptions/
^ permalink raw reply [flat|nested] 3+ messages in thread
* [dpdk-test-report] |SUCCESS| pw76136 [PATCH v2] ci: add vm jobs for aarch64 builds with tests
[not found] <1598615137-16401-1-git-send-email-juraj.linkes@pantheon.tech>
@ 2020-09-08 23:22 ` checkpatch
0 siblings, 0 replies; 3+ messages in thread
From: checkpatch @ 2020-09-08 23:22 UTC (permalink / raw)
To: test-report
Test-Label: checkpatch
Test-Status: SUCCESS
http://dpdk.org/patch/76136
_coding style OK_
^ permalink raw reply [flat|nested] 3+ messages in thread
* [dpdk-test-report] |SUCCESS| pw76136 [PATCH] [v2] ci: add vm jobs for aarch64 builds with tests
@ 2020-08-28 13:11 dpdklab
0 siblings, 0 replies; 3+ messages in thread
From: dpdklab @ 2020-08-28 13:11 UTC (permalink / raw)
To: Ali Alnubani, Test Report; +Cc: dpdk-test-reports
[-- Attachment #1: Type: text/plain, Size: 3968 bytes --]
Test-Label: iol-mellanox-Performance
Test-Status: SUCCESS
http://dpdk.org/patch/76136
_Performance Testing PASS_
Submitter: Juraj Linkeš <juraj.linkes@pantheon.tech>
Date: Friday, August 28 2020 11:45:37
DPDK git baseline: Repo:dpdk
Branch: master
CommitID:cd6f1d7a5fde76c4f1e771de9f7aafdf59d691e4
76136 --> performance testing pass
Test environment and result as below:
Ubuntu 18.04
Kernel: 4.15.0-generic
Compiler: gcc 7.4
NIC: Mellanox ConnectX-5 100000 Mbps
Target: x86_64-native-linuxapp-gcc
Fail/Total: 0/6
Detail performance results:
+------------+---------+-------------------------------------+
| frame_size | txd/rxd | throughput difference from expected |
+============+=========+=====================================+
| 64 | 256 | -0.074 |
+------------+---------+-------------------------------------+
| 128 | 256 | 0.052 |
+------------+---------+-------------------------------------+
| 256 | 256 | -0.016 |
+------------+---------+-------------------------------------+
| 512 | 256 | 0.036 |
+------------+---------+-------------------------------------+
| 1024 | 256 | -0.079 |
+------------+---------+-------------------------------------+
| 1518 | 256 | 0.029 |
+------------+---------+-------------------------------------+
Ubuntu 18.04
Kernel: 4.15.0-generic
Compiler: gcc 7.4
NIC: Mellanox ConnectX-4 Lx 25000 Mbps
Target: x86_64-native-linuxapp-gcc
Fail/Total: 0/6
Detail performance results:
+------------+---------+-------------------------------------+
| frame_size | txd/rxd | throughput difference from expected |
+============+=========+=====================================+
| 64 | 256 | -0.167 |
+------------+---------+-------------------------------------+
| 128 | 256 | 0.120 |
+------------+---------+-------------------------------------+
| 256 | 256 | 0.020 |
+------------+---------+-------------------------------------+
| 512 | 256 | -0.026 |
+------------+---------+-------------------------------------+
| 1024 | 256 | 0.018 |
+------------+---------+-------------------------------------+
| 1518 | 256 | 0.001 |
+------------+---------+-------------------------------------+
Ubuntu 18.04
Kernel: 4.15.0-generic
Compiler: gcc 7.4
NIC: Mellanox ConnectX-4 Lx 40000 Mbps
Target: x86_64-native-linuxapp-gcc
Fail/Total: 0/6
Detail performance results:
+------------+---------+-------------------------------------+
| frame_size | txd/rxd | throughput difference from expected |
+============+=========+=====================================+
| 64 | 256 | -0.069 |
+------------+---------+-------------------------------------+
| 128 | 256 | 0.335 |
+------------+---------+-------------------------------------+
| 256 | 256 | -0.094 |
+------------+---------+-------------------------------------+
| 512 | 256 | 0.005 |
+------------+---------+-------------------------------------+
| 1024 | 256 | 0.022 |
+------------+---------+-------------------------------------+
| 1518 | 256 | 0.017 |
+------------+---------+-------------------------------------+
To view detailed results, visit:
https://lab.dpdk.org/results/dashboard/patchsets/12746/
UNH-IOL DPDK Community Lab
To manage your email subscriptions, visit:
https://lab.dpdk.org/results/dashboard/preferences/subscriptions/
^ permalink raw reply [flat|nested] 3+ messages in thread
end of thread, other threads:[~2020-09-08 23:22 UTC | newest]
Thread overview: 3+ messages (download: mbox.gz / follow: Atom feed)
-- links below jump to the message on this page --
2020-08-28 13:02 [dpdk-test-report] |SUCCESS| pw76136 [PATCH] [v2] ci: add vm jobs for aarch64 builds with tests dpdklab
2020-08-28 13:11 dpdklab
[not found] <1598615137-16401-1-git-send-email-juraj.linkes@pantheon.tech>
2020-09-08 23:22 ` [dpdk-test-report] |SUCCESS| pw76136 [PATCH v2] " checkpatch
This is a public inbox, see mirroring instructions
for how to clone and mirror all data and code used for this inbox;
as well as URLs for NNTP newsgroup(s).