* [dpdk-test-report] |SUCCESS| pw76326 [PATCH] avoid libfdt checks adding full paths to pkg-config
@ 2020-09-02 15:05 dpdklab
0 siblings, 0 replies; 13+ messages in thread
From: dpdklab @ 2020-09-02 15:05 UTC (permalink / raw)
To: Ali Alnubani, Test Report; +Cc: dpdk-test-reports
[-- Attachment #1: Type: text/plain, Size: 3985 bytes --]
Test-Label: iol-mellanox-Performance
Test-Status: SUCCESS
http://dpdk.org/patch/76326
_Performance Testing PASS_
Submitter: Christian Ehrhardt <christian.ehrhardt@canonical.com>
Date: Wednesday, September 02 2020 11:10:30
DPDK git baseline: Repo:dpdk
Branch: master
CommitID:cd6f1d7a5fde76c4f1e771de9f7aafdf59d691e4
76326 --> performance testing pass
Test environment and result as below:
Ubuntu 18.04
Kernel: 4.15.0-generic
Compiler: gcc 7.4
NIC: Mellanox ConnectX-5 100000 Mbps
Target: x86_64-native-linuxapp-gcc
Fail/Total: 0/6
Detail performance results:
+------------+---------+-------------------------------------+
| frame_size | txd/rxd | throughput difference from expected |
+============+=========+=====================================+
| 64 | 256 | -0.127 |
+------------+---------+-------------------------------------+
| 128 | 256 | -0.017 |
+------------+---------+-------------------------------------+
| 256 | 256 | 0.051 |
+------------+---------+-------------------------------------+
| 512 | 256 | -0.040 |
+------------+---------+-------------------------------------+
| 1024 | 256 | 0.011 |
+------------+---------+-------------------------------------+
| 1518 | 256 | 0.016 |
+------------+---------+-------------------------------------+
Ubuntu 18.04
Kernel: 4.15.0-generic
Compiler: gcc 7.4
NIC: Mellanox ConnectX-4 Lx 25000 Mbps
Target: x86_64-native-linuxapp-gcc
Fail/Total: 0/6
Detail performance results:
+------------+---------+-------------------------------------+
| frame_size | txd/rxd | throughput difference from expected |
+============+=========+=====================================+
| 64 | 256 | 0.076 |
+------------+---------+-------------------------------------+
| 128 | 256 | 0.024 |
+------------+---------+-------------------------------------+
| 256 | 256 | -0.106 |
+------------+---------+-------------------------------------+
| 512 | 256 | -0.029 |
+------------+---------+-------------------------------------+
| 1024 | 256 | 0.021 |
+------------+---------+-------------------------------------+
| 1518 | 256 | 0.013 |
+------------+---------+-------------------------------------+
Ubuntu 18.04
Kernel: 4.15.0-generic
Compiler: gcc 7.4
NIC: Mellanox ConnectX-4 Lx 40000 Mbps
Target: x86_64-native-linuxapp-gcc
Fail/Total: 0/6
Detail performance results:
+------------+---------+-------------------------------------+
| frame_size | txd/rxd | throughput difference from expected |
+============+=========+=====================================+
| 64 | 256 | -0.060 |
+------------+---------+-------------------------------------+
| 128 | 256 | 0.126 |
+------------+---------+-------------------------------------+
| 256 | 256 | 0.076 |
+------------+---------+-------------------------------------+
| 512 | 256 | -0.017 |
+------------+---------+-------------------------------------+
| 1024 | 256 | -0.002 |
+------------+---------+-------------------------------------+
| 1518 | 256 | 0.002 |
+------------+---------+-------------------------------------+
To view detailed results, visit:
https://lab.dpdk.org/results/dashboard/patchsets/12797/
UNH-IOL DPDK Community Lab
To manage your email subscriptions, visit:
https://lab.dpdk.org/results/dashboard/preferences/subscriptions/
^ permalink raw reply [flat|nested] 13+ messages in thread
* [dpdk-test-report] |SUCCESS| pw76326 [PATCH] avoid libfdt checks adding full paths to pkg-config
[not found] <20200902111030.731593-1-christian.ehrhardt@canonical.com>
@ 2020-09-08 23:33 ` checkpatch
0 siblings, 0 replies; 13+ messages in thread
From: checkpatch @ 2020-09-08 23:33 UTC (permalink / raw)
To: test-report
Test-Label: checkpatch
Test-Status: SUCCESS
http://dpdk.org/patch/76326
_coding style OK_
^ permalink raw reply [flat|nested] 13+ messages in thread
* [dpdk-test-report] |SUCCESS| pw76326 [PATCH] avoid libfdt checks adding full paths to pkg-config
@ 2020-09-02 16:06 dpdklab
0 siblings, 0 replies; 13+ messages in thread
From: dpdklab @ 2020-09-02 16:06 UTC (permalink / raw)
To: Ali Alnubani, Test Report; +Cc: dpdk-test-reports
[-- Attachment #1: Type: text/plain, Size: 3985 bytes --]
Test-Label: iol-mellanox-Performance
Test-Status: SUCCESS
http://dpdk.org/patch/76326
_Performance Testing PASS_
Submitter: Christian Ehrhardt <christian.ehrhardt@canonical.com>
Date: Wednesday, September 02 2020 11:10:30
DPDK git baseline: Repo:dpdk
Branch: master
CommitID:cd6f1d7a5fde76c4f1e771de9f7aafdf59d691e4
76326 --> performance testing pass
Test environment and result as below:
Ubuntu 18.04
Kernel: 4.15.0-generic
Compiler: gcc 7.4
NIC: Mellanox ConnectX-5 100000 Mbps
Target: x86_64-native-linuxapp-gcc
Fail/Total: 0/6
Detail performance results:
+------------+---------+-------------------------------------+
| frame_size | txd/rxd | throughput difference from expected |
+============+=========+=====================================+
| 64 | 256 | 0.098 |
+------------+---------+-------------------------------------+
| 128 | 256 | 0.028 |
+------------+---------+-------------------------------------+
| 256 | 256 | 0.045 |
+------------+---------+-------------------------------------+
| 512 | 256 | -0.342 |
+------------+---------+-------------------------------------+
| 1024 | 256 | 0.012 |
+------------+---------+-------------------------------------+
| 1518 | 256 | 0.012 |
+------------+---------+-------------------------------------+
Ubuntu 18.04
Kernel: 4.15.0-generic
Compiler: gcc 7.4
NIC: Mellanox ConnectX-4 Lx 25000 Mbps
Target: x86_64-native-linuxapp-gcc
Fail/Total: 0/6
Detail performance results:
+------------+---------+-------------------------------------+
| frame_size | txd/rxd | throughput difference from expected |
+============+=========+=====================================+
| 64 | 256 | -0.128 |
+------------+---------+-------------------------------------+
| 128 | 256 | -0.184 |
+------------+---------+-------------------------------------+
| 256 | 256 | 0.081 |
+------------+---------+-------------------------------------+
| 512 | 256 | -0.031 |
+------------+---------+-------------------------------------+
| 1024 | 256 | 0.018 |
+------------+---------+-------------------------------------+
| 1518 | 256 | 0.001 |
+------------+---------+-------------------------------------+
Ubuntu 18.04
Kernel: 4.15.0-generic
Compiler: gcc 7.4
NIC: Mellanox ConnectX-4 Lx 40000 Mbps
Target: x86_64-native-linuxapp-gcc
Fail/Total: 0/6
Detail performance results:
+------------+---------+-------------------------------------+
| frame_size | txd/rxd | throughput difference from expected |
+============+=========+=====================================+
| 64 | 256 | 0.060 |
+------------+---------+-------------------------------------+
| 128 | 256 | 0.065 |
+------------+---------+-------------------------------------+
| 256 | 256 | -0.008 |
+------------+---------+-------------------------------------+
| 512 | 256 | 0.002 |
+------------+---------+-------------------------------------+
| 1024 | 256 | 0.002 |
+------------+---------+-------------------------------------+
| 1518 | 256 | 0.009 |
+------------+---------+-------------------------------------+
To view detailed results, visit:
https://lab.dpdk.org/results/dashboard/patchsets/12797/
UNH-IOL DPDK Community Lab
To manage your email subscriptions, visit:
https://lab.dpdk.org/results/dashboard/preferences/subscriptions/
^ permalink raw reply [flat|nested] 13+ messages in thread
* [dpdk-test-report] |SUCCESS| pw76326 [PATCH] avoid libfdt checks adding full paths to pkg-config
@ 2020-09-02 15:32 dpdklab
0 siblings, 0 replies; 13+ messages in thread
From: dpdklab @ 2020-09-02 15:32 UTC (permalink / raw)
To: Test Report; +Cc: dpdk-test-reports
[-- Attachment #1: Type: text/plain, Size: 2930 bytes --]
Test-Label: iol-testing
Test-Status: SUCCESS
http://dpdk.org/patch/76326
_Testing PASS_
Submitter: Christian Ehrhardt <christian.ehrhardt@canonical.com>
Date: Wednesday, September 02 2020 11:10:30
DPDK git baseline: Repo:dpdk
Branch: master
CommitID:cd6f1d7a5fde76c4f1e771de9f7aafdf59d691e4
76326 --> testing pass
Test environment and result as below:
+---------------------+--------------------+------------------+-------------------+----------------+--------------+
| Environment | dpdk_meson_compile | dpdk_compile_ovs | dpdk_compile_spdk | dpdk_unit_test | dpdk_compile |
+=====================+====================+==================+===================+================+==============+
| Windows Server 2019 | PASS | SKIPPED | SKIPPED | SKIPPED | SKIPPED |
+---------------------+--------------------+------------------+-------------------+----------------+--------------+
| FreeBSD 11.2 | PASS | SKIPPED | PASS | SKIPPED | PASS |
+---------------------+--------------------+------------------+-------------------+----------------+--------------+
| Ubuntu 18.04 | PASS | PASS | PASS | PASS | PASS |
+---------------------+--------------------+------------------+-------------------+----------------+--------------+
| CentOS 8 | PASS | PASS | PASS | SKIPPED | PASS |
+---------------------+--------------------+------------------+-------------------+----------------+--------------+
| Fedora 31 | PASS | PASS | PASS | SKIPPED | PASS |
+---------------------+--------------------+------------------+-------------------+----------------+--------------+
| openSUSE Leap 15 | PASS | PASS | PASS | SKIPPED | PASS |
+---------------------+--------------------+------------------+-------------------+----------------+--------------+
| Arch Linux | PASS | PASS | SKIPPED | SKIPPED | PASS |
+---------------------+--------------------+------------------+-------------------+----------------+--------------+
Windows Server 2019
Kernel: 10.0
Compiler: clang 9.0
FreeBSD 11.2
Kernel: 11.2
Compiler: gcc 8.3
Ubuntu 18.04
Kernel: 4.15.0-generic
Compiler: gcc 7.4
CentOS 8
Kernel: 4.18.0.el8_0
Compiler: gcc 8.3.1
Fedora 31
Kernel: 5.3.16
Compiler: gcc 9.2.1
openSUSE Leap 15
Kernel: 4.12.14
Compiler: gcc 7.4.1
Arch Linux
Kernel: latest
Compiler: gcc latest
To view detailed results, visit:
https://lab.dpdk.org/results/dashboard/patchsets/12797/
UNH-IOL DPDK Community Lab
To manage your email subscriptions, visit:
https://lab.dpdk.org/results/dashboard/preferences/subscriptions/
^ permalink raw reply [flat|nested] 13+ messages in thread
* [dpdk-test-report] |SUCCESS| pw76326 [PATCH] avoid libfdt checks adding full paths to pkg-config
@ 2020-09-02 14:40 dpdklab
0 siblings, 0 replies; 13+ messages in thread
From: dpdklab @ 2020-09-02 14:40 UTC (permalink / raw)
To: Test Report; +Cc: dpdk-test-reports
[-- Attachment #1: Type: text/plain, Size: 2930 bytes --]
Test-Label: iol-testing
Test-Status: SUCCESS
http://dpdk.org/patch/76326
_Testing PASS_
Submitter: Christian Ehrhardt <christian.ehrhardt@canonical.com>
Date: Wednesday, September 02 2020 11:10:30
DPDK git baseline: Repo:dpdk
Branch: master
CommitID:cd6f1d7a5fde76c4f1e771de9f7aafdf59d691e4
76326 --> testing pass
Test environment and result as below:
+---------------------+--------------------+--------------+------------------+----------------+-------------------+
| Environment | dpdk_meson_compile | dpdk_compile | dpdk_compile_ovs | dpdk_unit_test | dpdk_compile_spdk |
+=====================+====================+==============+==================+================+===================+
| Windows Server 2019 | PASS | SKIPPED | SKIPPED | SKIPPED | SKIPPED |
+---------------------+--------------------+--------------+------------------+----------------+-------------------+
| FreeBSD 11.2 | PASS | PASS | SKIPPED | SKIPPED | PASS |
+---------------------+--------------------+--------------+------------------+----------------+-------------------+
| CentOS 8 | PASS | PASS | PASS | SKIPPED | PASS |
+---------------------+--------------------+--------------+------------------+----------------+-------------------+
| Ubuntu 18.04 | PASS | PASS | PASS | PASS | PASS |
+---------------------+--------------------+--------------+------------------+----------------+-------------------+
| openSUSE Leap 15 | PASS | PASS | PASS | SKIPPED | PASS |
+---------------------+--------------------+--------------+------------------+----------------+-------------------+
| Fedora 31 | PASS | PASS | PASS | SKIPPED | PASS |
+---------------------+--------------------+--------------+------------------+----------------+-------------------+
| Arch Linux | PASS | PASS | PASS | SKIPPED | SKIPPED |
+---------------------+--------------------+--------------+------------------+----------------+-------------------+
Windows Server 2019
Kernel: 10.0
Compiler: clang 9.0
FreeBSD 11.2
Kernel: 11.2
Compiler: gcc 8.3
CentOS 8
Kernel: 4.18.0.el8_0
Compiler: gcc 8.3.1
Ubuntu 18.04
Kernel: 4.15.0-generic
Compiler: gcc 7.4
openSUSE Leap 15
Kernel: 4.12.14
Compiler: gcc 7.4.1
Fedora 31
Kernel: 5.3.16
Compiler: gcc 9.2.1
Arch Linux
Kernel: latest
Compiler: gcc latest
To view detailed results, visit:
https://lab.dpdk.org/results/dashboard/patchsets/12797/
UNH-IOL DPDK Community Lab
To manage your email subscriptions, visit:
https://lab.dpdk.org/results/dashboard/preferences/subscriptions/
^ permalink raw reply [flat|nested] 13+ messages in thread
* [dpdk-test-report] |SUCCESS| pw76326 [PATCH] avoid libfdt checks adding full paths to pkg-config
@ 2020-09-02 13:35 dpdklab
0 siblings, 0 replies; 13+ messages in thread
From: dpdklab @ 2020-09-02 13:35 UTC (permalink / raw)
To: Test Report; +Cc: dpdk-test-reports
[-- Attachment #1: Type: text/plain, Size: 1281 bytes --]
Test-Label: iol-intel-Performance
Test-Status: SUCCESS
http://dpdk.org/patch/76326
_Performance Testing PASS_
Submitter: Christian Ehrhardt <christian.ehrhardt@canonical.com>
Date: Wednesday, September 02 2020 11:10:30
DPDK git baseline: Repo:dpdk
Branch: master
CommitID:cd6f1d7a5fde76c4f1e771de9f7aafdf59d691e4
76326 --> performance testing pass
Test environment and result as below:
Ubuntu 18.04
Kernel: 4.15.0-generic
Compiler: gcc 7.4
NIC: Intel Corporation Ethernet Converged Network Adapter XL710-QDA2 40000 Mbps
Target: x86_64-native-linuxapp-gcc
Fail/Total: 0/2
Detail performance results:
+------------+---------+-------------------------------------+
| frame_size | txd/rxd | throughput difference from expected |
+============+=========+=====================================+
| 64 | 512 | 4.256 |
+------------+---------+-------------------------------------+
| 64 | 2048 | 2.768 |
+------------+---------+-------------------------------------+
To view detailed results, visit:
https://lab.dpdk.org/results/dashboard/patchsets/12797/
UNH-IOL DPDK Community Lab
To manage your email subscriptions, visit:
https://lab.dpdk.org/results/dashboard/preferences/subscriptions/
^ permalink raw reply [flat|nested] 13+ messages in thread
* [dpdk-test-report] |SUCCESS| pw76326 [PATCH] avoid libfdt checks adding full paths to pkg-config
@ 2020-09-02 13:18 dpdklab
0 siblings, 0 replies; 13+ messages in thread
From: dpdklab @ 2020-09-02 13:18 UTC (permalink / raw)
To: Test Report; +Cc: dpdk-test-reports
[-- Attachment #1: Type: text/plain, Size: 808 bytes --]
Test-Label: iol-intel-Functional
Test-Status: SUCCESS
http://dpdk.org/patch/76326
_Functional Testing PASS_
Submitter: Christian Ehrhardt <christian.ehrhardt@canonical.com>
Date: Wednesday, September 02 2020 11:10:30
DPDK git baseline: Repo:dpdk
Branch: master
CommitID:cd6f1d7a5fde76c4f1e771de9f7aafdf59d691e4
76326 --> functional testing pass
Test environment and result as below:
Ubuntu 18.04
Kernel: 4.15.0-generic
Compiler: gcc 7.4
NIC: Intel Corporation Ethernet Converged Network Adapter XL710-QDA2 40000 Mbps
Target: x86_64-native-linuxapp-gcc
Fail/Total: 0/8
To view detailed results, visit:
https://lab.dpdk.org/results/dashboard/patchsets/12797/
UNH-IOL DPDK Community Lab
To manage your email subscriptions, visit:
https://lab.dpdk.org/results/dashboard/preferences/subscriptions/
^ permalink raw reply [flat|nested] 13+ messages in thread
* [dpdk-test-report] |SUCCESS| pw76326 [PATCH] avoid libfdt checks adding full paths to pkg-config
@ 2020-09-02 12:55 dpdklab
0 siblings, 0 replies; 13+ messages in thread
From: dpdklab @ 2020-09-02 12:55 UTC (permalink / raw)
To: Test Report; +Cc: dpdk-test-reports
[-- Attachment #1: Type: text/plain, Size: 1281 bytes --]
Test-Label: iol-intel-Performance
Test-Status: SUCCESS
http://dpdk.org/patch/76326
_Performance Testing PASS_
Submitter: Christian Ehrhardt <christian.ehrhardt@canonical.com>
Date: Wednesday, September 02 2020 11:10:30
DPDK git baseline: Repo:dpdk
Branch: master
CommitID:cd6f1d7a5fde76c4f1e771de9f7aafdf59d691e4
76326 --> performance testing pass
Test environment and result as below:
Ubuntu 18.04
Kernel: 4.15.0-generic
Compiler: gcc 7.4
NIC: Intel Corporation Ethernet Converged Network Adapter XL710-QDA2 40000 Mbps
Target: x86_64-native-linuxapp-gcc
Fail/Total: 0/2
Detail performance results:
+------------+---------+-------------------------------------+
| frame_size | txd/rxd | throughput difference from expected |
+============+=========+=====================================+
| 64 | 512 | 3.878 |
+------------+---------+-------------------------------------+
| 64 | 2048 | 2.878 |
+------------+---------+-------------------------------------+
To view detailed results, visit:
https://lab.dpdk.org/results/dashboard/patchsets/12797/
UNH-IOL DPDK Community Lab
To manage your email subscriptions, visit:
https://lab.dpdk.org/results/dashboard/preferences/subscriptions/
^ permalink raw reply [flat|nested] 13+ messages in thread
* [dpdk-test-report] |SUCCESS| pw76326 [PATCH] avoid libfdt checks adding full paths to pkg-config
@ 2020-09-02 12:41 dpdklab
0 siblings, 0 replies; 13+ messages in thread
From: dpdklab @ 2020-09-02 12:41 UTC (permalink / raw)
To: Test Report; +Cc: dpdk-test-reports
[-- Attachment #1: Type: text/plain, Size: 808 bytes --]
Test-Label: iol-intel-Functional
Test-Status: SUCCESS
http://dpdk.org/patch/76326
_Functional Testing PASS_
Submitter: Christian Ehrhardt <christian.ehrhardt@canonical.com>
Date: Wednesday, September 02 2020 11:10:30
DPDK git baseline: Repo:dpdk
Branch: master
CommitID:cd6f1d7a5fde76c4f1e771de9f7aafdf59d691e4
76326 --> functional testing pass
Test environment and result as below:
Ubuntu 18.04
Kernel: 4.15.0-generic
Compiler: gcc 7.4
NIC: Intel Corporation Ethernet Converged Network Adapter XL710-QDA2 40000 Mbps
Target: x86_64-native-linuxapp-gcc
Fail/Total: 0/8
To view detailed results, visit:
https://lab.dpdk.org/results/dashboard/patchsets/12797/
UNH-IOL DPDK Community Lab
To manage your email subscriptions, visit:
https://lab.dpdk.org/results/dashboard/preferences/subscriptions/
^ permalink raw reply [flat|nested] 13+ messages in thread
* [dpdk-test-report] |SUCCESS| pw76326 [PATCH] avoid libfdt checks adding full paths to pkg-config
@ 2020-09-02 12:28 dpdklab
0 siblings, 0 replies; 13+ messages in thread
From: dpdklab @ 2020-09-02 12:28 UTC (permalink / raw)
To: Ajit Khaparde, Test Report; +Cc: dpdk-test-reports
[-- Attachment #1: Type: text/plain, Size: 1286 bytes --]
Test-Label: iol-broadcom-Performance
Test-Status: SUCCESS
http://dpdk.org/patch/76326
_Performance Testing PASS_
Submitter: Christian Ehrhardt <christian.ehrhardt@canonical.com>
Date: Wednesday, September 02 2020 11:10:30
DPDK git baseline: Repo:dpdk
Branch: master
CommitID:cd6f1d7a5fde76c4f1e771de9f7aafdf59d691e4
76326 --> performance testing pass
Test environment and result as below:
Ubuntu 18.04
Kernel: 4.15.0-65-generic
Compiler: gcc gcc (Ubuntu 7.4.0-1ubuntu1~18.04.1) 7.4.0
NIC: Broadcom Inc. brcm_57414 25000 Mbps
Target: x86_64-native-linuxapp-gcc
Fail/Total: 0/2
Detail performance results:
+------------+---------+-------------------------------------+
| frame_size | txd/rxd | throughput difference from expected |
+============+=========+=====================================+
| 64 | 512 | 0.014 |
+------------+---------+-------------------------------------+
| 64 | 2048 | -0.017 |
+------------+---------+-------------------------------------+
To view detailed results, visit:
https://lab.dpdk.org/results/dashboard/patchsets/12797/
UNH-IOL DPDK Community Lab
To manage your email subscriptions, visit:
https://lab.dpdk.org/results/dashboard/preferences/subscriptions/
^ permalink raw reply [flat|nested] 13+ messages in thread
* [dpdk-test-report] |SUCCESS| pw76326 [PATCH] avoid libfdt checks adding full paths to pkg-config
@ 2020-09-02 12:21 dpdklab
0 siblings, 0 replies; 13+ messages in thread
From: dpdklab @ 2020-09-02 12:21 UTC (permalink / raw)
To: Ajit Khaparde, Test Report; +Cc: dpdk-test-reports
[-- Attachment #1: Type: text/plain, Size: 813 bytes --]
Test-Label: iol-broadcom-Functional
Test-Status: SUCCESS
http://dpdk.org/patch/76326
_Functional Testing PASS_
Submitter: Christian Ehrhardt <christian.ehrhardt@canonical.com>
Date: Wednesday, September 02 2020 11:10:30
DPDK git baseline: Repo:dpdk
Branch: master
CommitID:cd6f1d7a5fde76c4f1e771de9f7aafdf59d691e4
76326 --> functional testing pass
Test environment and result as below:
Ubuntu 18.04
Kernel: 4.15.0-65-generic
Compiler: gcc gcc (Ubuntu 7.4.0-1ubuntu1~18.04.1) 7.4.0
NIC: Broadcom Inc. brcm_57414 25000 Mbps
Target: x86_64-native-linuxapp-gcc
Fail/Total: 0/5
To view detailed results, visit:
https://lab.dpdk.org/results/dashboard/patchsets/12797/
UNH-IOL DPDK Community Lab
To manage your email subscriptions, visit:
https://lab.dpdk.org/results/dashboard/preferences/subscriptions/
^ permalink raw reply [flat|nested] 13+ messages in thread
* [dpdk-test-report] |SUCCESS| pw76326 [PATCH] avoid libfdt checks adding full paths to pkg-config
@ 2020-09-02 12:11 dpdklab
0 siblings, 0 replies; 13+ messages in thread
From: dpdklab @ 2020-09-02 12:11 UTC (permalink / raw)
To: Ajit Khaparde, Test Report; +Cc: dpdk-test-reports
[-- Attachment #1: Type: text/plain, Size: 1286 bytes --]
Test-Label: iol-broadcom-Performance
Test-Status: SUCCESS
http://dpdk.org/patch/76326
_Performance Testing PASS_
Submitter: Christian Ehrhardt <christian.ehrhardt@canonical.com>
Date: Wednesday, September 02 2020 11:10:30
DPDK git baseline: Repo:dpdk
Branch: master
CommitID:cd6f1d7a5fde76c4f1e771de9f7aafdf59d691e4
76326 --> performance testing pass
Test environment and result as below:
Ubuntu 18.04
Kernel: 4.15.0-65-generic
Compiler: gcc gcc (Ubuntu 7.4.0-1ubuntu1~18.04.1) 7.4.0
NIC: Broadcom Inc. brcm_57414 25000 Mbps
Target: x86_64-native-linuxapp-gcc
Fail/Total: 0/2
Detail performance results:
+------------+---------+-------------------------------------+
| frame_size | txd/rxd | throughput difference from expected |
+============+=========+=====================================+
| 64 | 512 | 0.082 |
+------------+---------+-------------------------------------+
| 64 | 2048 | -0.013 |
+------------+---------+-------------------------------------+
To view detailed results, visit:
https://lab.dpdk.org/results/dashboard/patchsets/12797/
UNH-IOL DPDK Community Lab
To manage your email subscriptions, visit:
https://lab.dpdk.org/results/dashboard/preferences/subscriptions/
^ permalink raw reply [flat|nested] 13+ messages in thread
* [dpdk-test-report] |SUCCESS| pw76326 [PATCH] avoid libfdt checks adding full paths to pkg-config
@ 2020-09-02 12:07 dpdklab
0 siblings, 0 replies; 13+ messages in thread
From: dpdklab @ 2020-09-02 12:07 UTC (permalink / raw)
To: Ajit Khaparde, Test Report; +Cc: dpdk-test-reports
[-- Attachment #1: Type: text/plain, Size: 813 bytes --]
Test-Label: iol-broadcom-Functional
Test-Status: SUCCESS
http://dpdk.org/patch/76326
_Functional Testing PASS_
Submitter: Christian Ehrhardt <christian.ehrhardt@canonical.com>
Date: Wednesday, September 02 2020 11:10:30
DPDK git baseline: Repo:dpdk
Branch: master
CommitID:cd6f1d7a5fde76c4f1e771de9f7aafdf59d691e4
76326 --> functional testing pass
Test environment and result as below:
Ubuntu 18.04
Kernel: 4.15.0-65-generic
Compiler: gcc gcc (Ubuntu 7.4.0-1ubuntu1~18.04.1) 7.4.0
NIC: Broadcom Inc. brcm_57414 25000 Mbps
Target: x86_64-native-linuxapp-gcc
Fail/Total: 0/5
To view detailed results, visit:
https://lab.dpdk.org/results/dashboard/patchsets/12797/
UNH-IOL DPDK Community Lab
To manage your email subscriptions, visit:
https://lab.dpdk.org/results/dashboard/preferences/subscriptions/
^ permalink raw reply [flat|nested] 13+ messages in thread
end of thread, other threads:[~2020-09-08 23:33 UTC | newest]
Thread overview: 13+ messages (download: mbox.gz / follow: Atom feed)
-- links below jump to the message on this page --
2020-09-02 15:05 [dpdk-test-report] |SUCCESS| pw76326 [PATCH] avoid libfdt checks adding full paths to pkg-config dpdklab
[not found] <20200902111030.731593-1-christian.ehrhardt@canonical.com>
2020-09-08 23:33 ` checkpatch
-- strict thread matches above, loose matches on Subject: below --
2020-09-02 16:06 dpdklab
2020-09-02 15:32 dpdklab
2020-09-02 14:40 dpdklab
2020-09-02 13:35 dpdklab
2020-09-02 13:18 dpdklab
2020-09-02 12:55 dpdklab
2020-09-02 12:41 dpdklab
2020-09-02 12:28 dpdklab
2020-09-02 12:21 dpdklab
2020-09-02 12:11 dpdklab
2020-09-02 12:07 dpdklab
This is a public inbox, see mirroring instructions
for how to clone and mirror all data and code used for this inbox;
as well as URLs for NNTP newsgroup(s).