* [dpdk-test-report] |SUCCESS| pw76572-76573 [PATCH] [v2, 2/2] fips_validation: update GCM test
@ 2020-09-04 16:48 dpdklab
0 siblings, 0 replies; 4+ messages in thread
From: dpdklab @ 2020-09-04 16:48 UTC (permalink / raw)
To: Ajit Khaparde, Test Report; +Cc: dpdk-test-reports
[-- Attachment #1: Type: text/plain, Size: 798 bytes --]
Test-Label: iol-broadcom-Functional
Test-Status: SUCCESS
http://dpdk.org/patch/76573
_Functional Testing PASS_
Submitter: Fan Zhang <roy.fan.zhang@intel.com>
Date: Friday, September 04 2020 16:09:45
DPDK git baseline: Repo:dpdk
Branch: master
CommitID:cd6f1d7a5fde76c4f1e771de9f7aafdf59d691e4
76572-76573 --> functional testing pass
Test environment and result as below:
Ubuntu 18.04
Kernel: 4.15.0-65-generic
Compiler: gcc gcc (Ubuntu 7.4.0-1ubuntu1~18.04.1) 7.4.0
NIC: Broadcom Inc. brcm_57414 25000 Mbps
Target: x86_64-native-linuxapp-gcc
Fail/Total: 0/5
To view detailed results, visit:
https://lab.dpdk.org/results/dashboard/patchsets/12842/
UNH-IOL DPDK Community Lab
To manage your email subscriptions, visit:
https://lab.dpdk.org/results/dashboard/preferences/subscriptions/
^ permalink raw reply [flat|nested] 4+ messages in thread
* [dpdk-test-report] |SUCCESS| pw76572-76573 [PATCH] [v2, 2/2] fips_validation: update GCM test
@ 2020-09-04 17:43 dpdklab
0 siblings, 0 replies; 4+ messages in thread
From: dpdklab @ 2020-09-04 17:43 UTC (permalink / raw)
To: Ali Alnubani, Test Report; +Cc: dpdk-test-reports
[-- Attachment #1: Type: text/plain, Size: 3970 bytes --]
Test-Label: iol-mellanox-Performance
Test-Status: SUCCESS
http://dpdk.org/patch/76573
_Performance Testing PASS_
Submitter: Fan Zhang <roy.fan.zhang@intel.com>
Date: Friday, September 04 2020 16:09:45
DPDK git baseline: Repo:dpdk
Branch: master
CommitID:cd6f1d7a5fde76c4f1e771de9f7aafdf59d691e4
76572-76573 --> performance testing pass
Test environment and result as below:
Ubuntu 18.04
Kernel: 4.15.0-generic
Compiler: gcc 7.4
NIC: Mellanox ConnectX-5 100000 Mbps
Target: x86_64-native-linuxapp-gcc
Fail/Total: 0/6
Detail performance results:
+------------+---------+-------------------------------------+
| frame_size | txd/rxd | throughput difference from expected |
+============+=========+=====================================+
| 64 | 256 | -0.017 |
+------------+---------+-------------------------------------+
| 128 | 256 | 0.172 |
+------------+---------+-------------------------------------+
| 256 | 256 | 0.079 |
+------------+---------+-------------------------------------+
| 512 | 256 | -0.065 |
+------------+---------+-------------------------------------+
| 1024 | 256 | -0.046 |
+------------+---------+-------------------------------------+
| 1518 | 256 | 0.022 |
+------------+---------+-------------------------------------+
Ubuntu 18.04
Kernel: 4.15.0-generic
Compiler: gcc 7.4
NIC: Mellanox ConnectX-4 Lx 25000 Mbps
Target: x86_64-native-linuxapp-gcc
Fail/Total: 0/6
Detail performance results:
+------------+---------+-------------------------------------+
| frame_size | txd/rxd | throughput difference from expected |
+============+=========+=====================================+
| 64 | 256 | -0.122 |
+------------+---------+-------------------------------------+
| 128 | 256 | 0.134 |
+------------+---------+-------------------------------------+
| 256 | 256 | -0.071 |
+------------+---------+-------------------------------------+
| 512 | 256 | -0.028 |
+------------+---------+-------------------------------------+
| 1024 | 256 | 0.003 |
+------------+---------+-------------------------------------+
| 1518 | 256 | 0.002 |
+------------+---------+-------------------------------------+
Ubuntu 18.04
Kernel: 4.15.0-generic
Compiler: gcc 7.4
NIC: Mellanox ConnectX-4 Lx 40000 Mbps
Target: x86_64-native-linuxapp-gcc
Fail/Total: 0/6
Detail performance results:
+------------+---------+-------------------------------------+
| frame_size | txd/rxd | throughput difference from expected |
+============+=========+=====================================+
| 64 | 256 | 0.106 |
+------------+---------+-------------------------------------+
| 128 | 256 | 0.230 |
+------------+---------+-------------------------------------+
| 256 | 256 | -0.169 |
+------------+---------+-------------------------------------+
| 512 | 256 | -0.004 |
+------------+---------+-------------------------------------+
| 1024 | 256 | -0.001 |
+------------+---------+-------------------------------------+
| 1518 | 256 | 0.019 |
+------------+---------+-------------------------------------+
To view detailed results, visit:
https://lab.dpdk.org/results/dashboard/patchsets/12842/
UNH-IOL DPDK Community Lab
To manage your email subscriptions, visit:
https://lab.dpdk.org/results/dashboard/preferences/subscriptions/
^ permalink raw reply [flat|nested] 4+ messages in thread
* [dpdk-test-report] |SUCCESS| pw76572-76573 [PATCH] [v2, 2/2] fips_validation: update GCM test
@ 2020-09-04 17:07 dpdklab
0 siblings, 0 replies; 4+ messages in thread
From: dpdklab @ 2020-09-04 17:07 UTC (permalink / raw)
To: Test Report; +Cc: dpdk-test-reports
[-- Attachment #1: Type: text/plain, Size: 2660 bytes --]
Test-Label: iol-testing
Test-Status: SUCCESS
http://dpdk.org/patch/76573
_Testing PASS_
Submitter: Fan Zhang <roy.fan.zhang@intel.com>
Date: Friday, September 04 2020 16:09:45
DPDK git baseline: Repo:dpdk
Branch: master
CommitID:cd6f1d7a5fde76c4f1e771de9f7aafdf59d691e4
76572-76573 --> testing pass
Test environment and result as below:
+---------------------+--------------------+------------------+-------------------+----------------+
| Environment | dpdk_meson_compile | dpdk_compile_ovs | dpdk_compile_spdk | dpdk_unit_test |
+=====================+====================+==================+===================+================+
| Windows Server 2019 | PASS | SKIPPED | SKIPPED | SKIPPED |
+---------------------+--------------------+------------------+-------------------+----------------+
| Ubuntu 18.04 | PASS | PASS | PASS | PASS |
+---------------------+--------------------+------------------+-------------------+----------------+
| FreeBSD 11.2 | PASS | SKIPPED | PASS | SKIPPED |
+---------------------+--------------------+------------------+-------------------+----------------+
| CentOS 8 | PASS | PASS | PASS | SKIPPED |
+---------------------+--------------------+------------------+-------------------+----------------+
| openSUSE Leap 15 | PASS | PASS | PASS | SKIPPED |
+---------------------+--------------------+------------------+-------------------+----------------+
| Fedora 31 | PASS | PASS | PASS | SKIPPED |
+---------------------+--------------------+------------------+-------------------+----------------+
| Arch Linux | PASS | PASS | SKIPPED | SKIPPED |
+---------------------+--------------------+------------------+-------------------+----------------+
Windows Server 2019
Kernel: 10.0
Compiler: clang 9.0
Ubuntu 18.04
Kernel: 4.15.0-generic
Compiler: gcc 7.4
FreeBSD 11.2
Kernel: 11.2
Compiler: gcc 8.3
CentOS 8
Kernel: 4.18.0.el8_0
Compiler: gcc 8.3.1
openSUSE Leap 15
Kernel: 4.12.14
Compiler: gcc 7.4.1
Fedora 31
Kernel: 5.3.16
Compiler: gcc 9.2.1
Arch Linux
Kernel: latest
Compiler: gcc latest
To view detailed results, visit:
https://lab.dpdk.org/results/dashboard/patchsets/12842/
UNH-IOL DPDK Community Lab
To manage your email subscriptions, visit:
https://lab.dpdk.org/results/dashboard/preferences/subscriptions/
^ permalink raw reply [flat|nested] 4+ messages in thread
* [dpdk-test-report] |SUCCESS| pw76572-76573 [PATCH] [v2, 2/2] fips_validation: update GCM test
@ 2020-09-04 16:54 dpdklab
0 siblings, 0 replies; 4+ messages in thread
From: dpdklab @ 2020-09-04 16:54 UTC (permalink / raw)
To: Ajit Khaparde, Test Report; +Cc: dpdk-test-reports
[-- Attachment #1: Type: text/plain, Size: 1271 bytes --]
Test-Label: iol-broadcom-Performance
Test-Status: SUCCESS
http://dpdk.org/patch/76573
_Performance Testing PASS_
Submitter: Fan Zhang <roy.fan.zhang@intel.com>
Date: Friday, September 04 2020 16:09:45
DPDK git baseline: Repo:dpdk
Branch: master
CommitID:cd6f1d7a5fde76c4f1e771de9f7aafdf59d691e4
76572-76573 --> performance testing pass
Test environment and result as below:
Ubuntu 18.04
Kernel: 4.15.0-65-generic
Compiler: gcc gcc (Ubuntu 7.4.0-1ubuntu1~18.04.1) 7.4.0
NIC: Broadcom Inc. brcm_57414 25000 Mbps
Target: x86_64-native-linuxapp-gcc
Fail/Total: 0/2
Detail performance results:
+------------+---------+-------------------------------------+
| frame_size | txd/rxd | throughput difference from expected |
+============+=========+=====================================+
| 64 | 512 | 0.080 |
+------------+---------+-------------------------------------+
| 64 | 2048 | -0.012 |
+------------+---------+-------------------------------------+
To view detailed results, visit:
https://lab.dpdk.org/results/dashboard/patchsets/12842/
UNH-IOL DPDK Community Lab
To manage your email subscriptions, visit:
https://lab.dpdk.org/results/dashboard/preferences/subscriptions/
^ permalink raw reply [flat|nested] 4+ messages in thread
end of thread, other threads:[~2020-09-04 17:43 UTC | newest]
Thread overview: 4+ messages (download: mbox.gz / follow: Atom feed)
-- links below jump to the message on this page --
2020-09-04 16:48 [dpdk-test-report] |SUCCESS| pw76572-76573 [PATCH] [v2, 2/2] fips_validation: update GCM test dpdklab
2020-09-04 16:54 dpdklab
2020-09-04 17:07 dpdklab
2020-09-04 17:43 dpdklab
This is a public inbox, see mirroring instructions
for how to clone and mirror all data and code used for this inbox;
as well as URLs for NNTP newsgroup(s).