* [dpdk-test-report] |SUCCESS| pw75894 ci: enable vm env for aarch64 builds
[not found] <1598339314-8005-1-git-send-email-juraj.linkes@pantheon.tech>
@ 2020-08-25 9:27 ` 0-day Robot
2020-09-08 23:08 ` [dpdk-test-report] |SUCCESS| pw75894 [PATCH] " checkpatch
1 sibling, 0 replies; 10+ messages in thread
From: 0-day Robot @ 2020-08-25 9:27 UTC (permalink / raw)
To: test-report; +Cc: robot
From: robot@bytheb.org
Test-Label: travis-robot
Test-Status: SUCCESS
http://dpdk.org/patch/75894
_Travis build: passed_
Build URL: https://travis-ci.com/ovsrobot/dpdk/builds/181240530
^ permalink raw reply [flat|nested] 10+ messages in thread
* [dpdk-test-report] |SUCCESS| pw75894 [PATCH] ci: enable vm env for aarch64 builds
[not found] <1598339314-8005-1-git-send-email-juraj.linkes@pantheon.tech>
2020-08-25 9:27 ` [dpdk-test-report] |SUCCESS| pw75894 ci: enable vm env for aarch64 builds 0-day Robot
@ 2020-09-08 23:08 ` checkpatch
1 sibling, 0 replies; 10+ messages in thread
From: checkpatch @ 2020-09-08 23:08 UTC (permalink / raw)
To: test-report
Test-Label: checkpatch
Test-Status: SUCCESS
http://dpdk.org/patch/75894
_coding style OK_
^ permalink raw reply [flat|nested] 10+ messages in thread
* [dpdk-test-report] |SUCCESS| pw75894 [PATCH] ci: enable vm env for aarch64 builds
@ 2020-08-25 10:43 dpdklab
0 siblings, 0 replies; 10+ messages in thread
From: dpdklab @ 2020-08-25 10:43 UTC (permalink / raw)
To: Ali Alnubani, Test Report; +Cc: dpdk-test-reports
[-- Attachment #1: Type: text/plain, Size: 3969 bytes --]
Test-Label: iol-mellanox-Performance
Test-Status: SUCCESS
http://dpdk.org/patch/75894
_Performance Testing PASS_
Submitter: Juraj Linkeš <juraj.linkes@pantheon.tech>
Date: Tuesday, August 25 2020 07:08:34
DPDK git baseline: Repo:dpdk
Branch: master
CommitID:cd6f1d7a5fde76c4f1e771de9f7aafdf59d691e4
75894 --> performance testing pass
Test environment and result as below:
Ubuntu 18.04
Kernel: 4.15.0-generic
Compiler: gcc 7.4
NIC: Mellanox ConnectX-5 100000 Mbps
Target: x86_64-native-linuxapp-gcc
Fail/Total: 0/6
Detail performance results:
+------------+---------+-------------------------------------+
| frame_size | txd/rxd | throughput difference from expected |
+============+=========+=====================================+
| 64 | 256 | 0.141 |
+------------+---------+-------------------------------------+
| 128 | 256 | 0.185 |
+------------+---------+-------------------------------------+
| 256 | 256 | 0.091 |
+------------+---------+-------------------------------------+
| 512 | 256 | -0.038 |
+------------+---------+-------------------------------------+
| 1024 | 256 | -0.024 |
+------------+---------+-------------------------------------+
| 1518 | 256 | 0.012 |
+------------+---------+-------------------------------------+
Ubuntu 18.04
Kernel: 4.15.0-generic
Compiler: gcc 7.4
NIC: Mellanox ConnectX-4 Lx 25000 Mbps
Target: x86_64-native-linuxapp-gcc
Fail/Total: 0/6
Detail performance results:
+------------+---------+-------------------------------------+
| frame_size | txd/rxd | throughput difference from expected |
+============+=========+=====================================+
| 64 | 256 | -0.066 |
+------------+---------+-------------------------------------+
| 128 | 256 | 0.558 |
+------------+---------+-------------------------------------+
| 256 | 256 | -0.181 |
+------------+---------+-------------------------------------+
| 512 | 256 | -0.035 |
+------------+---------+-------------------------------------+
| 1024 | 256 | 0 |
+------------+---------+-------------------------------------+
| 1518 | 256 | 0.014 |
+------------+---------+-------------------------------------+
Ubuntu 18.04
Kernel: 4.15.0-generic
Compiler: gcc 7.4
NIC: Mellanox ConnectX-4 Lx 40000 Mbps
Target: x86_64-native-linuxapp-gcc
Fail/Total: 0/6
Detail performance results:
+------------+---------+-------------------------------------+
| frame_size | txd/rxd | throughput difference from expected |
+============+=========+=====================================+
| 64 | 256 | 0.023 |
+------------+---------+-------------------------------------+
| 128 | 256 | 0.201 |
+------------+---------+-------------------------------------+
| 256 | 256 | 0.032 |
+------------+---------+-------------------------------------+
| 512 | 256 | -0.002 |
+------------+---------+-------------------------------------+
| 1024 | 256 | 0 |
+------------+---------+-------------------------------------+
| 1518 | 256 | 0.016 |
+------------+---------+-------------------------------------+
To view detailed results, visit:
https://lab.dpdk.org/results/dashboard/patchsets/12693/
UNH-IOL DPDK Community Lab
To manage your email subscriptions, visit:
https://lab.dpdk.org/results/dashboard/preferences/subscriptions/
^ permalink raw reply [flat|nested] 10+ messages in thread
* [dpdk-test-report] |SUCCESS| pw75894 [PATCH] ci: enable vm env for aarch64 builds
@ 2020-08-25 10:36 dpdklab
0 siblings, 0 replies; 10+ messages in thread
From: dpdklab @ 2020-08-25 10:36 UTC (permalink / raw)
To: Test Report; +Cc: dpdk-test-reports
[-- Attachment #1: Type: text/plain, Size: 2914 bytes --]
Test-Label: iol-testing
Test-Status: SUCCESS
http://dpdk.org/patch/75894
_Testing PASS_
Submitter: Juraj Linkeš <juraj.linkes@pantheon.tech>
Date: Tuesday, August 25 2020 07:08:34
DPDK git baseline: Repo:dpdk
Branch: master
CommitID:cd6f1d7a5fde76c4f1e771de9f7aafdf59d691e4
75894 --> testing pass
Test environment and result as below:
+---------------------+--------------------+------------------+-------------------+----------------+--------------+
| Environment | dpdk_meson_compile | dpdk_compile_ovs | dpdk_compile_spdk | dpdk_unit_test | dpdk_compile |
+=====================+====================+==================+===================+================+==============+
| Windows Server 2019 | PASS | SKIPPED | SKIPPED | SKIPPED | SKIPPED |
+---------------------+--------------------+------------------+-------------------+----------------+--------------+
| Ubuntu 18.04 | PASS | PASS | PASS | PASS | PASS |
+---------------------+--------------------+------------------+-------------------+----------------+--------------+
| FreeBSD 11.2 | PASS | SKIPPED | PASS | SKIPPED | PASS |
+---------------------+--------------------+------------------+-------------------+----------------+--------------+
| CentOS 8 | PASS | PASS | PASS | SKIPPED | PASS |
+---------------------+--------------------+------------------+-------------------+----------------+--------------+
| openSUSE Leap 15 | PASS | PASS | PASS | SKIPPED | PASS |
+---------------------+--------------------+------------------+-------------------+----------------+--------------+
| Fedora 31 | PASS | PASS | PASS | SKIPPED | PASS |
+---------------------+--------------------+------------------+-------------------+----------------+--------------+
| Arch Linux | PASS | PASS | SKIPPED | SKIPPED | PASS |
+---------------------+--------------------+------------------+-------------------+----------------+--------------+
Windows Server 2019
Kernel: 10.0
Compiler: clang 9.0
Ubuntu 18.04
Kernel: 4.15.0-generic
Compiler: gcc 7.4
FreeBSD 11.2
Kernel: 11.2
Compiler: gcc 8.3
CentOS 8
Kernel: 4.18.0.el8_0
Compiler: gcc 8.3.1
openSUSE Leap 15
Kernel: 4.12.14
Compiler: gcc 7.4.1
Fedora 31
Kernel: 5.3.16
Compiler: gcc 9.2.1
Arch Linux
Kernel: latest
Compiler: gcc latest
To view detailed results, visit:
https://lab.dpdk.org/results/dashboard/patchsets/12693/
UNH-IOL DPDK Community Lab
To manage your email subscriptions, visit:
https://lab.dpdk.org/results/dashboard/preferences/subscriptions/
^ permalink raw reply [flat|nested] 10+ messages in thread
* [dpdk-test-report] |SUCCESS| pw75894 [PATCH] ci: enable vm env for aarch64 builds
@ 2020-08-25 9:40 dpdklab
0 siblings, 0 replies; 10+ messages in thread
From: dpdklab @ 2020-08-25 9:40 UTC (permalink / raw)
To: Ali Alnubani, Test Report; +Cc: dpdk-test-reports
[-- Attachment #1: Type: text/plain, Size: 3969 bytes --]
Test-Label: iol-mellanox-Performance
Test-Status: SUCCESS
http://dpdk.org/patch/75894
_Performance Testing PASS_
Submitter: Juraj Linkeš <juraj.linkes@pantheon.tech>
Date: Tuesday, August 25 2020 07:08:34
DPDK git baseline: Repo:dpdk
Branch: master
CommitID:cd6f1d7a5fde76c4f1e771de9f7aafdf59d691e4
75894 --> performance testing pass
Test environment and result as below:
Ubuntu 18.04
Kernel: 4.15.0-generic
Compiler: gcc 7.4
NIC: Mellanox ConnectX-5 100000 Mbps
Target: x86_64-native-linuxapp-gcc
Fail/Total: 0/6
Detail performance results:
+------------+---------+-------------------------------------+
| frame_size | txd/rxd | throughput difference from expected |
+============+=========+=====================================+
| 64 | 256 | -0.180 |
+------------+---------+-------------------------------------+
| 128 | 256 | 0.068 |
+------------+---------+-------------------------------------+
| 256 | 256 | 0.265 |
+------------+---------+-------------------------------------+
| 512 | 256 | 0.214 |
+------------+---------+-------------------------------------+
| 1024 | 256 | -0.030 |
+------------+---------+-------------------------------------+
| 1518 | 256 | 0.022 |
+------------+---------+-------------------------------------+
Ubuntu 18.04
Kernel: 4.15.0-generic
Compiler: gcc 7.4
NIC: Mellanox ConnectX-4 Lx 25000 Mbps
Target: x86_64-native-linuxapp-gcc
Fail/Total: 0/6
Detail performance results:
+------------+---------+-------------------------------------+
| frame_size | txd/rxd | throughput difference from expected |
+============+=========+=====================================+
| 64 | 256 | -0.145 |
+------------+---------+-------------------------------------+
| 128 | 256 | -0.233 |
+------------+---------+-------------------------------------+
| 256 | 256 | -0.257 |
+------------+---------+-------------------------------------+
| 512 | 256 | -0.007 |
+------------+---------+-------------------------------------+
| 1024 | 256 | 0.004 |
+------------+---------+-------------------------------------+
| 1518 | 256 | 0.004 |
+------------+---------+-------------------------------------+
Ubuntu 18.04
Kernel: 4.15.0-generic
Compiler: gcc 7.4
NIC: Mellanox ConnectX-4 Lx 40000 Mbps
Target: x86_64-native-linuxapp-gcc
Fail/Total: 0/6
Detail performance results:
+------------+---------+-------------------------------------+
| frame_size | txd/rxd | throughput difference from expected |
+============+=========+=====================================+
| 64 | 256 | 0.062 |
+------------+---------+-------------------------------------+
| 128 | 256 | 0.373 |
+------------+---------+-------------------------------------+
| 256 | 256 | -0.305 |
+------------+---------+-------------------------------------+
| 512 | 256 | 0.001 |
+------------+---------+-------------------------------------+
| 1024 | 256 | -0.005 |
+------------+---------+-------------------------------------+
| 1518 | 256 | 0.001 |
+------------+---------+-------------------------------------+
To view detailed results, visit:
https://lab.dpdk.org/results/dashboard/patchsets/12693/
UNH-IOL DPDK Community Lab
To manage your email subscriptions, visit:
https://lab.dpdk.org/results/dashboard/preferences/subscriptions/
^ permalink raw reply [flat|nested] 10+ messages in thread
* [dpdk-test-report] |SUCCESS| pw75894 [PATCH] ci: enable vm env for aarch64 builds
@ 2020-08-25 9:33 dpdklab
0 siblings, 0 replies; 10+ messages in thread
From: dpdklab @ 2020-08-25 9:33 UTC (permalink / raw)
To: Test Report; +Cc: dpdk-test-reports
[-- Attachment #1: Type: text/plain, Size: 2914 bytes --]
Test-Label: iol-testing
Test-Status: SUCCESS
http://dpdk.org/patch/75894
_Testing PASS_
Submitter: Juraj Linkeš <juraj.linkes@pantheon.tech>
Date: Tuesday, August 25 2020 07:08:34
DPDK git baseline: Repo:dpdk
Branch: master
CommitID:cd6f1d7a5fde76c4f1e771de9f7aafdf59d691e4
75894 --> testing pass
Test environment and result as below:
+---------------------+--------------------+------------------+-------------------+----------------+--------------+
| Environment | dpdk_meson_compile | dpdk_compile_ovs | dpdk_compile_spdk | dpdk_unit_test | dpdk_compile |
+=====================+====================+==================+===================+================+==============+
| Windows Server 2019 | PASS | SKIPPED | SKIPPED | SKIPPED | SKIPPED |
+---------------------+--------------------+------------------+-------------------+----------------+--------------+
| FreeBSD 11.2 | PASS | SKIPPED | PASS | SKIPPED | PASS |
+---------------------+--------------------+------------------+-------------------+----------------+--------------+
| CentOS 8 | PASS | PASS | PASS | SKIPPED | PASS |
+---------------------+--------------------+------------------+-------------------+----------------+--------------+
| openSUSE Leap 15 | PASS | PASS | PASS | SKIPPED | PASS |
+---------------------+--------------------+------------------+-------------------+----------------+--------------+
| Fedora 31 | PASS | PASS | PASS | SKIPPED | PASS |
+---------------------+--------------------+------------------+-------------------+----------------+--------------+
| Ubuntu 18.04 | PASS | PASS | PASS | PASS | PASS |
+---------------------+--------------------+------------------+-------------------+----------------+--------------+
| Arch Linux | PASS | PASS | SKIPPED | SKIPPED | PASS |
+---------------------+--------------------+------------------+-------------------+----------------+--------------+
Windows Server 2019
Kernel: 10.0
Compiler: clang 9.0
FreeBSD 11.2
Kernel: 11.2
Compiler: gcc 8.3
CentOS 8
Kernel: 4.18.0.el8_0
Compiler: gcc 8.3.1
openSUSE Leap 15
Kernel: 4.12.14
Compiler: gcc 7.4.1
Fedora 31
Kernel: 5.3.16
Compiler: gcc 9.2.1
Ubuntu 18.04
Kernel: 4.15.0-generic
Compiler: gcc 7.4
Arch Linux
Kernel: latest
Compiler: gcc latest
To view detailed results, visit:
https://lab.dpdk.org/results/dashboard/patchsets/12693/
UNH-IOL DPDK Community Lab
To manage your email subscriptions, visit:
https://lab.dpdk.org/results/dashboard/preferences/subscriptions/
^ permalink raw reply [flat|nested] 10+ messages in thread
* [dpdk-test-report] |SUCCESS| pw75894 [PATCH] ci: enable vm env for aarch64 builds
@ 2020-08-25 8:50 dpdklab
0 siblings, 0 replies; 10+ messages in thread
From: dpdklab @ 2020-08-25 8:50 UTC (permalink / raw)
To: Test Report; +Cc: dpdk-test-reports
[-- Attachment #1: Type: text/plain, Size: 1262 bytes --]
Test-Label: iol-intel-Performance
Test-Status: SUCCESS
http://dpdk.org/patch/75894
_Performance Testing PASS_
Submitter: Juraj Linkeš <juraj.linkes@pantheon.tech>
Date: Tuesday, August 25 2020 07:08:34
DPDK git baseline: Repo:dpdk
Branch: master
CommitID:cd6f1d7a5fde76c4f1e771de9f7aafdf59d691e4
75894 --> performance testing pass
Test environment and result as below:
Ubuntu 18.04
Kernel: 4.15.0-generic
Compiler: gcc 7.4
NIC: Intel Corporation Ethernet Converged Network Adapter 82599ES 10000 Mbps
Target: x86_64-native-linuxapp-gcc
Fail/Total: 0/2
Detail performance results:
+------------+---------+-------------------------------------+
| frame_size | txd/rxd | throughput difference from expected |
+============+=========+=====================================+
| 64 | 512 | 2.664 |
+------------+---------+-------------------------------------+
| 64 | 2048 | 0.907 |
+------------+---------+-------------------------------------+
To view detailed results, visit:
https://lab.dpdk.org/results/dashboard/patchsets/12693/
UNH-IOL DPDK Community Lab
To manage your email subscriptions, visit:
https://lab.dpdk.org/results/dashboard/preferences/subscriptions/
^ permalink raw reply [flat|nested] 10+ messages in thread
* [dpdk-test-report] |SUCCESS| pw75894 [PATCH] ci: enable vm env for aarch64 builds
@ 2020-08-25 8:44 dpdklab
0 siblings, 0 replies; 10+ messages in thread
From: dpdklab @ 2020-08-25 8:44 UTC (permalink / raw)
To: Test Report; +Cc: dpdk-test-reports
[-- Attachment #1: Type: text/plain, Size: 789 bytes --]
Test-Label: iol-intel-Functional
Test-Status: SUCCESS
http://dpdk.org/patch/75894
_Functional Testing PASS_
Submitter: Juraj Linkeš <juraj.linkes@pantheon.tech>
Date: Tuesday, August 25 2020 07:08:34
DPDK git baseline: Repo:dpdk
Branch: master
CommitID:cd6f1d7a5fde76c4f1e771de9f7aafdf59d691e4
75894 --> functional testing pass
Test environment and result as below:
Ubuntu 18.04
Kernel: 4.15.0-generic
Compiler: gcc 7.4
NIC: Intel Corporation Ethernet Converged Network Adapter 82599ES 10000 Mbps
Target: x86_64-native-linuxapp-gcc
Fail/Total: 0/7
To view detailed results, visit:
https://lab.dpdk.org/results/dashboard/patchsets/12693/
UNH-IOL DPDK Community Lab
To manage your email subscriptions, visit:
https://lab.dpdk.org/results/dashboard/preferences/subscriptions/
^ permalink raw reply [flat|nested] 10+ messages in thread
* [dpdk-test-report] |SUCCESS| pw75894 [PATCH] ci: enable vm env for aarch64 builds
@ 2020-08-25 8:27 dpdklab
0 siblings, 0 replies; 10+ messages in thread
From: dpdklab @ 2020-08-25 8:27 UTC (permalink / raw)
To: Test Report; +Cc: dpdk-test-reports
[-- Attachment #1: Type: text/plain, Size: 1262 bytes --]
Test-Label: iol-intel-Performance
Test-Status: SUCCESS
http://dpdk.org/patch/75894
_Performance Testing PASS_
Submitter: Juraj Linkeš <juraj.linkes@pantheon.tech>
Date: Tuesday, August 25 2020 07:08:34
DPDK git baseline: Repo:dpdk
Branch: master
CommitID:cd6f1d7a5fde76c4f1e771de9f7aafdf59d691e4
75894 --> performance testing pass
Test environment and result as below:
Ubuntu 18.04
Kernel: 4.15.0-generic
Compiler: gcc 7.4
NIC: Intel Corporation Ethernet Converged Network Adapter 82599ES 10000 Mbps
Target: x86_64-native-linuxapp-gcc
Fail/Total: 0/2
Detail performance results:
+------------+---------+-------------------------------------+
| frame_size | txd/rxd | throughput difference from expected |
+============+=========+=====================================+
| 64 | 512 | 2.786 |
+------------+---------+-------------------------------------+
| 64 | 2048 | 1.010 |
+------------+---------+-------------------------------------+
To view detailed results, visit:
https://lab.dpdk.org/results/dashboard/patchsets/12693/
UNH-IOL DPDK Community Lab
To manage your email subscriptions, visit:
https://lab.dpdk.org/results/dashboard/preferences/subscriptions/
^ permalink raw reply [flat|nested] 10+ messages in thread
* [dpdk-test-report] |SUCCESS| pw75894 [PATCH] ci: enable vm env for aarch64 builds
@ 2020-08-25 8:18 dpdklab
0 siblings, 0 replies; 10+ messages in thread
From: dpdklab @ 2020-08-25 8:18 UTC (permalink / raw)
To: Test Report; +Cc: dpdk-test-reports
[-- Attachment #1: Type: text/plain, Size: 789 bytes --]
Test-Label: iol-intel-Functional
Test-Status: SUCCESS
http://dpdk.org/patch/75894
_Functional Testing PASS_
Submitter: Juraj Linkeš <juraj.linkes@pantheon.tech>
Date: Tuesday, August 25 2020 07:08:34
DPDK git baseline: Repo:dpdk
Branch: master
CommitID:cd6f1d7a5fde76c4f1e771de9f7aafdf59d691e4
75894 --> functional testing pass
Test environment and result as below:
Ubuntu 18.04
Kernel: 4.15.0-generic
Compiler: gcc 7.4
NIC: Intel Corporation Ethernet Converged Network Adapter 82599ES 10000 Mbps
Target: x86_64-native-linuxapp-gcc
Fail/Total: 0/7
To view detailed results, visit:
https://lab.dpdk.org/results/dashboard/patchsets/12693/
UNH-IOL DPDK Community Lab
To manage your email subscriptions, visit:
https://lab.dpdk.org/results/dashboard/preferences/subscriptions/
^ permalink raw reply [flat|nested] 10+ messages in thread
end of thread, other threads:[~2020-09-08 23:08 UTC | newest]
Thread overview: 10+ messages (download: mbox.gz / follow: Atom feed)
-- links below jump to the message on this page --
[not found] <1598339314-8005-1-git-send-email-juraj.linkes@pantheon.tech>
2020-08-25 9:27 ` [dpdk-test-report] |SUCCESS| pw75894 ci: enable vm env for aarch64 builds 0-day Robot
2020-09-08 23:08 ` [dpdk-test-report] |SUCCESS| pw75894 [PATCH] " checkpatch
2020-08-25 10:43 dpdklab
-- strict thread matches above, loose matches on Subject: below --
2020-08-25 10:36 dpdklab
2020-08-25 9:40 dpdklab
2020-08-25 9:33 dpdklab
2020-08-25 8:50 dpdklab
2020-08-25 8:44 dpdklab
2020-08-25 8:27 dpdklab
2020-08-25 8:18 dpdklab
This is a public inbox, see mirroring instructions
for how to clone and mirror all data and code used for this inbox;
as well as URLs for NNTP newsgroup(s).