* [dpdk-test-report] |SUCCESS| pw77034 [PATCH] kni: fix build with Linux 5.9
@ 2020-09-09 13:53 dpdklab
0 siblings, 0 replies; 6+ messages in thread
From: dpdklab @ 2020-09-09 13:53 UTC (permalink / raw)
To: Test Report; +Cc: dpdk-test-reports
[-- Attachment #1: Type: text/plain, Size: 2658 bytes --]
Test-Label: iol-testing
Test-Status: SUCCESS
http://dpdk.org/patch/77034
_Testing PASS_
Submitter: Min Hu (Connor) <humin29@huawei.com>
Date: Wednesday, September 09 2020 11:59:45
DPDK git baseline: Repo:dpdk
Branch: master
CommitID:cd6f1d7a5fde76c4f1e771de9f7aafdf59d691e4
77034 --> testing pass
Test environment and result as below:
+---------------------+--------------------+-------------------+------------------+----------------+
| Environment | dpdk_meson_compile | dpdk_compile_spdk | dpdk_compile_ovs | dpdk_unit_test |
+=====================+====================+===================+==================+================+
| Windows Server 2019 | PASS | SKIPPED | SKIPPED | SKIPPED |
+---------------------+--------------------+-------------------+------------------+----------------+
| FreeBSD 11.2 | PASS | PASS | SKIPPED | SKIPPED |
+---------------------+--------------------+-------------------+------------------+----------------+
| CentOS 8 | PASS | PASS | PASS | SKIPPED |
+---------------------+--------------------+-------------------+------------------+----------------+
| Fedora 31 | PASS | PASS | PASS | SKIPPED |
+---------------------+--------------------+-------------------+------------------+----------------+
| openSUSE Leap 15 | PASS | PASS | PASS | SKIPPED |
+---------------------+--------------------+-------------------+------------------+----------------+
| Ubuntu 18.04 | PASS | PASS | PASS | PASS |
+---------------------+--------------------+-------------------+------------------+----------------+
| Arch Linux | PASS | SKIPPED | PASS | SKIPPED |
+---------------------+--------------------+-------------------+------------------+----------------+
Windows Server 2019
Kernel: 10.0
Compiler: clang 9.0
FreeBSD 11.2
Kernel: 11.2
Compiler: gcc 8.3
CentOS 8
Kernel: 4.18.0.el8_0
Compiler: gcc 8.3.1
Fedora 31
Kernel: 5.3.16
Compiler: gcc 9.2.1
openSUSE Leap 15
Kernel: 4.12.14
Compiler: gcc 7.4.1
Ubuntu 18.04
Kernel: 4.15.0-generic
Compiler: gcc 7.4
Arch Linux
Kernel: latest
Compiler: gcc latest
To view detailed results, visit:
https://lab.dpdk.org/results/dashboard/patchsets/12926/
UNH-IOL DPDK Community Lab
To manage your email subscriptions, visit:
https://lab.dpdk.org/results/dashboard/preferences/subscriptions/
^ permalink raw reply [flat|nested] 6+ messages in thread
* [dpdk-test-report] |SUCCESS| pw77034 [PATCH] kni: fix build with Linux 5.9
@ 2020-09-09 14:42 dpdklab
0 siblings, 0 replies; 6+ messages in thread
From: dpdklab @ 2020-09-09 14:42 UTC (permalink / raw)
To: Ali Alnubani, Test Report; +Cc: dpdk-test-reports
[-- Attachment #1: Type: text/plain, Size: 3968 bytes --]
Test-Label: iol-mellanox-Performance
Test-Status: SUCCESS
http://dpdk.org/patch/77034
_Performance Testing PASS_
Submitter: Min Hu (Connor) <humin29@huawei.com>
Date: Wednesday, September 09 2020 11:59:45
DPDK git baseline: Repo:dpdk
Branch: master
CommitID:cd6f1d7a5fde76c4f1e771de9f7aafdf59d691e4
77034 --> performance testing pass
Test environment and result as below:
Ubuntu 18.04
Kernel: 4.15.0-generic
Compiler: gcc 7.4
NIC: Mellanox ConnectX-5 100000 Mbps
Target: x86_64-native-linuxapp-gcc
Fail/Total: 0/6
Detail performance results:
+------------+---------+-------------------------------------+
| frame_size | txd/rxd | throughput difference from expected |
+============+=========+=====================================+
| 64 | 256 | -0.254 |
+------------+---------+-------------------------------------+
| 128 | 256 | 0.078 |
+------------+---------+-------------------------------------+
| 256 | 256 | -0.005 |
+------------+---------+-------------------------------------+
| 512 | 256 | 0.056 |
+------------+---------+-------------------------------------+
| 1024 | 256 | -0.056 |
+------------+---------+-------------------------------------+
| 1518 | 256 | 0.024 |
+------------+---------+-------------------------------------+
Ubuntu 18.04
Kernel: 4.15.0-generic
Compiler: gcc 7.4
NIC: Mellanox ConnectX-4 Lx 25000 Mbps
Target: x86_64-native-linuxapp-gcc
Fail/Total: 0/6
Detail performance results:
+------------+---------+-------------------------------------+
| frame_size | txd/rxd | throughput difference from expected |
+============+=========+=====================================+
| 64 | 256 | -0.133 |
+------------+---------+-------------------------------------+
| 128 | 256 | 0.072 |
+------------+---------+-------------------------------------+
| 256 | 256 | -0.007 |
+------------+---------+-------------------------------------+
| 512 | 256 | -0.029 |
+------------+---------+-------------------------------------+
| 1024 | 256 | 0 |
+------------+---------+-------------------------------------+
| 1518 | 256 | 0.003 |
+------------+---------+-------------------------------------+
Ubuntu 18.04
Kernel: 4.15.0-generic
Compiler: gcc 7.4
NIC: Mellanox ConnectX-4 Lx 40000 Mbps
Target: x86_64-native-linuxapp-gcc
Fail/Total: 0/6
Detail performance results:
+------------+---------+-------------------------------------+
| frame_size | txd/rxd | throughput difference from expected |
+============+=========+=====================================+
| 64 | 256 | -0.053 |
+------------+---------+-------------------------------------+
| 128 | 256 | 0.170 |
+------------+---------+-------------------------------------+
| 256 | 256 | 0.419 |
+------------+---------+-------------------------------------+
| 512 | 256 | -0.001 |
+------------+---------+-------------------------------------+
| 1024 | 256 | 0.001 |
+------------+---------+-------------------------------------+
| 1518 | 256 | 0.002 |
+------------+---------+-------------------------------------+
To view detailed results, visit:
https://lab.dpdk.org/results/dashboard/patchsets/12926/
UNH-IOL DPDK Community Lab
To manage your email subscriptions, visit:
https://lab.dpdk.org/results/dashboard/preferences/subscriptions/
^ permalink raw reply [flat|nested] 6+ messages in thread
* [dpdk-test-report] |SUCCESS| pw77034 [PATCH] kni: fix build with Linux 5.9
@ 2020-09-09 13:52 dpdklab
0 siblings, 0 replies; 6+ messages in thread
From: dpdklab @ 2020-09-09 13:52 UTC (permalink / raw)
To: Test Report; +Cc: dpdk-test-reports
[-- Attachment #1: Type: text/plain, Size: 1264 bytes --]
Test-Label: iol-intel-Performance
Test-Status: SUCCESS
http://dpdk.org/patch/77034
_Performance Testing PASS_
Submitter: Min Hu (Connor) <humin29@huawei.com>
Date: Wednesday, September 09 2020 11:59:45
DPDK git baseline: Repo:dpdk
Branch: master
CommitID:cd6f1d7a5fde76c4f1e771de9f7aafdf59d691e4
77034 --> performance testing pass
Test environment and result as below:
Ubuntu 18.04
Kernel: 4.15.0-generic
Compiler: gcc 7.4
NIC: Intel Corporation Ethernet Converged Network Adapter XL710-QDA2 40000 Mbps
Target: x86_64-native-linuxapp-gcc
Fail/Total: 0/2
Detail performance results:
+------------+---------+-------------------------------------+
| frame_size | txd/rxd | throughput difference from expected |
+============+=========+=====================================+
| 64 | 512 | 4.284 |
+------------+---------+-------------------------------------+
| 64 | 2048 | 3.012 |
+------------+---------+-------------------------------------+
To view detailed results, visit:
https://lab.dpdk.org/results/dashboard/patchsets/12926/
UNH-IOL DPDK Community Lab
To manage your email subscriptions, visit:
https://lab.dpdk.org/results/dashboard/preferences/subscriptions/
^ permalink raw reply [flat|nested] 6+ messages in thread
* [dpdk-test-report] |SUCCESS| pw77034 [PATCH] kni: fix build with Linux 5.9
@ 2020-09-09 13:35 dpdklab
0 siblings, 0 replies; 6+ messages in thread
From: dpdklab @ 2020-09-09 13:35 UTC (permalink / raw)
To: Test Report; +Cc: dpdk-test-reports
[-- Attachment #1: Type: text/plain, Size: 791 bytes --]
Test-Label: iol-intel-Functional
Test-Status: SUCCESS
http://dpdk.org/patch/77034
_Functional Testing PASS_
Submitter: Min Hu (Connor) <humin29@huawei.com>
Date: Wednesday, September 09 2020 11:59:45
DPDK git baseline: Repo:dpdk
Branch: master
CommitID:cd6f1d7a5fde76c4f1e771de9f7aafdf59d691e4
77034 --> functional testing pass
Test environment and result as below:
Ubuntu 18.04
Kernel: 4.15.0-generic
Compiler: gcc 7.4
NIC: Intel Corporation Ethernet Converged Network Adapter XL710-QDA2 40000 Mbps
Target: x86_64-native-linuxapp-gcc
Fail/Total: 0/8
To view detailed results, visit:
https://lab.dpdk.org/results/dashboard/patchsets/12926/
UNH-IOL DPDK Community Lab
To manage your email subscriptions, visit:
https://lab.dpdk.org/results/dashboard/preferences/subscriptions/
^ permalink raw reply [flat|nested] 6+ messages in thread
* [dpdk-test-report] |SUCCESS| pw77034 [PATCH] kni: fix build with Linux 5.9
@ 2020-09-09 13:14 dpdklab
0 siblings, 0 replies; 6+ messages in thread
From: dpdklab @ 2020-09-09 13:14 UTC (permalink / raw)
To: Ajit Khaparde, Test Report; +Cc: dpdk-test-reports
[-- Attachment #1: Type: text/plain, Size: 1269 bytes --]
Test-Label: iol-broadcom-Performance
Test-Status: SUCCESS
http://dpdk.org/patch/77034
_Performance Testing PASS_
Submitter: Min Hu (Connor) <humin29@huawei.com>
Date: Wednesday, September 09 2020 11:59:45
DPDK git baseline: Repo:dpdk
Branch: master
CommitID:cd6f1d7a5fde76c4f1e771de9f7aafdf59d691e4
77034 --> performance testing pass
Test environment and result as below:
Ubuntu 18.04
Kernel: 4.15.0-65-generic
Compiler: gcc gcc (Ubuntu 7.4.0-1ubuntu1~18.04.1) 7.4.0
NIC: Broadcom Inc. brcm_57414 25000 Mbps
Target: x86_64-native-linuxapp-gcc
Fail/Total: 0/2
Detail performance results:
+------------+---------+-------------------------------------+
| frame_size | txd/rxd | throughput difference from expected |
+============+=========+=====================================+
| 64 | 512 | 0.132 |
+------------+---------+-------------------------------------+
| 64 | 2048 | -0.011 |
+------------+---------+-------------------------------------+
To view detailed results, visit:
https://lab.dpdk.org/results/dashboard/patchsets/12926/
UNH-IOL DPDK Community Lab
To manage your email subscriptions, visit:
https://lab.dpdk.org/results/dashboard/preferences/subscriptions/
^ permalink raw reply [flat|nested] 6+ messages in thread
* [dpdk-test-report] |SUCCESS| pw77034 [PATCH] kni: fix build with Linux 5.9
@ 2020-09-09 13:08 dpdklab
0 siblings, 0 replies; 6+ messages in thread
From: dpdklab @ 2020-09-09 13:08 UTC (permalink / raw)
To: Ajit Khaparde, Test Report; +Cc: dpdk-test-reports
[-- Attachment #1: Type: text/plain, Size: 796 bytes --]
Test-Label: iol-broadcom-Functional
Test-Status: SUCCESS
http://dpdk.org/patch/77034
_Functional Testing PASS_
Submitter: Min Hu (Connor) <humin29@huawei.com>
Date: Wednesday, September 09 2020 11:59:45
DPDK git baseline: Repo:dpdk
Branch: master
CommitID:cd6f1d7a5fde76c4f1e771de9f7aafdf59d691e4
77034 --> functional testing pass
Test environment and result as below:
Ubuntu 18.04
Kernel: 4.15.0-65-generic
Compiler: gcc gcc (Ubuntu 7.4.0-1ubuntu1~18.04.1) 7.4.0
NIC: Broadcom Inc. brcm_57414 25000 Mbps
Target: x86_64-native-linuxapp-gcc
Fail/Total: 0/5
To view detailed results, visit:
https://lab.dpdk.org/results/dashboard/patchsets/12926/
UNH-IOL DPDK Community Lab
To manage your email subscriptions, visit:
https://lab.dpdk.org/results/dashboard/preferences/subscriptions/
^ permalink raw reply [flat|nested] 6+ messages in thread
end of thread, other threads:[~2020-09-09 14:42 UTC | newest]
Thread overview: 6+ messages (download: mbox.gz / follow: Atom feed)
-- links below jump to the message on this page --
2020-09-09 13:53 [dpdk-test-report] |SUCCESS| pw77034 [PATCH] kni: fix build with Linux 5.9 dpdklab
-- strict thread matches above, loose matches on Subject: below --
2020-09-09 14:42 dpdklab
2020-09-09 13:52 dpdklab
2020-09-09 13:35 dpdklab
2020-09-09 13:14 dpdklab
2020-09-09 13:08 dpdklab
This is a public inbox, see mirroring instructions
for how to clone and mirror all data and code used for this inbox;
as well as URLs for NNTP newsgroup(s).