* [dpdk-test-report] |SUCCESS| pw77079 [PATCH] examples/fips_validation: fix req file version incompatibility
@ 2020-09-09 18:45 dpdklab
0 siblings, 0 replies; 8+ messages in thread
From: dpdklab @ 2020-09-09 18:45 UTC (permalink / raw)
To: Ali Alnubani, Test Report; +Cc: dpdk-test-reports
[-- Attachment #1: Type: text/plain, Size: 3972 bytes --]
Test-Label: iol-mellanox-Performance
Test-Status: SUCCESS
http://dpdk.org/patch/77079
_Performance Testing PASS_
Submitter: Archana Muniganti <marchana@marvell.com>
Date: Wednesday, September 09 2020 16:26:35
DPDK git baseline: Repo:dpdk
Branch: master
CommitID:cd6f1d7a5fde76c4f1e771de9f7aafdf59d691e4
77079 --> performance testing pass
Test environment and result as below:
Ubuntu 18.04
Kernel: 4.15.0-generic
Compiler: gcc 7.4
NIC: Mellanox ConnectX-5 100000 Mbps
Target: x86_64-native-linuxapp-gcc
Fail/Total: 0/6
Detail performance results:
+------------+---------+-------------------------------------+
| frame_size | txd/rxd | throughput difference from expected |
+============+=========+=====================================+
| 64 | 256 | -0.078 |
+------------+---------+-------------------------------------+
| 128 | 256 | 0.038 |
+------------+---------+-------------------------------------+
| 256 | 256 | 0.035 |
+------------+---------+-------------------------------------+
| 512 | 256 | -0.093 |
+------------+---------+-------------------------------------+
| 1024 | 256 | -0.074 |
+------------+---------+-------------------------------------+
| 1518 | 256 | 0.013 |
+------------+---------+-------------------------------------+
Ubuntu 18.04
Kernel: 4.15.0-generic
Compiler: gcc 7.4
NIC: Mellanox ConnectX-4 Lx 25000 Mbps
Target: x86_64-native-linuxapp-gcc
Fail/Total: 0/6
Detail performance results:
+------------+---------+-------------------------------------+
| frame_size | txd/rxd | throughput difference from expected |
+============+=========+=====================================+
| 64 | 256 | -0.193 |
+------------+---------+-------------------------------------+
| 128 | 256 | 0 |
+------------+---------+-------------------------------------+
| 256 | 256 | -0.008 |
+------------+---------+-------------------------------------+
| 512 | 256 | -0.014 |
+------------+---------+-------------------------------------+
| 1024 | 256 | 0 |
+------------+---------+-------------------------------------+
| 1518 | 256 | 0.002 |
+------------+---------+-------------------------------------+
Ubuntu 18.04
Kernel: 4.15.0-generic
Compiler: gcc 7.4
NIC: Mellanox ConnectX-4 Lx 40000 Mbps
Target: x86_64-native-linuxapp-gcc
Fail/Total: 0/6
Detail performance results:
+------------+---------+-------------------------------------+
| frame_size | txd/rxd | throughput difference from expected |
+============+=========+=====================================+
| 64 | 256 | 0.021 |
+------------+---------+-------------------------------------+
| 128 | 256 | 0.211 |
+------------+---------+-------------------------------------+
| 256 | 256 | -0.353 |
+------------+---------+-------------------------------------+
| 512 | 256 | 0.001 |
+------------+---------+-------------------------------------+
| 1024 | 256 | 0 |
+------------+---------+-------------------------------------+
| 1518 | 256 | 0.002 |
+------------+---------+-------------------------------------+
To view detailed results, visit:
https://lab.dpdk.org/results/dashboard/patchsets/12935/
UNH-IOL DPDK Community Lab
To manage your email subscriptions, visit:
https://lab.dpdk.org/results/dashboard/preferences/subscriptions/
^ permalink raw reply [flat|nested] 8+ messages in thread
* [dpdk-test-report] |SUCCESS| pw77079 [PATCH] examples/fips_validation: fix req file version incompatibility
@ 2020-09-09 17:27 dpdklab
0 siblings, 0 replies; 8+ messages in thread
From: dpdklab @ 2020-09-09 17:27 UTC (permalink / raw)
To: Test Report; +Cc: dpdk-test-reports
[-- Attachment #1: Type: text/plain, Size: 1268 bytes --]
Test-Label: iol-intel-Performance
Test-Status: SUCCESS
http://dpdk.org/patch/77079
_Performance Testing PASS_
Submitter: Archana Muniganti <marchana@marvell.com>
Date: Wednesday, September 09 2020 16:26:35
DPDK git baseline: Repo:dpdk
Branch: master
CommitID:cd6f1d7a5fde76c4f1e771de9f7aafdf59d691e4
77079 --> performance testing pass
Test environment and result as below:
Ubuntu 18.04
Kernel: 4.15.0-generic
Compiler: gcc 7.4
NIC: Intel Corporation Ethernet Converged Network Adapter XL710-QDA2 40000 Mbps
Target: x86_64-native-linuxapp-gcc
Fail/Total: 0/2
Detail performance results:
+------------+---------+-------------------------------------+
| frame_size | txd/rxd | throughput difference from expected |
+============+=========+=====================================+
| 64 | 512 | 4.282 |
+------------+---------+-------------------------------------+
| 64 | 2048 | 2.758 |
+------------+---------+-------------------------------------+
To view detailed results, visit:
https://lab.dpdk.org/results/dashboard/patchsets/12935/
UNH-IOL DPDK Community Lab
To manage your email subscriptions, visit:
https://lab.dpdk.org/results/dashboard/preferences/subscriptions/
^ permalink raw reply [flat|nested] 8+ messages in thread
* [dpdk-test-report] |SUCCESS| pw77079 [PATCH] examples/fips_validation: fix req file version incompatibility
@ 2020-09-09 17:22 dpdklab
0 siblings, 0 replies; 8+ messages in thread
From: dpdklab @ 2020-09-09 17:22 UTC (permalink / raw)
To: Test Report; +Cc: dpdk-test-reports
[-- Attachment #1: Type: text/plain, Size: 2662 bytes --]
Test-Label: iol-testing
Test-Status: SUCCESS
http://dpdk.org/patch/77079
_Testing PASS_
Submitter: Archana Muniganti <marchana@marvell.com>
Date: Wednesday, September 09 2020 16:26:35
DPDK git baseline: Repo:dpdk
Branch: master
CommitID:cd6f1d7a5fde76c4f1e771de9f7aafdf59d691e4
77079 --> testing pass
Test environment and result as below:
+---------------------+--------------------+-------------------+----------------+------------------+
| Environment | dpdk_meson_compile | dpdk_compile_spdk | dpdk_unit_test | dpdk_compile_ovs |
+=====================+====================+===================+================+==================+
| Windows Server 2019 | PASS | SKIPPED | SKIPPED | SKIPPED |
+---------------------+--------------------+-------------------+----------------+------------------+
| FreeBSD 11.2 | PASS | PASS | SKIPPED | SKIPPED |
+---------------------+--------------------+-------------------+----------------+------------------+
| Ubuntu 18.04 | PASS | PASS | PASS | PASS |
+---------------------+--------------------+-------------------+----------------+------------------+
| CentOS 8 | PASS | PASS | SKIPPED | PASS |
+---------------------+--------------------+-------------------+----------------+------------------+
| Fedora 31 | PASS | PASS | SKIPPED | PASS |
+---------------------+--------------------+-------------------+----------------+------------------+
| openSUSE Leap 15 | PASS | PASS | SKIPPED | PASS |
+---------------------+--------------------+-------------------+----------------+------------------+
| Arch Linux | PASS | SKIPPED | SKIPPED | PASS |
+---------------------+--------------------+-------------------+----------------+------------------+
Windows Server 2019
Kernel: 10.0
Compiler: clang 9.0
FreeBSD 11.2
Kernel: 11.2
Compiler: gcc 8.3
Ubuntu 18.04
Kernel: 4.15.0-generic
Compiler: gcc 7.4
CentOS 8
Kernel: 4.18.0.el8_0
Compiler: gcc 8.3.1
Fedora 31
Kernel: 5.3.16
Compiler: gcc 9.2.1
openSUSE Leap 15
Kernel: 4.12.14
Compiler: gcc 7.4.1
Arch Linux
Kernel: latest
Compiler: gcc latest
To view detailed results, visit:
https://lab.dpdk.org/results/dashboard/patchsets/12935/
UNH-IOL DPDK Community Lab
To manage your email subscriptions, visit:
https://lab.dpdk.org/results/dashboard/preferences/subscriptions/
^ permalink raw reply [flat|nested] 8+ messages in thread
* [dpdk-test-report] |SUCCESS| pw77079 [PATCH] examples/fips_validation: fix req file version incompatibility
@ 2020-09-09 17:13 dpdklab
0 siblings, 0 replies; 8+ messages in thread
From: dpdklab @ 2020-09-09 17:13 UTC (permalink / raw)
To: Test Report; +Cc: dpdk-test-reports
[-- Attachment #1: Type: text/plain, Size: 795 bytes --]
Test-Label: iol-intel-Functional
Test-Status: SUCCESS
http://dpdk.org/patch/77079
_Functional Testing PASS_
Submitter: Archana Muniganti <marchana@marvell.com>
Date: Wednesday, September 09 2020 16:26:35
DPDK git baseline: Repo:dpdk
Branch: master
CommitID:cd6f1d7a5fde76c4f1e771de9f7aafdf59d691e4
77079 --> functional testing pass
Test environment and result as below:
Ubuntu 18.04
Kernel: 4.15.0-generic
Compiler: gcc 7.4
NIC: Intel Corporation Ethernet Converged Network Adapter XL710-QDA2 40000 Mbps
Target: x86_64-native-linuxapp-gcc
Fail/Total: 0/8
To view detailed results, visit:
https://lab.dpdk.org/results/dashboard/patchsets/12935/
UNH-IOL DPDK Community Lab
To manage your email subscriptions, visit:
https://lab.dpdk.org/results/dashboard/preferences/subscriptions/
^ permalink raw reply [flat|nested] 8+ messages in thread
* [dpdk-test-report] |SUCCESS| pw77079 [PATCH] examples/fips_validation: fix req file version incompatibility
@ 2020-09-09 17:05 dpdklab
0 siblings, 0 replies; 8+ messages in thread
From: dpdklab @ 2020-09-09 17:05 UTC (permalink / raw)
To: Ajit Khaparde, Test Report; +Cc: dpdk-test-reports
[-- Attachment #1: Type: text/plain, Size: 1273 bytes --]
Test-Label: iol-broadcom-Performance
Test-Status: SUCCESS
http://dpdk.org/patch/77079
_Performance Testing PASS_
Submitter: Archana Muniganti <marchana@marvell.com>
Date: Wednesday, September 09 2020 16:26:35
DPDK git baseline: Repo:dpdk
Branch: master
CommitID:cd6f1d7a5fde76c4f1e771de9f7aafdf59d691e4
77079 --> performance testing pass
Test environment and result as below:
Ubuntu 18.04
Kernel: 4.15.0-65-generic
Compiler: gcc gcc (Ubuntu 7.4.0-1ubuntu1~18.04.1) 7.4.0
NIC: Broadcom Inc. brcm_57414 25000 Mbps
Target: x86_64-native-linuxapp-gcc
Fail/Total: 0/2
Detail performance results:
+------------+---------+-------------------------------------+
| frame_size | txd/rxd | throughput difference from expected |
+============+=========+=====================================+
| 64 | 512 | 0.027 |
+------------+---------+-------------------------------------+
| 64 | 2048 | -0.044 |
+------------+---------+-------------------------------------+
To view detailed results, visit:
https://lab.dpdk.org/results/dashboard/patchsets/12935/
UNH-IOL DPDK Community Lab
To manage your email subscriptions, visit:
https://lab.dpdk.org/results/dashboard/preferences/subscriptions/
^ permalink raw reply [flat|nested] 8+ messages in thread
* [dpdk-test-report] |SUCCESS| pw77079 [PATCH] examples/fips_validation: fix req file version incompatibility
@ 2020-09-09 16:59 dpdklab
0 siblings, 0 replies; 8+ messages in thread
From: dpdklab @ 2020-09-09 16:59 UTC (permalink / raw)
To: Ajit Khaparde, Test Report; +Cc: dpdk-test-reports
[-- Attachment #1: Type: text/plain, Size: 800 bytes --]
Test-Label: iol-broadcom-Functional
Test-Status: SUCCESS
http://dpdk.org/patch/77079
_Functional Testing PASS_
Submitter: Archana Muniganti <marchana@marvell.com>
Date: Wednesday, September 09 2020 16:26:35
DPDK git baseline: Repo:dpdk
Branch: master
CommitID:cd6f1d7a5fde76c4f1e771de9f7aafdf59d691e4
77079 --> functional testing pass
Test environment and result as below:
Ubuntu 18.04
Kernel: 4.15.0-65-generic
Compiler: gcc gcc (Ubuntu 7.4.0-1ubuntu1~18.04.1) 7.4.0
NIC: Broadcom Inc. brcm_57414 25000 Mbps
Target: x86_64-native-linuxapp-gcc
Fail/Total: 0/5
To view detailed results, visit:
https://lab.dpdk.org/results/dashboard/patchsets/12935/
UNH-IOL DPDK Community Lab
To manage your email subscriptions, visit:
https://lab.dpdk.org/results/dashboard/preferences/subscriptions/
^ permalink raw reply [flat|nested] 8+ messages in thread
end of thread, other threads:[~2020-09-09 18:45 UTC | newest]
Thread overview: 8+ messages (download: mbox.gz / follow: Atom feed)
-- links below jump to the message on this page --
[not found] <1599668795-11278-1-git-send-email-marchana@marvell.com>
2020-09-09 16:28 ` [dpdk-test-report] |SUCCESS| pw77079 [PATCH] examples/fips_validation: fix req file version incompatibility checkpatch
2020-09-09 17:55 ` [dpdk-test-report] |SUCCESS| pw77079 " 0-day Robot
2020-09-09 18:45 [dpdk-test-report] |SUCCESS| pw77079 [PATCH] " dpdklab
-- strict thread matches above, loose matches on Subject: below --
2020-09-09 17:27 dpdklab
2020-09-09 17:22 dpdklab
2020-09-09 17:13 dpdklab
2020-09-09 17:05 dpdklab
2020-09-09 16:59 dpdklab
This is a public inbox, see mirroring instructions
for how to clone and mirror all data and code used for this inbox;
as well as URLs for NNTP newsgroup(s).