Test-Label: checkpatch Test-Status: SUCCESS http://dpdk.org/patch/77684 _coding style OK_
[-- Attachment #1: Type: text/plain, Size: 1266 bytes --] Test-Label: iol-broadcom-Performance Test-Status: SUCCESS http://dpdk.org/patch/77684 _Performance Testing PASS_ Submitter: SteveX Yang <stevex.yang@intel.com> Date: Tuesday, September 15 2020 06:46:22 DPDK git baseline: Repo:dpdk Branch: master CommitID:cd6f1d7a5fde76c4f1e771de9f7aafdf59d691e4 77684 --> performance testing pass Test environment and result as below: Ubuntu 18.04 Kernel: 4.15.0-65-generic Compiler: gcc gcc (Ubuntu 7.4.0-1ubuntu1~18.04.1) 7.4.0 NIC: Broadcom Inc. brcm_57414 25000 Mbps Target: x86_64-native-linuxapp-gcc Fail/Total: 0/2 Detail performance results: +------------+---------+-------------------------------------+ | frame_size | txd/rxd | throughput difference from expected | +============+=========+=====================================+ | 64 | 512 | 0.082 | +------------+---------+-------------------------------------+ | 64 | 2048 | -0.015 | +------------+---------+-------------------------------------+ To view detailed results, visit: https://lab.dpdk.org/results/dashboard/patchsets/13069/ UNH-IOL DPDK Community Lab To manage your email subscriptions, visit: https://lab.dpdk.org/results/dashboard/preferences/subscriptions/
[-- Attachment #1: Type: text/plain, Size: 793 bytes --] Test-Label: iol-broadcom-Functional Test-Status: SUCCESS http://dpdk.org/patch/77684 _Functional Testing PASS_ Submitter: SteveX Yang <stevex.yang@intel.com> Date: Tuesday, September 15 2020 06:46:22 DPDK git baseline: Repo:dpdk Branch: master CommitID:cd6f1d7a5fde76c4f1e771de9f7aafdf59d691e4 77684 --> functional testing pass Test environment and result as below: Ubuntu 18.04 Kernel: 4.15.0-65-generic Compiler: gcc gcc (Ubuntu 7.4.0-1ubuntu1~18.04.1) 7.4.0 NIC: Broadcom Inc. brcm_57414 25000 Mbps Target: x86_64-native-linuxapp-gcc Fail/Total: 0/5 To view detailed results, visit: https://lab.dpdk.org/results/dashboard/patchsets/13069/ UNH-IOL DPDK Community Lab To manage your email subscriptions, visit: https://lab.dpdk.org/results/dashboard/preferences/subscriptions/
[-- Attachment #1: Type: text/plain, Size: 1818 bytes --] Test-Label: iol-testing Test-Status: SUCCESS http://dpdk.org/patch/77684 _Testing PASS_ Submitter: SteveX Yang <stevex.yang@intel.com> Date: Tuesday, September 15 2020 06:46:22 DPDK git baseline: Repo:dpdk Branch: master CommitID:cd6f1d7a5fde76c4f1e771de9f7aafdf59d691e4 77684 --> testing pass Test environment and result as below: +---------------------+--------------------+----------------+ | Environment | dpdk_meson_compile | dpdk_unit_test | +=====================+====================+================+ | Windows Server 2019 | PASS | SKIPPED | +---------------------+--------------------+----------------+ | Ubuntu 18.04 | PASS | PASS | +---------------------+--------------------+----------------+ | CentOS 8 | PASS | SKIPPED | +---------------------+--------------------+----------------+ | FreeBSD 11.2 | PASS | SKIPPED | +---------------------+--------------------+----------------+ | Fedora 31 | PASS | SKIPPED | +---------------------+--------------------+----------------+ | openSUSE Leap 15 | PASS | SKIPPED | +---------------------+--------------------+----------------+ Windows Server 2019 Kernel: 10.0 Compiler: clang 9.0 Ubuntu 18.04 Kernel: 4.15.0-generic Compiler: gcc 7.4 CentOS 8 Kernel: 4.18.0.el8_0 Compiler: gcc 8.3.1 FreeBSD 11.2 Kernel: 11.2 Compiler: gcc 8.3 Fedora 31 Kernel: 5.3.16 Compiler: gcc 9.2.1 openSUSE Leap 15 Kernel: 4.12.14 Compiler: gcc 7.4.1 To view detailed results, visit: https://lab.dpdk.org/results/dashboard/patchsets/13069/ UNH-IOL DPDK Community Lab To manage your email subscriptions, visit: https://lab.dpdk.org/results/dashboard/preferences/subscriptions/
[-- Attachment #1: Type: text/plain, Size: 788 bytes --] Test-Label: iol-intel-Functional Test-Status: SUCCESS http://dpdk.org/patch/77684 _Functional Testing PASS_ Submitter: SteveX Yang <stevex.yang@intel.com> Date: Tuesday, September 15 2020 06:46:22 DPDK git baseline: Repo:dpdk Branch: master CommitID:cd6f1d7a5fde76c4f1e771de9f7aafdf59d691e4 77684 --> functional testing pass Test environment and result as below: Ubuntu 18.04 Kernel: 4.15.0-generic Compiler: gcc 7.4 NIC: Intel Corporation Ethernet Converged Network Adapter XL710-QDA2 40000 Mbps Target: x86_64-native-linuxapp-gcc Fail/Total: 0/8 To view detailed results, visit: https://lab.dpdk.org/results/dashboard/patchsets/13069/ UNH-IOL DPDK Community Lab To manage your email subscriptions, visit: https://lab.dpdk.org/results/dashboard/preferences/subscriptions/
[-- Attachment #1: Type: text/plain, Size: 1261 bytes --] Test-Label: iol-intel-Performance Test-Status: SUCCESS http://dpdk.org/patch/77684 _Performance Testing PASS_ Submitter: SteveX Yang <stevex.yang@intel.com> Date: Tuesday, September 15 2020 06:46:22 DPDK git baseline: Repo:dpdk Branch: master CommitID:cd6f1d7a5fde76c4f1e771de9f7aafdf59d691e4 77684 --> performance testing pass Test environment and result as below: Ubuntu 18.04 Kernel: 4.15.0-generic Compiler: gcc 7.4 NIC: Intel Corporation Ethernet Converged Network Adapter XL710-QDA2 40000 Mbps Target: x86_64-native-linuxapp-gcc Fail/Total: 0/2 Detail performance results: +------------+---------+-------------------------------------+ | frame_size | txd/rxd | throughput difference from expected | +============+=========+=====================================+ | 64 | 512 | 4.505 | +------------+---------+-------------------------------------+ | 64 | 2048 | 2.764 | +------------+---------+-------------------------------------+ To view detailed results, visit: https://lab.dpdk.org/results/dashboard/patchsets/13069/ UNH-IOL DPDK Community Lab To manage your email subscriptions, visit: https://lab.dpdk.org/results/dashboard/preferences/subscriptions/
From: robot@bytheb.org Test-Label: travis-robot Test-Status: SUCCESS http://dpdk.org/patch/77684 _Travis build: passed_ Build URL: https://travis-ci.com/ovsrobot/dpdk/builds/184344902
[-- Attachment #1: Type: text/plain, Size: 3965 bytes --] Test-Label: iol-mellanox-Performance Test-Status: SUCCESS http://dpdk.org/patch/77684 _Performance Testing PASS_ Submitter: SteveX Yang <stevex.yang@intel.com> Date: Tuesday, September 15 2020 06:46:22 DPDK git baseline: Repo:dpdk Branch: master CommitID:cd6f1d7a5fde76c4f1e771de9f7aafdf59d691e4 77684 --> performance testing pass Test environment and result as below: Ubuntu 18.04 Kernel: 4.15.0-generic Compiler: gcc 7.4 NIC: Mellanox ConnectX-5 100000 Mbps Target: x86_64-native-linuxapp-gcc Fail/Total: 0/6 Detail performance results: +------------+---------+-------------------------------------+ | frame_size | txd/rxd | throughput difference from expected | +============+=========+=====================================+ | 64 | 256 | -0.219 | +------------+---------+-------------------------------------+ | 128 | 256 | -0.005 | +------------+---------+-------------------------------------+ | 256 | 256 | 0.014 | +------------+---------+-------------------------------------+ | 512 | 256 | 0.170 | +------------+---------+-------------------------------------+ | 1024 | 256 | -0.031 | +------------+---------+-------------------------------------+ | 1518 | 256 | 0.049 | +------------+---------+-------------------------------------+ Ubuntu 18.04 Kernel: 4.15.0-generic Compiler: gcc 7.4 NIC: Mellanox ConnectX-4 Lx 25000 Mbps Target: x86_64-native-linuxapp-gcc Fail/Total: 0/6 Detail performance results: +------------+---------+-------------------------------------+ | frame_size | txd/rxd | throughput difference from expected | +============+=========+=====================================+ | 64 | 256 | -0.148 | +------------+---------+-------------------------------------+ | 128 | 256 | 0.004 | +------------+---------+-------------------------------------+ | 256 | 256 | -0.065 | +------------+---------+-------------------------------------+ | 512 | 256 | -0.092 | +------------+---------+-------------------------------------+ | 1024 | 256 | 0.004 | +------------+---------+-------------------------------------+ | 1518 | 256 | 0 | +------------+---------+-------------------------------------+ Ubuntu 18.04 Kernel: 4.15.0-generic Compiler: gcc 7.4 NIC: Mellanox ConnectX-4 Lx 40000 Mbps Target: x86_64-native-linuxapp-gcc Fail/Total: 0/6 Detail performance results: +------------+---------+-------------------------------------+ | frame_size | txd/rxd | throughput difference from expected | +============+=========+=====================================+ | 64 | 256 | 0.438 | +------------+---------+-------------------------------------+ | 128 | 256 | 0.148 | +------------+---------+-------------------------------------+ | 256 | 256 | -0.273 | +------------+---------+-------------------------------------+ | 512 | 256 | 0.018 | +------------+---------+-------------------------------------+ | 1024 | 256 | 0.011 | +------------+---------+-------------------------------------+ | 1518 | 256 | 0.004 | +------------+---------+-------------------------------------+ To view detailed results, visit: https://lab.dpdk.org/results/dashboard/patchsets/13069/ UNH-IOL DPDK Community Lab To manage your email subscriptions, visit: https://lab.dpdk.org/results/dashboard/preferences/subscriptions/