[-- Attachment #1: Type: text/plain, Size: 802 bytes --] Test-Label: iol-broadcom-Functional Test-Status: SUCCESS http://dpdk.org/patch/77686 _Functional Testing PASS_ Submitter: Maxime Coquelin <maxime.coquelin@redhat.com> Date: Tuesday, September 15 2020 07:25:56 DPDK git baseline: Repo:dpdk Branch: master CommitID:cd6f1d7a5fde76c4f1e771de9f7aafdf59d691e4 77686 --> functional testing pass Test environment and result as below: Ubuntu 18.04 Kernel: 4.15.0-65-generic Compiler: gcc gcc (Ubuntu 7.4.0-1ubuntu1~18.04.1) 7.4.0 NIC: Broadcom Inc. brcm_57414 25000 Mbps Target: x86_64-native-linuxapp-gcc Fail/Total: 0/5 To view detailed results, visit: https://lab.dpdk.org/results/dashboard/patchsets/13071/ UNH-IOL DPDK Community Lab To manage your email subscriptions, visit: https://lab.dpdk.org/results/dashboard/preferences/subscriptions/
[-- Attachment #1: Type: text/plain, Size: 1275 bytes --] Test-Label: iol-broadcom-Performance Test-Status: SUCCESS http://dpdk.org/patch/77686 _Performance Testing PASS_ Submitter: Maxime Coquelin <maxime.coquelin@redhat.com> Date: Tuesday, September 15 2020 07:25:56 DPDK git baseline: Repo:dpdk Branch: master CommitID:cd6f1d7a5fde76c4f1e771de9f7aafdf59d691e4 77686 --> performance testing pass Test environment and result as below: Ubuntu 18.04 Kernel: 4.15.0-65-generic Compiler: gcc gcc (Ubuntu 7.4.0-1ubuntu1~18.04.1) 7.4.0 NIC: Broadcom Inc. brcm_57414 25000 Mbps Target: x86_64-native-linuxapp-gcc Fail/Total: 0/2 Detail performance results: +------------+---------+-------------------------------------+ | frame_size | txd/rxd | throughput difference from expected | +============+=========+=====================================+ | 64 | 512 | 0.129 | +------------+---------+-------------------------------------+ | 64 | 2048 | -0.104 | +------------+---------+-------------------------------------+ To view detailed results, visit: https://lab.dpdk.org/results/dashboard/patchsets/13071/ UNH-IOL DPDK Community Lab To manage your email subscriptions, visit: https://lab.dpdk.org/results/dashboard/preferences/subscriptions/
[-- Attachment #1: Type: text/plain, Size: 1827 bytes --] Test-Label: iol-testing Test-Status: SUCCESS http://dpdk.org/patch/77686 _Testing PASS_ Submitter: Maxime Coquelin <maxime.coquelin@redhat.com> Date: Tuesday, September 15 2020 07:25:56 DPDK git baseline: Repo:dpdk Branch: master CommitID:cd6f1d7a5fde76c4f1e771de9f7aafdf59d691e4 77686 --> testing pass Test environment and result as below: +---------------------+--------------------+----------------+ | Environment | dpdk_meson_compile | dpdk_unit_test | +=====================+====================+================+ | Windows Server 2019 | PASS | SKIPPED | +---------------------+--------------------+----------------+ | FreeBSD 11.2 | PASS | SKIPPED | +---------------------+--------------------+----------------+ | CentOS 8 | PASS | SKIPPED | +---------------------+--------------------+----------------+ | Fedora 31 | PASS | SKIPPED | +---------------------+--------------------+----------------+ | openSUSE Leap 15 | PASS | SKIPPED | +---------------------+--------------------+----------------+ | Ubuntu 18.04 | PASS | PASS | +---------------------+--------------------+----------------+ Windows Server 2019 Kernel: 10.0 Compiler: clang 9.0 FreeBSD 11.2 Kernel: 11.2 Compiler: gcc 8.3 CentOS 8 Kernel: 4.18.0.el8_0 Compiler: gcc 8.3.1 Fedora 31 Kernel: 5.3.16 Compiler: gcc 9.2.1 openSUSE Leap 15 Kernel: 4.12.14 Compiler: gcc 7.4.1 Ubuntu 18.04 Kernel: 4.15.0-generic Compiler: gcc 7.4 To view detailed results, visit: https://lab.dpdk.org/results/dashboard/patchsets/13071/ UNH-IOL DPDK Community Lab To manage your email subscriptions, visit: https://lab.dpdk.org/results/dashboard/preferences/subscriptions/
[-- Attachment #1: Type: text/plain, Size: 797 bytes --] Test-Label: iol-intel-Functional Test-Status: SUCCESS http://dpdk.org/patch/77686 _Functional Testing PASS_ Submitter: Maxime Coquelin <maxime.coquelin@redhat.com> Date: Tuesday, September 15 2020 07:25:56 DPDK git baseline: Repo:dpdk Branch: master CommitID:cd6f1d7a5fde76c4f1e771de9f7aafdf59d691e4 77686 --> functional testing pass Test environment and result as below: Ubuntu 18.04 Kernel: 4.15.0-generic Compiler: gcc 7.4 NIC: Intel Corporation Ethernet Converged Network Adapter XL710-QDA2 40000 Mbps Target: x86_64-native-linuxapp-gcc Fail/Total: 0/8 To view detailed results, visit: https://lab.dpdk.org/results/dashboard/patchsets/13071/ UNH-IOL DPDK Community Lab To manage your email subscriptions, visit: https://lab.dpdk.org/results/dashboard/preferences/subscriptions/
[-- Attachment #1: Type: text/plain, Size: 1270 bytes --] Test-Label: iol-intel-Performance Test-Status: SUCCESS http://dpdk.org/patch/77686 _Performance Testing PASS_ Submitter: Maxime Coquelin <maxime.coquelin@redhat.com> Date: Tuesday, September 15 2020 07:25:56 DPDK git baseline: Repo:dpdk Branch: master CommitID:cd6f1d7a5fde76c4f1e771de9f7aafdf59d691e4 77686 --> performance testing pass Test environment and result as below: Ubuntu 18.04 Kernel: 4.15.0-generic Compiler: gcc 7.4 NIC: Intel Corporation Ethernet Converged Network Adapter XL710-QDA2 40000 Mbps Target: x86_64-native-linuxapp-gcc Fail/Total: 0/2 Detail performance results: +------------+---------+-------------------------------------+ | frame_size | txd/rxd | throughput difference from expected | +============+=========+=====================================+ | 64 | 512 | 4.221 | +------------+---------+-------------------------------------+ | 64 | 2048 | 2.889 | +------------+---------+-------------------------------------+ To view detailed results, visit: https://lab.dpdk.org/results/dashboard/patchsets/13071/ UNH-IOL DPDK Community Lab To manage your email subscriptions, visit: https://lab.dpdk.org/results/dashboard/preferences/subscriptions/
[-- Attachment #1: Type: text/plain, Size: 3974 bytes --] Test-Label: iol-mellanox-Performance Test-Status: SUCCESS http://dpdk.org/patch/77686 _Performance Testing PASS_ Submitter: Maxime Coquelin <maxime.coquelin@redhat.com> Date: Tuesday, September 15 2020 07:25:56 DPDK git baseline: Repo:dpdk Branch: master CommitID:cd6f1d7a5fde76c4f1e771de9f7aafdf59d691e4 77686 --> performance testing pass Test environment and result as below: Ubuntu 18.04 Kernel: 4.15.0-generic Compiler: gcc 7.4 NIC: Mellanox ConnectX-5 100000 Mbps Target: x86_64-native-linuxapp-gcc Fail/Total: 0/6 Detail performance results: +------------+---------+-------------------------------------+ | frame_size | txd/rxd | throughput difference from expected | +============+=========+=====================================+ | 64 | 256 | -0.149 | +------------+---------+-------------------------------------+ | 128 | 256 | -0.014 | +------------+---------+-------------------------------------+ | 256 | 256 | -0.044 | +------------+---------+-------------------------------------+ | 512 | 256 | -0.008 | +------------+---------+-------------------------------------+ | 1024 | 256 | -0.066 | +------------+---------+-------------------------------------+ | 1518 | 256 | 0.030 | +------------+---------+-------------------------------------+ Ubuntu 18.04 Kernel: 4.15.0-generic Compiler: gcc 7.4 NIC: Mellanox ConnectX-4 Lx 25000 Mbps Target: x86_64-native-linuxapp-gcc Fail/Total: 0/6 Detail performance results: +------------+---------+-------------------------------------+ | frame_size | txd/rxd | throughput difference from expected | +============+=========+=====================================+ | 64 | 256 | -0.123 | +------------+---------+-------------------------------------+ | 128 | 256 | -0.152 | +------------+---------+-------------------------------------+ | 256 | 256 | -0.068 | +------------+---------+-------------------------------------+ | 512 | 256 | -0.145 | +------------+---------+-------------------------------------+ | 1024 | 256 | 0.008 | +------------+---------+-------------------------------------+ | 1518 | 256 | 0.003 | +------------+---------+-------------------------------------+ Ubuntu 18.04 Kernel: 4.15.0-generic Compiler: gcc 7.4 NIC: Mellanox ConnectX-4 Lx 40000 Mbps Target: x86_64-native-linuxapp-gcc Fail/Total: 0/6 Detail performance results: +------------+---------+-------------------------------------+ | frame_size | txd/rxd | throughput difference from expected | +============+=========+=====================================+ | 64 | 256 | -0.141 | +------------+---------+-------------------------------------+ | 128 | 256 | 0.082 | +------------+---------+-------------------------------------+ | 256 | 256 | -0.037 | +------------+---------+-------------------------------------+ | 512 | 256 | 0.002 | +------------+---------+-------------------------------------+ | 1024 | 256 | 0 | +------------+---------+-------------------------------------+ | 1518 | 256 | 0.008 | +------------+---------+-------------------------------------+ To view detailed results, visit: https://lab.dpdk.org/results/dashboard/patchsets/13071/ UNH-IOL DPDK Community Lab To manage your email subscriptions, visit: https://lab.dpdk.org/results/dashboard/preferences/subscriptions/