automatic DPDK test reports
 help / color / Atom feed
* [dpdk-test-report] |SUCCESS| pw77817 [PATCH v2] bus/pci: netuio interface for windows
       [not found] <20200915232803.880-1-pallavi.kadam@intel.com>
@ 2020-09-15 23:34 ` checkpatch
  2020-09-16  0:55 ` [dpdk-test-report] |SUCCESS| pw77817 " 0-day Robot
  1 sibling, 0 replies; 3+ messages in thread
From: checkpatch @ 2020-09-15 23:34 UTC (permalink / raw)
  To: test-report

Test-Label: checkpatch
Test-Status: SUCCESS
http://dpdk.org/patch/77817

_coding style OK_



^ permalink raw reply	[flat|nested] 3+ messages in thread

* [dpdk-test-report] |SUCCESS| pw77817 bus/pci: netuio interface for windows
       [not found] <20200915232803.880-1-pallavi.kadam@intel.com>
  2020-09-15 23:34 ` [dpdk-test-report] |SUCCESS| pw77817 [PATCH v2] bus/pci: netuio interface for windows checkpatch
@ 2020-09-16  0:55 ` " 0-day Robot
  1 sibling, 0 replies; 3+ messages in thread
From: 0-day Robot @ 2020-09-16  0:55 UTC (permalink / raw)
  To: test-report; +Cc: robot

From: robot@bytheb.org

Test-Label: travis-robot
Test-Status: SUCCESS
http://dpdk.org/patch/77817

_Travis build: passed_
Build URL: https://travis-ci.com/ovsrobot/dpdk/builds/184509237

^ permalink raw reply	[flat|nested] 3+ messages in thread

* [dpdk-test-report] |SUCCESS| pw77817 [PATCH] [v2] bus/pci: netuio interface for windows
@ 2020-09-16  0:07 " dpdklab
  0 siblings, 0 replies; 3+ messages in thread
From: dpdklab @ 2020-09-16  0:07 UTC (permalink / raw)
  To: Test Report; +Cc: dpdk-test-reports

[-- Attachment #1: Type: text/plain, Size: 1996 bytes --]

Test-Label: iol-testing
Test-Status: SUCCESS
http://dpdk.org/patch/77817

_Testing PASS_

Submitter: Pallavi Kadam <pallavi.kadam@intel.com>
Date: Tuesday, September 15 2020 23:28:03 
DPDK git baseline: Repo:dpdk
  Branch: master
  CommitID:e41d27a68df6939bef97a4afa6ffc32eb8b2c2c1

77817 --> testing pass

Test environment and result as below:

+---------------------+--------------------+----------------+
|     Environment     | dpdk_meson_compile | dpdk_unit_test |
+=====================+====================+================+
| Windows Server 2019 | PASS               | SKIPPED        |
+---------------------+--------------------+----------------+
| FreeBSD 11.2        | PASS               | SKIPPED        |
+---------------------+--------------------+----------------+
| CentOS 8            | PASS               | SKIPPED        |
+---------------------+--------------------+----------------+
| Ubuntu 18.04        | PASS               | PASS           |
+---------------------+--------------------+----------------+
| Fedora 31           | PASS               | SKIPPED        |
+---------------------+--------------------+----------------+
| openSUSE Leap 15    | PASS               | SKIPPED        |
+---------------------+--------------------+----------------+
| Arch Linux          | PASS               | SKIPPED        |
+---------------------+--------------------+----------------+

Windows Server 2019
	Kernel: 10.0
	Compiler: clang 9.0

FreeBSD 11.2
	Kernel: 11.2
	Compiler: gcc 8.3

CentOS 8
	Kernel: 4.18.0.el8_0
	Compiler: gcc 8.3.1

Ubuntu 18.04
	Kernel: 4.15.0-generic
	Compiler: gcc 7.4

Fedora 31
	Kernel: 5.3.16
	Compiler: gcc 9.2.1

openSUSE Leap 15
	Kernel: 4.12.14
	Compiler: gcc 7.4.1

Arch Linux
	Kernel: latest
	Compiler: gcc latest

To view detailed results, visit:
https://lab.dpdk.org/results/dashboard/patchsets/13095/

UNH-IOL DPDK Community Lab

To manage your email subscriptions, visit: 
https://lab.dpdk.org/results/dashboard/preferences/subscriptions/

^ permalink raw reply	[flat|nested] 3+ messages in thread

end of thread, back to index

Thread overview: 3+ messages (download: mbox.gz / follow: Atom feed)
-- links below jump to the message on this page --
     [not found] <20200915232803.880-1-pallavi.kadam@intel.com>
2020-09-15 23:34 ` [dpdk-test-report] |SUCCESS| pw77817 [PATCH v2] bus/pci: netuio interface for windows checkpatch
2020-09-16  0:55 ` [dpdk-test-report] |SUCCESS| pw77817 " 0-day Robot
2020-09-16  0:07 [dpdk-test-report] |SUCCESS| pw77817 [PATCH] [v2] " dpdklab

automatic DPDK test reports

Archives are clonable:
	git clone --mirror http://inbox.dpdk.org/test-report/0 test-report/git/0.git

	# If you have public-inbox 1.1+ installed, you may
	# initialize and index your mirror using the following commands:
	public-inbox-init -V2 test-report test-report/ http://inbox.dpdk.org/test-report \
		test-report@dpdk.org
	public-inbox-index test-report


Newsgroup available over NNTP:
	nntp://inbox.dpdk.org/inbox.dpdk.test-report


AGPL code for this site: git clone https://public-inbox.org/ public-inbox