* [dpdk-test-report] |SUCCESS| pw77889 [PATCH] examples/fips_validation: bypass the unsupported test vectors
@ 2020-09-16 13:19 dpdklab
  0 siblings, 0 replies; 2+ messages in thread
From: dpdklab @ 2020-09-16 13:19 UTC (permalink / raw)
  To: Test Report; +Cc: dpdk-test-reports
[-- Attachment #1: Type: text/plain, Size: 1999 bytes --]
Test-Label: iol-testing
Test-Status: SUCCESS
http://dpdk.org/patch/77889
_Testing PASS_
Submitter: Archana Muniganti <marchana@marvell.com>
Date: Wednesday, September 16 2020 10:41:51 
DPDK git baseline: Repo:dpdk
  Branch: master
  CommitID:e41d27a68df6939bef97a4afa6ffc32eb8b2c2c1
77889 --> testing pass
Test environment and result as below:
+---------------------+--------------------+----------------+
|     Environment     | dpdk_meson_compile | dpdk_unit_test |
+=====================+====================+================+
| Windows Server 2019 | PASS               | SKIPPED        |
+---------------------+--------------------+----------------+
| FreeBSD 11.2        | PASS               | SKIPPED        |
+---------------------+--------------------+----------------+
| CentOS 8            | PASS               | SKIPPED        |
+---------------------+--------------------+----------------+
| Ubuntu 18.04        | PASS               | PASS           |
+---------------------+--------------------+----------------+
| Fedora 31           | PASS               | SKIPPED        |
+---------------------+--------------------+----------------+
| openSUSE Leap 15    | PASS               | SKIPPED        |
+---------------------+--------------------+----------------+
| Arch Linux          | PASS               | SKIPPED        |
+---------------------+--------------------+----------------+
Windows Server 2019
	Kernel: 10.0
	Compiler: clang 9.0
FreeBSD 11.2
	Kernel: 11.2
	Compiler: gcc 8.3
CentOS 8
	Kernel: 4.18.0.el8_0
	Compiler: gcc 8.3.1
Ubuntu 18.04
	Kernel: 4.15.0-generic
	Compiler: gcc 7.4
Fedora 31
	Kernel: 5.3.16
	Compiler: gcc 9.2.1
openSUSE Leap 15
	Kernel: 4.12.14
	Compiler: gcc 7.4.1
Arch Linux
	Kernel: latest
	Compiler: gcc latest
To view detailed results, visit:
https://lab.dpdk.org/results/dashboard/patchsets/13114/
UNH-IOL DPDK Community Lab
To manage your email subscriptions, visit: 
https://lab.dpdk.org/results/dashboard/preferences/subscriptions/
^ permalink raw reply	[flat|nested] 2+ messages in thread
* [dpdk-test-report] |SUCCESS| pw77889 [PATCH] examples/fips_validation: bypass the unsupported test vectors
       [not found] <1600252911-20295-1-git-send-email-marchana@marvell.com>
@ 2020-09-16 10:42 ` checkpatch
  0 siblings, 0 replies; 2+ messages in thread
From: checkpatch @ 2020-09-16 10:42 UTC (permalink / raw)
  To: test-report
Test-Label: checkpatch
Test-Status: SUCCESS
http://dpdk.org/patch/77889
_coding style OK_
^ permalink raw reply	[flat|nested] 2+ messages in thread
end of thread, other threads:[~2020-09-16 13:19 UTC | newest]
Thread overview: 2+ messages (download: mbox.gz / follow: Atom feed)
-- links below jump to the message on this page --
2020-09-16 13:19 [dpdk-test-report] |SUCCESS| pw77889 [PATCH] examples/fips_validation: bypass the unsupported test vectors dpdklab
     [not found] <1600252911-20295-1-git-send-email-marchana@marvell.com>
2020-09-16 10:42 ` checkpatch
This is a public inbox, see mirroring instructions
for how to clone and mirror all data and code used for this inbox;
as well as URLs for NNTP newsgroup(s).