[-- Attachment #1: Type: text/plain, Size: 1267 bytes --] Test-Label: iol-broadcom-Performance Test-Status: SUCCESS http://dpdk.org/patch/78098 _Performance Testing PASS_ Submitter: Ciara Loftus <ciara.loftus@intel.com> Date: Friday, September 18 2020 11:28:26 DPDK git baseline: Repo:dpdk Branch: master CommitID:c23432a9c287501071688fe5208078bc6ed371b4 78098 --> performance testing pass Test environment and result as below: Ubuntu 18.04 Kernel: 4.15.0-65-generic Compiler: gcc gcc (Ubuntu 7.4.0-1ubuntu1~18.04.1) 7.4.0 NIC: Broadcom Inc. brcm_57414 25000 Mbps Target: x86_64-native-linuxapp-gcc Fail/Total: 0/2 Detail performance results: +------------+---------+-------------------------------------+ | frame_size | txd/rxd | throughput difference from expected | +============+=========+=====================================+ | 64 | 512 | 0.045 | +------------+---------+-------------------------------------+ | 64 | 2048 | -0.012 | +------------+---------+-------------------------------------+ To view detailed results, visit: https://lab.dpdk.org/results/dashboard/patchsets/13167/ UNH-IOL DPDK Community Lab To manage your email subscriptions, visit: https://lab.dpdk.org/results/dashboard/preferences/subscriptions/
[-- Attachment #1: Type: text/plain, Size: 794 bytes --] Test-Label: iol-broadcom-Functional Test-Status: SUCCESS http://dpdk.org/patch/78098 _Functional Testing PASS_ Submitter: Ciara Loftus <ciara.loftus@intel.com> Date: Friday, September 18 2020 11:28:26 DPDK git baseline: Repo:dpdk Branch: master CommitID:c23432a9c287501071688fe5208078bc6ed371b4 78098 --> functional testing pass Test environment and result as below: Ubuntu 18.04 Kernel: 4.15.0-65-generic Compiler: gcc gcc (Ubuntu 7.4.0-1ubuntu1~18.04.1) 7.4.0 NIC: Broadcom Inc. brcm_57414 25000 Mbps Target: x86_64-native-linuxapp-gcc Fail/Total: 0/3 To view detailed results, visit: https://lab.dpdk.org/results/dashboard/patchsets/13167/ UNH-IOL DPDK Community Lab To manage your email subscriptions, visit: https://lab.dpdk.org/results/dashboard/preferences/subscriptions/
[-- Attachment #1: Type: text/plain, Size: 1267 bytes --] Test-Label: iol-broadcom-Performance Test-Status: SUCCESS http://dpdk.org/patch/78098 _Performance Testing PASS_ Submitter: Ciara Loftus <ciara.loftus@intel.com> Date: Friday, September 18 2020 11:28:26 DPDK git baseline: Repo:dpdk Branch: master CommitID:c23432a9c287501071688fe5208078bc6ed371b4 78098 --> performance testing pass Test environment and result as below: Ubuntu 18.04 Kernel: 4.15.0-65-generic Compiler: gcc gcc (Ubuntu 7.4.0-1ubuntu1~18.04.1) 7.4.0 NIC: Broadcom Inc. brcm_57414 25000 Mbps Target: x86_64-native-linuxapp-gcc Fail/Total: 0/2 Detail performance results: +------------+---------+-------------------------------------+ | frame_size | txd/rxd | throughput difference from expected | +============+=========+=====================================+ | 64 | 512 | 0.051 | +------------+---------+-------------------------------------+ | 64 | 2048 | -0.053 | +------------+---------+-------------------------------------+ To view detailed results, visit: https://lab.dpdk.org/results/dashboard/patchsets/13167/ UNH-IOL DPDK Community Lab To manage your email subscriptions, visit: https://lab.dpdk.org/results/dashboard/preferences/subscriptions/
[-- Attachment #1: Type: text/plain, Size: 794 bytes --] Test-Label: iol-broadcom-Functional Test-Status: SUCCESS http://dpdk.org/patch/78098 _Functional Testing PASS_ Submitter: Ciara Loftus <ciara.loftus@intel.com> Date: Friday, September 18 2020 11:28:26 DPDK git baseline: Repo:dpdk Branch: master CommitID:c23432a9c287501071688fe5208078bc6ed371b4 78098 --> functional testing pass Test environment and result as below: Ubuntu 18.04 Kernel: 4.15.0-65-generic Compiler: gcc gcc (Ubuntu 7.4.0-1ubuntu1~18.04.1) 7.4.0 NIC: Broadcom Inc. brcm_57414 25000 Mbps Target: x86_64-native-linuxapp-gcc Fail/Total: 0/3 To view detailed results, visit: https://lab.dpdk.org/results/dashboard/patchsets/13167/ UNH-IOL DPDK Community Lab To manage your email subscriptions, visit: https://lab.dpdk.org/results/dashboard/preferences/subscriptions/
[-- Attachment #1: Type: text/plain, Size: 1993 bytes --] Test-Label: iol-testing Test-Status: SUCCESS http://dpdk.org/patch/78098 _Testing PASS_ Submitter: Ciara Loftus <ciara.loftus@intel.com> Date: Friday, September 18 2020 11:28:26 DPDK git baseline: Repo:dpdk Branch: master CommitID:c23432a9c287501071688fe5208078bc6ed371b4 78098 --> testing pass Test environment and result as below: +---------------------+--------------------+----------------+ | Environment | dpdk_meson_compile | dpdk_unit_test | +=====================+====================+================+ | Windows Server 2019 | PASS | SKIPPED | +---------------------+--------------------+----------------+ | FreeBSD 11.2 | PASS | SKIPPED | +---------------------+--------------------+----------------+ | CentOS 8 | PASS | SKIPPED | +---------------------+--------------------+----------------+ | Ubuntu 18.04 | PASS | PASS | +---------------------+--------------------+----------------+ | Fedora 31 | PASS | SKIPPED | +---------------------+--------------------+----------------+ | openSUSE Leap 15 | PASS | SKIPPED | +---------------------+--------------------+----------------+ | Arch Linux | PASS | SKIPPED | +---------------------+--------------------+----------------+ Windows Server 2019 Kernel: 10.0 Compiler: clang 9.0 FreeBSD 11.2 Kernel: 11.2 Compiler: gcc 8.3 CentOS 8 Kernel: 4.18.0.el8_0 Compiler: gcc 8.3.1 Ubuntu 18.04 Kernel: 4.15.0-generic Compiler: gcc 7.4 Fedora 31 Kernel: 5.3.16 Compiler: gcc 9.2.1 openSUSE Leap 15 Kernel: 4.12.14 Compiler: gcc 7.4.1 Arch Linux Kernel: latest Compiler: gcc latest To view detailed results, visit: https://lab.dpdk.org/results/dashboard/patchsets/13167/ UNH-IOL DPDK Community Lab To manage your email subscriptions, visit: https://lab.dpdk.org/results/dashboard/preferences/subscriptions/
[-- Attachment #1: Type: text/plain, Size: 1993 bytes --] Test-Label: iol-testing Test-Status: SUCCESS http://dpdk.org/patch/78098 _Testing PASS_ Submitter: Ciara Loftus <ciara.loftus@intel.com> Date: Friday, September 18 2020 11:28:26 DPDK git baseline: Repo:dpdk Branch: master CommitID:c23432a9c287501071688fe5208078bc6ed371b4 78098 --> testing pass Test environment and result as below: +---------------------+--------------------+----------------+ | Environment | dpdk_meson_compile | dpdk_unit_test | +=====================+====================+================+ | Windows Server 2019 | PASS | SKIPPED | +---------------------+--------------------+----------------+ | FreeBSD 11.2 | PASS | SKIPPED | +---------------------+--------------------+----------------+ | CentOS 8 | PASS | SKIPPED | +---------------------+--------------------+----------------+ | Ubuntu 18.04 | PASS | PASS | +---------------------+--------------------+----------------+ | Fedora 31 | PASS | SKIPPED | +---------------------+--------------------+----------------+ | openSUSE Leap 15 | PASS | SKIPPED | +---------------------+--------------------+----------------+ | Arch Linux | PASS | SKIPPED | +---------------------+--------------------+----------------+ Windows Server 2019 Kernel: 10.0 Compiler: clang 9.0 FreeBSD 11.2 Kernel: 11.2 Compiler: gcc 8.3 CentOS 8 Kernel: 4.18.0.el8_0 Compiler: gcc 8.3.1 Ubuntu 18.04 Kernel: 4.15.0-generic Compiler: gcc 7.4 Fedora 31 Kernel: 5.3.16 Compiler: gcc 9.2.1 openSUSE Leap 15 Kernel: 4.12.14 Compiler: gcc 7.4.1 Arch Linux Kernel: latest Compiler: gcc latest To view detailed results, visit: https://lab.dpdk.org/results/dashboard/patchsets/13167/ UNH-IOL DPDK Community Lab To manage your email subscriptions, visit: https://lab.dpdk.org/results/dashboard/preferences/subscriptions/