* [dpdk-test-report] |SUCCESS| pw78768 [PATCH] bus/pci: fix mapping BAR containing MSI-X table
@ 2020-09-25 7:15 dpdklab
0 siblings, 0 replies; 8+ messages in thread
From: dpdklab @ 2020-09-25 7:15 UTC (permalink / raw)
To: Ali Alnubani, Test Report; +Cc: dpdk-test-reports
[-- Attachment #1: Type: text/plain, Size: 3963 bytes --]
Test-Label: iol-mellanox-Performance
Test-Status: SUCCESS
http://dpdk.org/patch/78768
_Performance Testing PASS_
Submitter: Hyong Youb Kim <hyonkim@cisco.com>
Date: Friday, September 25 2020 02:14:35
DPDK git baseline: Repo:dpdk
Branch: master
CommitID:05e1af3052830df26b9543a3a1cec8a7c12076d7
78768 --> performance testing pass
Test environment and result as below:
Ubuntu 18.04
Kernel: 4.15.0-generic
Compiler: gcc 7.4
NIC: Mellanox ConnectX-5 100000 Mbps
Target: x86_64-native-linuxapp-gcc
Fail/Total: 0/6
Detail performance results:
+------------+---------+-------------------------------------+
| frame_size | txd/rxd | throughput difference from expected |
+============+=========+=====================================+
| 64 | 256 | -0.252 |
+------------+---------+-------------------------------------+
| 128 | 256 | -0.017 |
+------------+---------+-------------------------------------+
| 256 | 256 | 0.151 |
+------------+---------+-------------------------------------+
| 512 | 256 | 0.043 |
+------------+---------+-------------------------------------+
| 1024 | 256 | -0.019 |
+------------+---------+-------------------------------------+
| 1518 | 256 | 0.032 |
+------------+---------+-------------------------------------+
Ubuntu 18.04
Kernel: 4.15.0-generic
Compiler: gcc 7.4
NIC: Mellanox ConnectX-4 Lx 25000 Mbps
Target: x86_64-native-linuxapp-gcc
Fail/Total: 0/6
Detail performance results:
+------------+---------+-------------------------------------+
| frame_size | txd/rxd | throughput difference from expected |
+============+=========+=====================================+
| 64 | 256 | -0.152 |
+------------+---------+-------------------------------------+
| 128 | 256 | -0.115 |
+------------+---------+-------------------------------------+
| 256 | 256 | -0.063 |
+------------+---------+-------------------------------------+
| 512 | 256 | 0.004 |
+------------+---------+-------------------------------------+
| 1024 | 256 | 0.004 |
+------------+---------+-------------------------------------+
| 1518 | 256 | 0.002 |
+------------+---------+-------------------------------------+
Ubuntu 18.04
Kernel: 4.15.0-generic
Compiler: gcc 7.4
NIC: Mellanox ConnectX-4 Lx 40000 Mbps
Target: x86_64-native-linuxapp-gcc
Fail/Total: 0/6
Detail performance results:
+------------+---------+-------------------------------------+
| frame_size | txd/rxd | throughput difference from expected |
+============+=========+=====================================+
| 64 | 256 | -0.087 |
+------------+---------+-------------------------------------+
| 128 | 256 | -0.190 |
+------------+---------+-------------------------------------+
| 256 | 256 | -0.201 |
+------------+---------+-------------------------------------+
| 512 | 256 | -0.020 |
+------------+---------+-------------------------------------+
| 1024 | 256 | 0.017 |
+------------+---------+-------------------------------------+
| 1518 | 256 | 0.001 |
+------------+---------+-------------------------------------+
To view detailed results, visit:
https://lab.dpdk.org/results/dashboard/patchsets/13274/
UNH-IOL DPDK Community Lab
To manage your email subscriptions, visit:
https://lab.dpdk.org/results/dashboard/preferences/subscriptions/
^ permalink raw reply [flat|nested] 8+ messages in thread
* [dpdk-test-report] |SUCCESS| pw78768 [PATCH] bus/pci: fix mapping BAR containing MSI-X table
@ 2020-09-25 3:13 dpdklab
0 siblings, 0 replies; 8+ messages in thread
From: dpdklab @ 2020-09-25 3:13 UTC (permalink / raw)
To: Test Report; +Cc: dpdk-test-reports
[-- Attachment #1: Type: text/plain, Size: 1913 bytes --]
Test-Label: iol-intel-Performance
Test-Status: SUCCESS
http://dpdk.org/patch/78768
_Performance Testing PASS_
Submitter: Hyong Youb Kim <hyonkim@cisco.com>
Date: Friday, September 25 2020 02:14:35
DPDK git baseline: Repo:dpdk
Branch: master
CommitID:05e1af3052830df26b9543a3a1cec8a7c12076d7
78768 --> performance testing pass
Test environment and result as below:
Ubuntu 18.04
Kernel: 4.15.0-generic
Compiler: gcc 7.4
NIC: Intel Corporation Ethernet Converged Network Adapter XL710-QDA2 40000 Mbps
Target: x86_64-native-linuxapp-gcc
Fail/Total: 0/2
Detail performance results:
+------------+---------+-------------------------------------+
| frame_size | txd/rxd | throughput difference from expected |
+============+=========+=====================================+
| 64 | 512 | 2.401 |
+------------+---------+-------------------------------------+
| 64 | 2048 | 1.510 |
+------------+---------+-------------------------------------+
Ubuntu 18.04
Kernel: 4.15.0-generic
Compiler: gcc 7.4
NIC: Intel Corporation Ethernet Converged Network Adapter 82599ES 10000 Mbps
Target: x86_64-native-linuxapp-gcc
Fail/Total: 0/2
Detail performance results:
+------------+---------+-------------------------------------+
| frame_size | txd/rxd | throughput difference from expected |
+============+=========+=====================================+
| 64 | 512 | 2.178 |
+------------+---------+-------------------------------------+
| 64 | 2048 | 0.969 |
+------------+---------+-------------------------------------+
To view detailed results, visit:
https://lab.dpdk.org/results/dashboard/patchsets/13274/
UNH-IOL DPDK Community Lab
To manage your email subscriptions, visit:
https://lab.dpdk.org/results/dashboard/preferences/subscriptions/
^ permalink raw reply [flat|nested] 8+ messages in thread
* [dpdk-test-report] |SUCCESS| pw78768 [PATCH] bus/pci: fix mapping BAR containing MSI-X table
@ 2020-09-25 2:59 dpdklab
0 siblings, 0 replies; 8+ messages in thread
From: dpdklab @ 2020-09-25 2:59 UTC (permalink / raw)
To: Test Report; +Cc: dpdk-test-reports
[-- Attachment #1: Type: text/plain, Size: 1990 bytes --]
Test-Label: iol-testing
Test-Status: SUCCESS
http://dpdk.org/patch/78768
_Testing PASS_
Submitter: Hyong Youb Kim <hyonkim@cisco.com>
Date: Friday, September 25 2020 02:14:35
DPDK git baseline: Repo:dpdk
Branch: master
CommitID:05e1af3052830df26b9543a3a1cec8a7c12076d7
78768 --> testing pass
Test environment and result as below:
+---------------------+--------------------+----------------+
| Environment | dpdk_meson_compile | dpdk_unit_test |
+=====================+====================+================+
| Windows Server 2019 | PASS | SKIPPED |
+---------------------+--------------------+----------------+
| Ubuntu 18.04 | PASS | PASS |
+---------------------+--------------------+----------------+
| FreeBSD 11.2 | PASS | SKIPPED |
+---------------------+--------------------+----------------+
| CentOS 8 | PASS | SKIPPED |
+---------------------+--------------------+----------------+
| Fedora 31 | PASS | SKIPPED |
+---------------------+--------------------+----------------+
| openSUSE Leap 15 | PASS | SKIPPED |
+---------------------+--------------------+----------------+
| Arch Linux | PASS | SKIPPED |
+---------------------+--------------------+----------------+
Windows Server 2019
Kernel: 10.0
Compiler: clang 9.0
Ubuntu 18.04
Kernel: 4.15.0-generic
Compiler: gcc 7.4
FreeBSD 11.2
Kernel: 11.2
Compiler: gcc 8.3
CentOS 8
Kernel: 4.18.0.el8_0
Compiler: gcc 8.3.1
Fedora 31
Kernel: 5.3.16
Compiler: gcc 9.2.1
openSUSE Leap 15
Kernel: 4.12.14
Compiler: gcc 7.4.1
Arch Linux
Kernel: latest
Compiler: gcc latest
To view detailed results, visit:
https://lab.dpdk.org/results/dashboard/patchsets/13274/
UNH-IOL DPDK Community Lab
To manage your email subscriptions, visit:
https://lab.dpdk.org/results/dashboard/preferences/subscriptions/
^ permalink raw reply [flat|nested] 8+ messages in thread
* [dpdk-test-report] |SUCCESS| pw78768 [PATCH] bus/pci: fix mapping BAR containing MSI-X table
@ 2020-09-25 2:50 dpdklab
0 siblings, 0 replies; 8+ messages in thread
From: dpdklab @ 2020-09-25 2:50 UTC (permalink / raw)
To: Test Report; +Cc: dpdk-test-reports
[-- Attachment #1: Type: text/plain, Size: 786 bytes --]
Test-Label: iol-intel-Functional
Test-Status: SUCCESS
http://dpdk.org/patch/78768
_Functional Testing PASS_
Submitter: Hyong Youb Kim <hyonkim@cisco.com>
Date: Friday, September 25 2020 02:14:35
DPDK git baseline: Repo:dpdk
Branch: master
CommitID:05e1af3052830df26b9543a3a1cec8a7c12076d7
78768 --> functional testing pass
Test environment and result as below:
Ubuntu 18.04
Kernel: 4.15.0-generic
Compiler: gcc 7.4
NIC: Intel Corporation Ethernet Converged Network Adapter XL710-QDA2 40000 Mbps
Target: x86_64-native-linuxapp-gcc
Fail/Total: 0/4
To view detailed results, visit:
https://lab.dpdk.org/results/dashboard/patchsets/13274/
UNH-IOL DPDK Community Lab
To manage your email subscriptions, visit:
https://lab.dpdk.org/results/dashboard/preferences/subscriptions/
^ permalink raw reply [flat|nested] 8+ messages in thread
* [dpdk-test-report] |SUCCESS| pw78768 [PATCH] bus/pci: fix mapping BAR containing MSI-X table
@ 2020-09-25 2:49 dpdklab
0 siblings, 0 replies; 8+ messages in thread
From: dpdklab @ 2020-09-25 2:49 UTC (permalink / raw)
To: Ajit Khaparde, Test Report; +Cc: dpdk-test-reports
[-- Attachment #1: Type: text/plain, Size: 791 bytes --]
Test-Label: iol-broadcom-Functional
Test-Status: SUCCESS
http://dpdk.org/patch/78768
_Functional Testing PASS_
Submitter: Hyong Youb Kim <hyonkim@cisco.com>
Date: Friday, September 25 2020 02:14:35
DPDK git baseline: Repo:dpdk
Branch: master
CommitID:05e1af3052830df26b9543a3a1cec8a7c12076d7
78768 --> functional testing pass
Test environment and result as below:
Ubuntu 18.04
Kernel: 4.15.0-65-generic
Compiler: gcc gcc (Ubuntu 7.4.0-1ubuntu1~18.04.1) 7.4.0
NIC: Broadcom Inc. brcm_57414 25000 Mbps
Target: x86_64-native-linuxapp-gcc
Fail/Total: 0/3
To view detailed results, visit:
https://lab.dpdk.org/results/dashboard/patchsets/13274/
UNH-IOL DPDK Community Lab
To manage your email subscriptions, visit:
https://lab.dpdk.org/results/dashboard/preferences/subscriptions/
^ permalink raw reply [flat|nested] 8+ messages in thread
* [dpdk-test-report] |SUCCESS| pw78768 [PATCH] bus/pci: fix mapping BAR containing MSI-X table
@ 2020-09-25 2:41 dpdklab
0 siblings, 0 replies; 8+ messages in thread
From: dpdklab @ 2020-09-25 2:41 UTC (permalink / raw)
To: Ajit Khaparde, Test Report; +Cc: dpdk-test-reports
[-- Attachment #1: Type: text/plain, Size: 1264 bytes --]
Test-Label: iol-broadcom-Performance
Test-Status: SUCCESS
http://dpdk.org/patch/78768
_Performance Testing PASS_
Submitter: Hyong Youb Kim <hyonkim@cisco.com>
Date: Friday, September 25 2020 02:14:35
DPDK git baseline: Repo:dpdk
Branch: master
CommitID:05e1af3052830df26b9543a3a1cec8a7c12076d7
78768 --> performance testing pass
Test environment and result as below:
Ubuntu 18.04
Kernel: 4.15.0-65-generic
Compiler: gcc gcc (Ubuntu 7.4.0-1ubuntu1~18.04.1) 7.4.0
NIC: Broadcom Inc. brcm_57414 25000 Mbps
Target: x86_64-native-linuxapp-gcc
Fail/Total: 0/2
Detail performance results:
+------------+---------+-------------------------------------+
| frame_size | txd/rxd | throughput difference from expected |
+============+=========+=====================================+
| 64 | 512 | 0.069 |
+------------+---------+-------------------------------------+
| 64 | 2048 | -0.020 |
+------------+---------+-------------------------------------+
To view detailed results, visit:
https://lab.dpdk.org/results/dashboard/patchsets/13274/
UNH-IOL DPDK Community Lab
To manage your email subscriptions, visit:
https://lab.dpdk.org/results/dashboard/preferences/subscriptions/
^ permalink raw reply [flat|nested] 8+ messages in thread
end of thread, other threads:[~2020-09-25 7:15 UTC | newest]
Thread overview: 8+ messages (download: mbox.gz / follow: Atom feed)
-- links below jump to the message on this page --
[not found] <20200925021435.16114-1-hyonkim@cisco.com>
2020-09-25 2:16 ` [dpdk-test-report] |SUCCESS| pw78768 [PATCH] bus/pci: fix mapping BAR containing MSI-X table checkpatch
2020-09-25 4:55 ` [dpdk-test-report] |SUCCESS| pw78768 " 0-day Robot
2020-09-25 7:15 [dpdk-test-report] |SUCCESS| pw78768 [PATCH] " dpdklab
-- strict thread matches above, loose matches on Subject: below --
2020-09-25 3:13 dpdklab
2020-09-25 2:59 dpdklab
2020-09-25 2:50 dpdklab
2020-09-25 2:49 dpdklab
2020-09-25 2:41 dpdklab
This is a public inbox, see mirroring instructions
for how to clone and mirror all data and code used for this inbox;
as well as URLs for NNTP newsgroup(s).