* [dpdk-test-report] |SUCCESS| pw78802 [PATCH] [v3] net/af_xdp: custom XDP program loading
@ 2020-09-25 10:51 dpdklab
0 siblings, 0 replies; 6+ messages in thread
From: dpdklab @ 2020-09-25 10:51 UTC (permalink / raw)
To: Test Report; +Cc: dpdk-test-reports
[-- Attachment #1: Type: text/plain, Size: 1925 bytes --]
Test-Label: iol-intel-Performance
Test-Status: SUCCESS
http://dpdk.org/patch/78802
_Performance Testing PASS_
Submitter: Ciara Loftus <ciara.loftus@intel.com>
Date: Friday, September 25 2020 09:20:21
DPDK git baseline: Repo:dpdk-next-net
Branch: master
CommitID:78e03bf9792e0ae2ba3c3b762935dacaa9f71db6
78802 --> performance testing pass
Test environment and result as below:
Ubuntu 18.04
Kernel: 4.15.0-generic
Compiler: gcc 7.4
NIC: Intel Corporation Ethernet Converged Network Adapter XL710-QDA2 40000 Mbps
Target: x86_64-native-linuxapp-gcc
Fail/Total: 0/2
Detail performance results:
+------------+---------+-------------------------------------+
| frame_size | txd/rxd | throughput difference from expected |
+============+=========+=====================================+
| 64 | 512 | 2.953 |
+------------+---------+-------------------------------------+
| 64 | 2048 | 1.618 |
+------------+---------+-------------------------------------+
Ubuntu 18.04
Kernel: 4.15.0-generic
Compiler: gcc 7.4
NIC: Intel Corporation Ethernet Converged Network Adapter 82599ES 10000 Mbps
Target: x86_64-native-linuxapp-gcc
Fail/Total: 0/2
Detail performance results:
+------------+---------+-------------------------------------+
| frame_size | txd/rxd | throughput difference from expected |
+============+=========+=====================================+
| 64 | 512 | 2.288 |
+------------+---------+-------------------------------------+
| 64 | 2048 | 1.170 |
+------------+---------+-------------------------------------+
To view detailed results, visit:
https://lab.dpdk.org/results/dashboard/patchsets/13286/
UNH-IOL DPDK Community Lab
To manage your email subscriptions, visit:
https://lab.dpdk.org/results/dashboard/preferences/subscriptions/
^ permalink raw reply [flat|nested] 6+ messages in thread
* [dpdk-test-report] |SUCCESS| pw78802 [PATCH] [v3] net/af_xdp: custom XDP program loading
@ 2020-09-25 17:31 dpdklab
0 siblings, 0 replies; 6+ messages in thread
From: dpdklab @ 2020-09-25 17:31 UTC (permalink / raw)
To: Ali Alnubani, Test Report; +Cc: dpdk-test-reports
[-- Attachment #1: Type: text/plain, Size: 3975 bytes --]
Test-Label: iol-mellanox-Performance
Test-Status: SUCCESS
http://dpdk.org/patch/78802
_Performance Testing PASS_
Submitter: Ciara Loftus <ciara.loftus@intel.com>
Date: Friday, September 25 2020 09:20:21
DPDK git baseline: Repo:dpdk-next-net
Branch: master
CommitID:78e03bf9792e0ae2ba3c3b762935dacaa9f71db6
78802 --> performance testing pass
Test environment and result as below:
Ubuntu 18.04
Kernel: 4.15.0-generic
Compiler: gcc 7.4
NIC: Mellanox ConnectX-5 100000 Mbps
Target: x86_64-native-linuxapp-gcc
Fail/Total: 0/6
Detail performance results:
+------------+---------+-------------------------------------+
| frame_size | txd/rxd | throughput difference from expected |
+============+=========+=====================================+
| 64 | 256 | -0.345 |
+------------+---------+-------------------------------------+
| 128 | 256 | 0.116 |
+------------+---------+-------------------------------------+
| 256 | 256 | 0.093 |
+------------+---------+-------------------------------------+
| 512 | 256 | 0.184 |
+------------+---------+-------------------------------------+
| 1024 | 256 | 0.181 |
+------------+---------+-------------------------------------+
| 1518 | 256 | 0.032 |
+------------+---------+-------------------------------------+
Ubuntu 18.04
Kernel: 4.15.0-generic
Compiler: gcc 7.4
NIC: Mellanox ConnectX-4 Lx 25000 Mbps
Target: x86_64-native-linuxapp-gcc
Fail/Total: 0/6
Detail performance results:
+------------+---------+-------------------------------------+
| frame_size | txd/rxd | throughput difference from expected |
+============+=========+=====================================+
| 64 | 256 | -0.121 |
+------------+---------+-------------------------------------+
| 128 | 256 | -0.147 |
+------------+---------+-------------------------------------+
| 256 | 256 | -0.067 |
+------------+---------+-------------------------------------+
| 512 | 256 | 0.020 |
+------------+---------+-------------------------------------+
| 1024 | 256 | 0.015 |
+------------+---------+-------------------------------------+
| 1518 | 256 | 0.002 |
+------------+---------+-------------------------------------+
Ubuntu 18.04
Kernel: 4.15.0-generic
Compiler: gcc 7.4
NIC: Mellanox ConnectX-4 Lx 40000 Mbps
Target: x86_64-native-linuxapp-gcc
Fail/Total: 0/6
Detail performance results:
+------------+---------+-------------------------------------+
| frame_size | txd/rxd | throughput difference from expected |
+============+=========+=====================================+
| 64 | 256 | 0.231 |
+------------+---------+-------------------------------------+
| 128 | 256 | -0.041 |
+------------+---------+-------------------------------------+
| 256 | 256 | -0.086 |
+------------+---------+-------------------------------------+
| 512 | 256 | 0.037 |
+------------+---------+-------------------------------------+
| 1024 | 256 | -0.009 |
+------------+---------+-------------------------------------+
| 1518 | 256 | -0.010 |
+------------+---------+-------------------------------------+
To view detailed results, visit:
https://lab.dpdk.org/results/dashboard/patchsets/13286/
UNH-IOL DPDK Community Lab
To manage your email subscriptions, visit:
https://lab.dpdk.org/results/dashboard/preferences/subscriptions/
^ permalink raw reply [flat|nested] 6+ messages in thread
* [dpdk-test-report] |SUCCESS| pw78802 [PATCH] [v3] net/af_xdp: custom XDP program loading
@ 2020-09-25 10:32 dpdklab
0 siblings, 0 replies; 6+ messages in thread
From: dpdklab @ 2020-09-25 10:32 UTC (permalink / raw)
To: Test Report; +Cc: dpdk-test-reports
[-- Attachment #1: Type: text/plain, Size: 2002 bytes --]
Test-Label: iol-testing
Test-Status: SUCCESS
http://dpdk.org/patch/78802
_Testing PASS_
Submitter: Ciara Loftus <ciara.loftus@intel.com>
Date: Friday, September 25 2020 09:20:21
DPDK git baseline: Repo:dpdk-next-net
Branch: master
CommitID:78e03bf9792e0ae2ba3c3b762935dacaa9f71db6
78802 --> testing pass
Test environment and result as below:
+---------------------+--------------------+----------------+
| Environment | dpdk_meson_compile | dpdk_unit_test |
+=====================+====================+================+
| Windows Server 2019 | PASS | SKIPPED |
+---------------------+--------------------+----------------+
| FreeBSD 11.2 | PASS | SKIPPED |
+---------------------+--------------------+----------------+
| Fedora 31 | PASS | SKIPPED |
+---------------------+--------------------+----------------+
| CentOS 8 | PASS | SKIPPED |
+---------------------+--------------------+----------------+
| Ubuntu 18.04 | PASS | PASS |
+---------------------+--------------------+----------------+
| openSUSE Leap 15 | PASS | SKIPPED |
+---------------------+--------------------+----------------+
| Arch Linux | PASS | SKIPPED |
+---------------------+--------------------+----------------+
Windows Server 2019
Kernel: 10.0
Compiler: clang 9.0
FreeBSD 11.2
Kernel: 11.2
Compiler: gcc 8.3
Fedora 31
Kernel: 5.3.16
Compiler: gcc 9.2.1
CentOS 8
Kernel: 4.18.0.el8_0
Compiler: gcc 8.3.1
Ubuntu 18.04
Kernel: 4.15.0-generic
Compiler: gcc 7.4
openSUSE Leap 15
Kernel: 4.12.14
Compiler: gcc 7.4.1
Arch Linux
Kernel: latest
Compiler: gcc latest
To view detailed results, visit:
https://lab.dpdk.org/results/dashboard/patchsets/13286/
UNH-IOL DPDK Community Lab
To manage your email subscriptions, visit:
https://lab.dpdk.org/results/dashboard/preferences/subscriptions/
^ permalink raw reply [flat|nested] 6+ messages in thread
* [dpdk-test-report] |SUCCESS| pw78802 [PATCH] [v3] net/af_xdp: custom XDP program loading
@ 2020-09-25 10:31 dpdklab
0 siblings, 0 replies; 6+ messages in thread
From: dpdklab @ 2020-09-25 10:31 UTC (permalink / raw)
To: Ajit Khaparde, Test Report; +Cc: dpdk-test-reports
[-- Attachment #1: Type: text/plain, Size: 803 bytes --]
Test-Label: iol-broadcom-Functional
Test-Status: SUCCESS
http://dpdk.org/patch/78802
_Functional Testing PASS_
Submitter: Ciara Loftus <ciara.loftus@intel.com>
Date: Friday, September 25 2020 09:20:21
DPDK git baseline: Repo:dpdk-next-net
Branch: master
CommitID:78e03bf9792e0ae2ba3c3b762935dacaa9f71db6
78802 --> functional testing pass
Test environment and result as below:
Ubuntu 18.04
Kernel: 4.15.0-65-generic
Compiler: gcc gcc (Ubuntu 7.4.0-1ubuntu1~18.04.1) 7.4.0
NIC: Broadcom Inc. brcm_57414 25000 Mbps
Target: x86_64-native-linuxapp-gcc
Fail/Total: 0/3
To view detailed results, visit:
https://lab.dpdk.org/results/dashboard/patchsets/13286/
UNH-IOL DPDK Community Lab
To manage your email subscriptions, visit:
https://lab.dpdk.org/results/dashboard/preferences/subscriptions/
^ permalink raw reply [flat|nested] 6+ messages in thread
* [dpdk-test-report] |SUCCESS| pw78802 [PATCH] [v3] net/af_xdp: custom XDP program loading
@ 2020-09-25 10:31 dpdklab
0 siblings, 0 replies; 6+ messages in thread
From: dpdklab @ 2020-09-25 10:31 UTC (permalink / raw)
To: Test Report; +Cc: dpdk-test-reports
[-- Attachment #1: Type: text/plain, Size: 798 bytes --]
Test-Label: iol-intel-Functional
Test-Status: SUCCESS
http://dpdk.org/patch/78802
_Functional Testing PASS_
Submitter: Ciara Loftus <ciara.loftus@intel.com>
Date: Friday, September 25 2020 09:20:21
DPDK git baseline: Repo:dpdk-next-net
Branch: master
CommitID:78e03bf9792e0ae2ba3c3b762935dacaa9f71db6
78802 --> functional testing pass
Test environment and result as below:
Ubuntu 18.04
Kernel: 4.15.0-generic
Compiler: gcc 7.4
NIC: Intel Corporation Ethernet Converged Network Adapter XL710-QDA2 40000 Mbps
Target: x86_64-native-linuxapp-gcc
Fail/Total: 0/4
To view detailed results, visit:
https://lab.dpdk.org/results/dashboard/patchsets/13286/
UNH-IOL DPDK Community Lab
To manage your email subscriptions, visit:
https://lab.dpdk.org/results/dashboard/preferences/subscriptions/
^ permalink raw reply [flat|nested] 6+ messages in thread
* [dpdk-test-report] |SUCCESS| pw78802 [PATCH] [v3] net/af_xdp: custom XDP program loading
@ 2020-09-25 10:24 dpdklab
0 siblings, 0 replies; 6+ messages in thread
From: dpdklab @ 2020-09-25 10:24 UTC (permalink / raw)
To: Ajit Khaparde, Test Report; +Cc: dpdk-test-reports
[-- Attachment #1: Type: text/plain, Size: 1276 bytes --]
Test-Label: iol-broadcom-Performance
Test-Status: SUCCESS
http://dpdk.org/patch/78802
_Performance Testing PASS_
Submitter: Ciara Loftus <ciara.loftus@intel.com>
Date: Friday, September 25 2020 09:20:21
DPDK git baseline: Repo:dpdk-next-net
Branch: master
CommitID:78e03bf9792e0ae2ba3c3b762935dacaa9f71db6
78802 --> performance testing pass
Test environment and result as below:
Ubuntu 18.04
Kernel: 4.15.0-65-generic
Compiler: gcc gcc (Ubuntu 7.4.0-1ubuntu1~18.04.1) 7.4.0
NIC: Broadcom Inc. brcm_57414 25000 Mbps
Target: x86_64-native-linuxapp-gcc
Fail/Total: 0/2
Detail performance results:
+------------+---------+-------------------------------------+
| frame_size | txd/rxd | throughput difference from expected |
+============+=========+=====================================+
| 64 | 512 | 0.060 |
+------------+---------+-------------------------------------+
| 64 | 2048 | -0.012 |
+------------+---------+-------------------------------------+
To view detailed results, visit:
https://lab.dpdk.org/results/dashboard/patchsets/13286/
UNH-IOL DPDK Community Lab
To manage your email subscriptions, visit:
https://lab.dpdk.org/results/dashboard/preferences/subscriptions/
^ permalink raw reply [flat|nested] 6+ messages in thread
end of thread, other threads:[~2020-09-25 17:31 UTC | newest]
Thread overview: 6+ messages (download: mbox.gz / follow: Atom feed)
-- links below jump to the message on this page --
2020-09-25 10:51 [dpdk-test-report] |SUCCESS| pw78802 [PATCH] [v3] net/af_xdp: custom XDP program loading dpdklab
-- strict thread matches above, loose matches on Subject: below --
2020-09-25 17:31 dpdklab
2020-09-25 10:32 dpdklab
2020-09-25 10:31 dpdklab
2020-09-25 10:31 dpdklab
2020-09-25 10:24 dpdklab
This is a public inbox, see mirroring instructions
for how to clone and mirror all data and code used for this inbox;
as well as URLs for NNTP newsgroup(s).