* [dpdk-test-report] |SUCCESS| pw79821-79817 [PATCH] [v7, 8/8] sched: remove redundant code
@ 2020-10-06 19:18 dpdklab
0 siblings, 0 replies; 6+ messages in thread
From: dpdklab @ 2020-10-06 19:18 UTC (permalink / raw)
To: Test Report; +Cc: dpdk-test-reports
[-- Attachment #1: Type: text/plain, Size: 804 bytes --]
Test-Label: iol-intel-Functional
Test-Status: SUCCESS
http://dpdk.org/patch/79817
_Functional Testing PASS_
Submitter: Savinay Dharmappa <savinay.dharmappa@intel.com>
Date: Tuesday, October 06 2020 18:02:33
DPDK git baseline: Repo:dpdk
Branch: master
CommitID:100d9b8066e957d2302277761ea46fdb78857bac
79821-79817 --> functional testing pass
Test environment and result as below:
Ubuntu 18.04
Kernel: 4.15.0-generic
Compiler: gcc 7.4
NIC: Intel Corporation Ethernet Converged Network Adapter XL710-QDA2 40000 Mbps
Target: x86_64-native-linuxapp-gcc
Fail/Total: 0/4
To view detailed results, visit:
https://lab.dpdk.org/results/dashboard/patchsets/13487/
UNH-IOL DPDK Community Lab
To manage your email subscriptions, visit:
https://lab.dpdk.org/results/dashboard/preferences/subscriptions/
^ permalink raw reply [flat|nested] 6+ messages in thread
* [dpdk-test-report] |SUCCESS| pw79821-79817 [PATCH] [v7, 8/8] sched: remove redundant code
@ 2020-10-07 4:07 dpdklab
0 siblings, 0 replies; 6+ messages in thread
From: dpdklab @ 2020-10-07 4:07 UTC (permalink / raw)
To: Ali Alnubani, Test Report; +Cc: dpdk-test-reports
[-- Attachment #1: Type: text/plain, Size: 3981 bytes --]
Test-Label: iol-mellanox-Performance
Test-Status: SUCCESS
http://dpdk.org/patch/79817
_Performance Testing PASS_
Submitter: Savinay Dharmappa <savinay.dharmappa@intel.com>
Date: Tuesday, October 06 2020 18:02:33
DPDK git baseline: Repo:dpdk
Branch: master
CommitID:100d9b8066e957d2302277761ea46fdb78857bac
79821-79817 --> performance testing pass
Test environment and result as below:
Ubuntu 18.04
Kernel: 4.15.0-generic
Compiler: gcc 7.4
NIC: Mellanox ConnectX-5 100000 Mbps
Target: x86_64-native-linuxapp-gcc
Fail/Total: 0/6
Detail performance results:
+------------+---------+-------------------------------------+
| frame_size | txd/rxd | throughput difference from expected |
+============+=========+=====================================+
| 64 | 256 | -0.118 |
+------------+---------+-------------------------------------+
| 128 | 256 | -0.133 |
+------------+---------+-------------------------------------+
| 256 | 256 | 0.341 |
+------------+---------+-------------------------------------+
| 512 | 256 | 0.113 |
+------------+---------+-------------------------------------+
| 1024 | 256 | 0.151 |
+------------+---------+-------------------------------------+
| 1518 | 256 | 0.012 |
+------------+---------+-------------------------------------+
Ubuntu 18.04
Kernel: 4.15.0-generic
Compiler: gcc 7.4
NIC: Mellanox ConnectX-4 Lx 25000 Mbps
Target: x86_64-native-linuxapp-gcc
Fail/Total: 0/6
Detail performance results:
+------------+---------+-------------------------------------+
| frame_size | txd/rxd | throughput difference from expected |
+============+=========+=====================================+
| 64 | 256 | -0.286 |
+------------+---------+-------------------------------------+
| 128 | 256 | -0.152 |
+------------+---------+-------------------------------------+
| 256 | 256 | -0.019 |
+------------+---------+-------------------------------------+
| 512 | 256 | -0.074 |
+------------+---------+-------------------------------------+
| 1024 | 256 | 0 |
+------------+---------+-------------------------------------+
| 1518 | 256 | 0 |
+------------+---------+-------------------------------------+
Ubuntu 18.04
Kernel: 4.15.0-generic
Compiler: gcc 7.4
NIC: Mellanox ConnectX-4 Lx 40000 Mbps
Target: x86_64-native-linuxapp-gcc
Fail/Total: 0/6
Detail performance results:
+------------+---------+-------------------------------------+
| frame_size | txd/rxd | throughput difference from expected |
+============+=========+=====================================+
| 64 | 256 | 0.068 |
+------------+---------+-------------------------------------+
| 128 | 256 | -0.292 |
+------------+---------+-------------------------------------+
| 256 | 256 | -0.099 |
+------------+---------+-------------------------------------+
| 512 | 256 | 0.008 |
+------------+---------+-------------------------------------+
| 1024 | 256 | 0.003 |
+------------+---------+-------------------------------------+
| 1518 | 256 | -0.010 |
+------------+---------+-------------------------------------+
To view detailed results, visit:
https://lab.dpdk.org/results/dashboard/patchsets/13487/
UNH-IOL DPDK Community Lab
To manage your email subscriptions, visit:
https://lab.dpdk.org/results/dashboard/preferences/subscriptions/
^ permalink raw reply [flat|nested] 6+ messages in thread
* [dpdk-test-report] |SUCCESS| pw79821-79817 [PATCH] [v7, 8/8] sched: remove redundant code
@ 2020-10-06 20:01 dpdklab
0 siblings, 0 replies; 6+ messages in thread
From: dpdklab @ 2020-10-06 20:01 UTC (permalink / raw)
To: Test Report; +Cc: dpdk-test-reports
[-- Attachment #1: Type: text/plain, Size: 1931 bytes --]
Test-Label: iol-intel-Performance
Test-Status: SUCCESS
http://dpdk.org/patch/79817
_Performance Testing PASS_
Submitter: Savinay Dharmappa <savinay.dharmappa@intel.com>
Date: Tuesday, October 06 2020 18:02:33
DPDK git baseline: Repo:dpdk
Branch: master
CommitID:100d9b8066e957d2302277761ea46fdb78857bac
79821-79817 --> performance testing pass
Test environment and result as below:
Ubuntu 18.04
Kernel: 4.15.0-generic
Compiler: gcc 7.4
NIC: Intel Corporation Ethernet Converged Network Adapter XL710-QDA2 40000 Mbps
Target: x86_64-native-linuxapp-gcc
Fail/Total: 0/2
Detail performance results:
+------------+---------+-------------------------------------+
| frame_size | txd/rxd | throughput difference from expected |
+============+=========+=====================================+
| 64 | 512 | 2.923 |
+------------+---------+-------------------------------------+
| 64 | 2048 | 1.562 |
+------------+---------+-------------------------------------+
Ubuntu 18.04
Kernel: 4.15.0-generic
Compiler: gcc 7.4
NIC: Intel Corporation Ethernet Converged Network Adapter 82599ES 10000 Mbps
Target: x86_64-native-linuxapp-gcc
Fail/Total: 0/2
Detail performance results:
+------------+---------+-------------------------------------+
| frame_size | txd/rxd | throughput difference from expected |
+============+=========+=====================================+
| 64 | 512 | 2.339 |
+------------+---------+-------------------------------------+
| 64 | 2048 | 1.050 |
+------------+---------+-------------------------------------+
To view detailed results, visit:
https://lab.dpdk.org/results/dashboard/patchsets/13487/
UNH-IOL DPDK Community Lab
To manage your email subscriptions, visit:
https://lab.dpdk.org/results/dashboard/preferences/subscriptions/
^ permalink raw reply [flat|nested] 6+ messages in thread
* [dpdk-test-report] |SUCCESS| pw79821-79817 [PATCH] [v7, 8/8] sched: remove redundant code
@ 2020-10-06 19:08 dpdklab
0 siblings, 0 replies; 6+ messages in thread
From: dpdklab @ 2020-10-06 19:08 UTC (permalink / raw)
To: Test Report; +Cc: dpdk-test-reports
[-- Attachment #1: Type: text/plain, Size: 2185 bytes --]
Test-Label: iol-testing
Test-Status: SUCCESS
http://dpdk.org/patch/79817
_Testing PASS_
Submitter: Savinay Dharmappa <savinay.dharmappa@intel.com>
Date: Tuesday, October 06 2020 18:02:33
DPDK git baseline: Repo:dpdk
Branch: master
CommitID:100d9b8066e957d2302277761ea46fdb78857bac
79821-79817 --> testing pass
Test environment and result as below:
+---------------------+--------------------+----------------+
| Environment | dpdk_meson_compile | dpdk_unit_test |
+=====================+====================+================+
| Windows Server 2019 | PASS | SKIPPED |
+---------------------+--------------------+----------------+
| FreeBSD 11.2 | PASS | SKIPPED |
+---------------------+--------------------+----------------+
| Ubuntu 18.04 | PASS | PASS |
+---------------------+--------------------+----------------+
| CentOS 8 | PASS | SKIPPED |
+---------------------+--------------------+----------------+
| openSUSE Leap 15 | PASS | SKIPPED |
+---------------------+--------------------+----------------+
| Fedora Rawhide | PASS | SKIPPED |
+---------------------+--------------------+----------------+
| Fedora 31 | PASS | SKIPPED |
+---------------------+--------------------+----------------+
| Arch Linux | PASS | SKIPPED |
+---------------------+--------------------+----------------+
Windows Server 2019
Kernel: 10.0
Compiler: clang 9.0
FreeBSD 11.2
Kernel: 11.2
Compiler: gcc 8.3
Ubuntu 18.04
Kernel: 4.15.0-generic
Compiler: gcc 7.4
CentOS 8
Kernel: 4.18.0.el8_0
Compiler: gcc 8.3.1
openSUSE Leap 15
Kernel: 4.12.14
Compiler: gcc 7.4.1
Fedora Rawhide
Kernel: 5.6.8
Compiler: gcc 10.2.1
Fedora 31
Kernel: 5.3.16
Compiler: gcc 9.2.1
Arch Linux
Kernel: latest
Compiler: gcc latest
To view detailed results, visit:
https://lab.dpdk.org/results/dashboard/patchsets/13487/
UNH-IOL DPDK Community Lab
To manage your email subscriptions, visit:
https://lab.dpdk.org/results/dashboard/preferences/subscriptions/
^ permalink raw reply [flat|nested] 6+ messages in thread
* [dpdk-test-report] |SUCCESS| pw79821-79817 [PATCH] [v7, 8/8] sched: remove redundant code
@ 2020-10-06 18:50 dpdklab
0 siblings, 0 replies; 6+ messages in thread
From: dpdklab @ 2020-10-06 18:50 UTC (permalink / raw)
To: Ajit Khaparde, Test Report; +Cc: dpdk-test-reports
[-- Attachment #1: Type: text/plain, Size: 1282 bytes --]
Test-Label: iol-broadcom-Performance
Test-Status: SUCCESS
http://dpdk.org/patch/79817
_Performance Testing PASS_
Submitter: Savinay Dharmappa <savinay.dharmappa@intel.com>
Date: Tuesday, October 06 2020 18:02:33
DPDK git baseline: Repo:dpdk
Branch: master
CommitID:100d9b8066e957d2302277761ea46fdb78857bac
79821-79817 --> performance testing pass
Test environment and result as below:
Ubuntu 18.04
Kernel: 4.15.0-65-generic
Compiler: gcc gcc (Ubuntu 7.4.0-1ubuntu1~18.04.1) 7.4.0
NIC: Broadcom Inc. brcm_57414 25000 Mbps
Target: x86_64-native-linuxapp-gcc
Fail/Total: 0/2
Detail performance results:
+------------+---------+-------------------------------------+
| frame_size | txd/rxd | throughput difference from expected |
+============+=========+=====================================+
| 64 | 512 | -0.006 |
+------------+---------+-------------------------------------+
| 64 | 2048 | -0.099 |
+------------+---------+-------------------------------------+
To view detailed results, visit:
https://lab.dpdk.org/results/dashboard/patchsets/13487/
UNH-IOL DPDK Community Lab
To manage your email subscriptions, visit:
https://lab.dpdk.org/results/dashboard/preferences/subscriptions/
^ permalink raw reply [flat|nested] 6+ messages in thread
* [dpdk-test-report] |SUCCESS| pw79821-79817 [PATCH] [v7, 8/8] sched: remove redundant code
@ 2020-10-06 18:44 dpdklab
0 siblings, 0 replies; 6+ messages in thread
From: dpdklab @ 2020-10-06 18:44 UTC (permalink / raw)
To: Ajit Khaparde, Test Report; +Cc: dpdk-test-reports
[-- Attachment #1: Type: text/plain, Size: 809 bytes --]
Test-Label: iol-broadcom-Functional
Test-Status: SUCCESS
http://dpdk.org/patch/79817
_Functional Testing PASS_
Submitter: Savinay Dharmappa <savinay.dharmappa@intel.com>
Date: Tuesday, October 06 2020 18:02:33
DPDK git baseline: Repo:dpdk
Branch: master
CommitID:100d9b8066e957d2302277761ea46fdb78857bac
79821-79817 --> functional testing pass
Test environment and result as below:
Ubuntu 18.04
Kernel: 4.15.0-65-generic
Compiler: gcc gcc (Ubuntu 7.4.0-1ubuntu1~18.04.1) 7.4.0
NIC: Broadcom Inc. brcm_57414 25000 Mbps
Target: x86_64-native-linuxapp-gcc
Fail/Total: 0/3
To view detailed results, visit:
https://lab.dpdk.org/results/dashboard/patchsets/13487/
UNH-IOL DPDK Community Lab
To manage your email subscriptions, visit:
https://lab.dpdk.org/results/dashboard/preferences/subscriptions/
^ permalink raw reply [flat|nested] 6+ messages in thread
end of thread, other threads:[~2020-10-07 4:07 UTC | newest]
Thread overview: 6+ messages (download: mbox.gz / follow: Atom feed)
-- links below jump to the message on this page --
2020-10-06 19:18 [dpdk-test-report] |SUCCESS| pw79821-79817 [PATCH] [v7, 8/8] sched: remove redundant code dpdklab
-- strict thread matches above, loose matches on Subject: below --
2020-10-07 4:07 dpdklab
2020-10-06 20:01 dpdklab
2020-10-06 19:08 dpdklab
2020-10-06 18:50 dpdklab
2020-10-06 18:44 dpdklab
This is a public inbox, see mirroring instructions
for how to clone and mirror all data and code used for this inbox;
as well as URLs for NNTP newsgroup(s).