* [dpdk-test-report] |SUCCESS| pw80602-80603 [PATCH] [v2, 2/2] lib/ethdev: fix memory ordering for call back functions
@ 2020-10-13 17:57 dpdklab
0 siblings, 0 replies; 6+ messages in thread
From: dpdklab @ 2020-10-13 17:57 UTC (permalink / raw)
To: Test Report; +Cc: dpdk-test-reports
[-- Attachment #1: Type: text/plain, Size: 808 bytes --]
Test-Label: iol-intel-Functional
Test-Status: SUCCESS
http://dpdk.org/patch/80603
_Functional Testing PASS_
Submitter: Honnappa Nagarahalli <honnappa.nagarahalli@arm.com>
Date: Tuesday, October 13 2020 16:25:37
DPDK git baseline: Repo:dpdk
Branch: master
CommitID:7cf3d07c3adcb015c303e4cdf2ef9712a65ce46d
80602-80603 --> functional testing pass
Test environment and result as below:
Ubuntu 18.04
Kernel: 4.15.0-generic
Compiler: gcc 7.4
NIC: Intel Corporation Ethernet Converged Network Adapter XL710-QDA2 40000 Mbps
Target: x86_64-native-linuxapp-gcc
Fail/Total: 0/4
To view detailed results, visit:
https://lab.dpdk.org/results/dashboard/patchsets/13676/
UNH-IOL DPDK Community Lab
To manage your email subscriptions, visit:
https://lab.dpdk.org/results/dashboard/preferences/subscriptions/
^ permalink raw reply [flat|nested] 6+ messages in thread
* [dpdk-test-report] |SUCCESS| pw80602-80603 [PATCH] [v2, 2/2] lib/ethdev: fix memory ordering for call back functions
@ 2020-10-13 22:18 dpdklab
0 siblings, 0 replies; 6+ messages in thread
From: dpdklab @ 2020-10-13 22:18 UTC (permalink / raw)
To: Ali Alnubani, Test Report; +Cc: dpdk-test-reports
[-- Attachment #1: Type: text/plain, Size: 3985 bytes --]
Test-Label: iol-mellanox-Performance
Test-Status: SUCCESS
http://dpdk.org/patch/80603
_Performance Testing PASS_
Submitter: Honnappa Nagarahalli <honnappa.nagarahalli@arm.com>
Date: Tuesday, October 13 2020 16:25:37
DPDK git baseline: Repo:dpdk
Branch: master
CommitID:7cf3d07c3adcb015c303e4cdf2ef9712a65ce46d
80602-80603 --> performance testing pass
Test environment and result as below:
Ubuntu 18.04
Kernel: 4.15.0-generic
Compiler: gcc 7.4
NIC: Mellanox ConnectX-5 100000 Mbps
Target: x86_64-native-linuxapp-gcc
Fail/Total: 0/6
Detail performance results:
+------------+---------+-------------------------------------+
| frame_size | txd/rxd | throughput difference from expected |
+============+=========+=====================================+
| 64 | 256 | 0.422 |
+------------+---------+-------------------------------------+
| 128 | 256 | 0.162 |
+------------+---------+-------------------------------------+
| 256 | 256 | -0.074 |
+------------+---------+-------------------------------------+
| 512 | 256 | -0.185 |
+------------+---------+-------------------------------------+
| 1024 | 256 | 0.088 |
+------------+---------+-------------------------------------+
| 1518 | 256 | -0.007 |
+------------+---------+-------------------------------------+
Ubuntu 18.04
Kernel: 4.15.0-generic
Compiler: gcc 7.4
NIC: Mellanox ConnectX-4 Lx 25000 Mbps
Target: x86_64-native-linuxapp-gcc
Fail/Total: 0/6
Detail performance results:
+------------+---------+-------------------------------------+
| frame_size | txd/rxd | throughput difference from expected |
+============+=========+=====================================+
| 64 | 256 | 0.019 |
+------------+---------+-------------------------------------+
| 128 | 256 | 0.112 |
+------------+---------+-------------------------------------+
| 256 | 256 | -0.292 |
+------------+---------+-------------------------------------+
| 512 | 256 | -0.002 |
+------------+---------+-------------------------------------+
| 1024 | 256 | 0.011 |
+------------+---------+-------------------------------------+
| 1518 | 256 | 0.006 |
+------------+---------+-------------------------------------+
Ubuntu 18.04
Kernel: 4.15.0-generic
Compiler: gcc 7.4
NIC: Mellanox ConnectX-4 Lx 40000 Mbps
Target: x86_64-native-linuxapp-gcc
Fail/Total: 0/6
Detail performance results:
+------------+---------+-------------------------------------+
| frame_size | txd/rxd | throughput difference from expected |
+============+=========+=====================================+
| 64 | 256 | 0.188 |
+------------+---------+-------------------------------------+
| 128 | 256 | 0.136 |
+------------+---------+-------------------------------------+
| 256 | 256 | 0.373 |
+------------+---------+-------------------------------------+
| 512 | 256 | 0.017 |
+------------+---------+-------------------------------------+
| 1024 | 256 | 0 |
+------------+---------+-------------------------------------+
| 1518 | 256 | 0 |
+------------+---------+-------------------------------------+
To view detailed results, visit:
https://lab.dpdk.org/results/dashboard/patchsets/13676/
UNH-IOL DPDK Community Lab
To manage your email subscriptions, visit:
https://lab.dpdk.org/results/dashboard/preferences/subscriptions/
^ permalink raw reply [flat|nested] 6+ messages in thread
* [dpdk-test-report] |SUCCESS| pw80602-80603 [PATCH] [v2, 2/2] lib/ethdev: fix memory ordering for call back functions
@ 2020-10-13 18:22 dpdklab
0 siblings, 0 replies; 6+ messages in thread
From: dpdklab @ 2020-10-13 18:22 UTC (permalink / raw)
To: Test Report; +Cc: dpdk-test-reports
[-- Attachment #1: Type: text/plain, Size: 1935 bytes --]
Test-Label: iol-intel-Performance
Test-Status: SUCCESS
http://dpdk.org/patch/80603
_Performance Testing PASS_
Submitter: Honnappa Nagarahalli <honnappa.nagarahalli@arm.com>
Date: Tuesday, October 13 2020 16:25:37
DPDK git baseline: Repo:dpdk
Branch: master
CommitID:7cf3d07c3adcb015c303e4cdf2ef9712a65ce46d
80602-80603 --> performance testing pass
Test environment and result as below:
Ubuntu 18.04
Kernel: 4.15.0-generic
Compiler: gcc 7.4
NIC: Intel Corporation Ethernet Converged Network Adapter XL710-QDA2 40000 Mbps
Target: x86_64-native-linuxapp-gcc
Fail/Total: 0/2
Detail performance results:
+------------+---------+-------------------------------------+
| frame_size | txd/rxd | throughput difference from expected |
+============+=========+=====================================+
| 64 | 512 | 2.968 |
+------------+---------+-------------------------------------+
| 64 | 2048 | 1.503 |
+------------+---------+-------------------------------------+
Ubuntu 18.04
Kernel: 4.15.0-generic
Compiler: gcc 7.4
NIC: Intel Corporation Ethernet Converged Network Adapter 82599ES 10000 Mbps
Target: x86_64-native-linuxapp-gcc
Fail/Total: 0/2
Detail performance results:
+------------+---------+-------------------------------------+
| frame_size | txd/rxd | throughput difference from expected |
+============+=========+=====================================+
| 64 | 512 | 2.242 |
+------------+---------+-------------------------------------+
| 64 | 2048 | 0.839 |
+------------+---------+-------------------------------------+
To view detailed results, visit:
https://lab.dpdk.org/results/dashboard/patchsets/13676/
UNH-IOL DPDK Community Lab
To manage your email subscriptions, visit:
https://lab.dpdk.org/results/dashboard/preferences/subscriptions/
^ permalink raw reply [flat|nested] 6+ messages in thread
* [dpdk-test-report] |SUCCESS| pw80602-80603 [PATCH] [v2, 2/2] lib/ethdev: fix memory ordering for call back functions
@ 2020-10-13 17:41 dpdklab
0 siblings, 0 replies; 6+ messages in thread
From: dpdklab @ 2020-10-13 17:41 UTC (permalink / raw)
To: Test Report; +Cc: dpdk-test-reports
[-- Attachment #1: Type: text/plain, Size: 2012 bytes --]
Test-Label: iol-testing
Test-Status: SUCCESS
http://dpdk.org/patch/80603
_Testing PASS_
Submitter: Honnappa Nagarahalli <honnappa.nagarahalli@arm.com>
Date: Tuesday, October 13 2020 16:25:37
DPDK git baseline: Repo:dpdk
Branch: master
CommitID:7cf3d07c3adcb015c303e4cdf2ef9712a65ce46d
80602-80603 --> testing pass
Test environment and result as below:
+---------------------+--------------------+----------------+
| Environment | dpdk_meson_compile | dpdk_unit_test |
+=====================+====================+================+
| Windows Server 2019 | PASS | SKIPPED |
+---------------------+--------------------+----------------+
| FreeBSD 11.2 | PASS | SKIPPED |
+---------------------+--------------------+----------------+
| Fedora 31 | PASS | SKIPPED |
+---------------------+--------------------+----------------+
| CentOS 8 | PASS | SKIPPED |
+---------------------+--------------------+----------------+
| openSUSE Leap 15 | PASS | SKIPPED |
+---------------------+--------------------+----------------+
| Arch Linux | PASS | SKIPPED |
+---------------------+--------------------+----------------+
| Ubuntu 18.04 | PASS | PASS |
+---------------------+--------------------+----------------+
Windows Server 2019
Kernel: 10.0
Compiler: clang 9.0
FreeBSD 11.2
Kernel: 11.2
Compiler: gcc 8.3
Fedora 31
Kernel: 5.3.16
Compiler: gcc 9.2.1
CentOS 8
Kernel: 4.18.0.el8_0
Compiler: gcc 8.3.1
openSUSE Leap 15
Kernel: 4.12.14
Compiler: gcc 7.4.1
Arch Linux
Kernel: latest
Compiler: gcc latest
Ubuntu 18.04
Kernel: 4.15.0-generic
Compiler: gcc 7.4
To view detailed results, visit:
https://lab.dpdk.org/results/dashboard/patchsets/13676/
UNH-IOL DPDK Community Lab
To manage your email subscriptions, visit:
https://lab.dpdk.org/results/dashboard/preferences/subscriptions/
^ permalink raw reply [flat|nested] 6+ messages in thread
* [dpdk-test-report] |SUCCESS| pw80602-80603 [PATCH] [v2, 2/2] lib/ethdev: fix memory ordering for call back functions
@ 2020-10-13 17:23 dpdklab
0 siblings, 0 replies; 6+ messages in thread
From: dpdklab @ 2020-10-13 17:23 UTC (permalink / raw)
To: Ajit Khaparde, Test Report; +Cc: dpdk-test-reports
[-- Attachment #1: Type: text/plain, Size: 1286 bytes --]
Test-Label: iol-broadcom-Performance
Test-Status: SUCCESS
http://dpdk.org/patch/80603
_Performance Testing PASS_
Submitter: Honnappa Nagarahalli <honnappa.nagarahalli@arm.com>
Date: Tuesday, October 13 2020 16:25:37
DPDK git baseline: Repo:dpdk
Branch: master
CommitID:7cf3d07c3adcb015c303e4cdf2ef9712a65ce46d
80602-80603 --> performance testing pass
Test environment and result as below:
Ubuntu 18.04
Kernel: 4.15.0-65-generic
Compiler: gcc gcc (Ubuntu 7.4.0-1ubuntu1~18.04.1) 7.4.0
NIC: Broadcom Inc. brcm_57414 25000 Mbps
Target: x86_64-native-linuxapp-gcc
Fail/Total: 0/2
Detail performance results:
+------------+---------+-------------------------------------+
| frame_size | txd/rxd | throughput difference from expected |
+============+=========+=====================================+
| 64 | 512 | -0.005 |
+------------+---------+-------------------------------------+
| 64 | 2048 | -0.008 |
+------------+---------+-------------------------------------+
To view detailed results, visit:
https://lab.dpdk.org/results/dashboard/patchsets/13676/
UNH-IOL DPDK Community Lab
To manage your email subscriptions, visit:
https://lab.dpdk.org/results/dashboard/preferences/subscriptions/
^ permalink raw reply [flat|nested] 6+ messages in thread
* [dpdk-test-report] |SUCCESS| pw80602-80603 [PATCH] [v2, 2/2] lib/ethdev: fix memory ordering for call back functions
@ 2020-10-13 17:17 dpdklab
0 siblings, 0 replies; 6+ messages in thread
From: dpdklab @ 2020-10-13 17:17 UTC (permalink / raw)
To: Ajit Khaparde, Test Report; +Cc: dpdk-test-reports
[-- Attachment #1: Type: text/plain, Size: 813 bytes --]
Test-Label: iol-broadcom-Functional
Test-Status: SUCCESS
http://dpdk.org/patch/80603
_Functional Testing PASS_
Submitter: Honnappa Nagarahalli <honnappa.nagarahalli@arm.com>
Date: Tuesday, October 13 2020 16:25:37
DPDK git baseline: Repo:dpdk
Branch: master
CommitID:7cf3d07c3adcb015c303e4cdf2ef9712a65ce46d
80602-80603 --> functional testing pass
Test environment and result as below:
Ubuntu 18.04
Kernel: 4.15.0-65-generic
Compiler: gcc gcc (Ubuntu 7.4.0-1ubuntu1~18.04.1) 7.4.0
NIC: Broadcom Inc. brcm_57414 25000 Mbps
Target: x86_64-native-linuxapp-gcc
Fail/Total: 0/3
To view detailed results, visit:
https://lab.dpdk.org/results/dashboard/patchsets/13676/
UNH-IOL DPDK Community Lab
To manage your email subscriptions, visit:
https://lab.dpdk.org/results/dashboard/preferences/subscriptions/
^ permalink raw reply [flat|nested] 6+ messages in thread
end of thread, other threads:[~2020-10-13 22:18 UTC | newest]
Thread overview: 6+ messages (download: mbox.gz / follow: Atom feed)
-- links below jump to the message on this page --
2020-10-13 17:57 [dpdk-test-report] |SUCCESS| pw80602-80603 [PATCH] [v2, 2/2] lib/ethdev: fix memory ordering for call back functions dpdklab
-- strict thread matches above, loose matches on Subject: below --
2020-10-13 22:18 dpdklab
2020-10-13 18:22 dpdklab
2020-10-13 17:41 dpdklab
2020-10-13 17:23 dpdklab
2020-10-13 17:17 dpdklab
This is a public inbox, see mirroring instructions
for how to clone and mirror all data and code used for this inbox;
as well as URLs for NNTP newsgroup(s).