* [dpdk-test-report] |SUCCESS| pw80797 [PATCH] [v4, 1/2] ethdev: add VLAN attributes to ETH and VLAN items
@ 2020-10-15 8:43 dpdklab
0 siblings, 0 replies; 7+ messages in thread
From: dpdklab @ 2020-10-15 8:43 UTC (permalink / raw)
To: Ali Alnubani, Test Report; +Cc: dpdk-test-reports
[-- Attachment #1: Type: text/plain, Size: 3961 bytes --]
Test-Label: iol-mellanox-Performance
Test-Status: SUCCESS
http://dpdk.org/patch/80797
_Performance Testing PASS_
Submitter: Dekel Peled <dekelp@nvidia.com>
Date: Wednesday, October 14 2020 18:53:27
DPDK git baseline: Repo:dpdk
Branch: master
CommitID:9d3ad80abd34f2420998d94606e208518d330bcc
80797 --> performance testing pass
Test environment and result as below:
Ubuntu 18.04
Kernel: 4.15.0-generic
Compiler: gcc 7.4
NIC: Mellanox ConnectX-5 100000 Mbps
Target: x86_64-native-linuxapp-gcc
Fail/Total: 0/6
Detail performance results:
+------------+---------+-------------------------------------+
| frame_size | txd/rxd | throughput difference from expected |
+============+=========+=====================================+
| 64 | 256 | -0.107 |
+------------+---------+-------------------------------------+
| 128 | 256 | 0.158 |
+------------+---------+-------------------------------------+
| 256 | 256 | -0.070 |
+------------+---------+-------------------------------------+
| 512 | 256 | -0.221 |
+------------+---------+-------------------------------------+
| 1024 | 256 | -0.107 |
+------------+---------+-------------------------------------+
| 1518 | 256 | -0.017 |
+------------+---------+-------------------------------------+
Ubuntu 18.04
Kernel: 4.15.0-generic
Compiler: gcc 7.4
NIC: Mellanox ConnectX-4 Lx 25000 Mbps
Target: x86_64-native-linuxapp-gcc
Fail/Total: 0/6
Detail performance results:
+------------+---------+-------------------------------------+
| frame_size | txd/rxd | throughput difference from expected |
+============+=========+=====================================+
| 64 | 256 | -0.168 |
+------------+---------+-------------------------------------+
| 128 | 256 | -0.012 |
+------------+---------+-------------------------------------+
| 256 | 256 | -0.111 |
+------------+---------+-------------------------------------+
| 512 | 256 | 0.005 |
+------------+---------+-------------------------------------+
| 1024 | 256 | 0 |
+------------+---------+-------------------------------------+
| 1518 | 256 | -0.004 |
+------------+---------+-------------------------------------+
Ubuntu 18.04
Kernel: 4.15.0-generic
Compiler: gcc 7.4
NIC: Mellanox ConnectX-4 Lx 40000 Mbps
Target: x86_64-native-linuxapp-gcc
Fail/Total: 0/6
Detail performance results:
+------------+---------+-------------------------------------+
| frame_size | txd/rxd | throughput difference from expected |
+============+=========+=====================================+
| 64 | 256 | -0.064 |
+------------+---------+-------------------------------------+
| 128 | 256 | 0.268 |
+------------+---------+-------------------------------------+
| 256 | 256 | -0.116 |
+------------+---------+-------------------------------------+
| 512 | 256 | 0.017 |
+------------+---------+-------------------------------------+
| 1024 | 256 | -0.011 |
+------------+---------+-------------------------------------+
| 1518 | 256 | -0.005 |
+------------+---------+-------------------------------------+
To view detailed results, visit:
https://lab.dpdk.org/results/dashboard/patchsets/13714/
UNH-IOL DPDK Community Lab
To manage your email subscriptions, visit:
https://lab.dpdk.org/results/dashboard/preferences/subscriptions/
^ permalink raw reply [flat|nested] 7+ messages in thread
* [dpdk-test-report] |SUCCESS| pw80797 [PATCH] [v4, 1/2] ethdev: add VLAN attributes to ETH and VLAN items
@ 2020-10-14 20:42 dpdklab
0 siblings, 0 replies; 7+ messages in thread
From: dpdklab @ 2020-10-14 20:42 UTC (permalink / raw)
To: Test Report; +Cc: dpdk-test-reports
[-- Attachment #1: Type: text/plain, Size: 1911 bytes --]
Test-Label: iol-intel-Performance
Test-Status: SUCCESS
http://dpdk.org/patch/80797
_Performance Testing PASS_
Submitter: Dekel Peled <dekelp@nvidia.com>
Date: Wednesday, October 14 2020 18:53:27
DPDK git baseline: Repo:dpdk
Branch: master
CommitID:9d3ad80abd34f2420998d94606e208518d330bcc
80797 --> performance testing pass
Test environment and result as below:
Ubuntu 18.04
Kernel: 4.15.0-generic
Compiler: gcc 7.4
NIC: Intel Corporation Ethernet Converged Network Adapter XL710-QDA2 40000 Mbps
Target: x86_64-native-linuxapp-gcc
Fail/Total: 0/2
Detail performance results:
+------------+---------+-------------------------------------+
| frame_size | txd/rxd | throughput difference from expected |
+============+=========+=====================================+
| 64 | 512 | 2.615 |
+------------+---------+-------------------------------------+
| 64 | 2048 | 1.467 |
+------------+---------+-------------------------------------+
Ubuntu 18.04
Kernel: 4.15.0-generic
Compiler: gcc 7.4
NIC: Intel Corporation Ethernet Converged Network Adapter 82599ES 10000 Mbps
Target: x86_64-native-linuxapp-gcc
Fail/Total: 0/2
Detail performance results:
+------------+---------+-------------------------------------+
| frame_size | txd/rxd | throughput difference from expected |
+============+=========+=====================================+
| 64 | 512 | 1.909 |
+------------+---------+-------------------------------------+
| 64 | 2048 | 0.655 |
+------------+---------+-------------------------------------+
To view detailed results, visit:
https://lab.dpdk.org/results/dashboard/patchsets/13714/
UNH-IOL DPDK Community Lab
To manage your email subscriptions, visit:
https://lab.dpdk.org/results/dashboard/preferences/subscriptions/
^ permalink raw reply [flat|nested] 7+ messages in thread
* [dpdk-test-report] |SUCCESS| pw80797 [PATCH] [v4, 1/2] ethdev: add VLAN attributes to ETH and VLAN items
@ 2020-10-14 20:19 dpdklab
0 siblings, 0 replies; 7+ messages in thread
From: dpdklab @ 2020-10-14 20:19 UTC (permalink / raw)
To: Test Report; +Cc: dpdk-test-reports
[-- Attachment #1: Type: text/plain, Size: 784 bytes --]
Test-Label: iol-intel-Functional
Test-Status: SUCCESS
http://dpdk.org/patch/80797
_Functional Testing PASS_
Submitter: Dekel Peled <dekelp@nvidia.com>
Date: Wednesday, October 14 2020 18:53:27
DPDK git baseline: Repo:dpdk
Branch: master
CommitID:9d3ad80abd34f2420998d94606e208518d330bcc
80797 --> functional testing pass
Test environment and result as below:
Ubuntu 18.04
Kernel: 4.15.0-generic
Compiler: gcc 7.4
NIC: Intel Corporation Ethernet Converged Network Adapter XL710-QDA2 40000 Mbps
Target: x86_64-native-linuxapp-gcc
Fail/Total: 0/4
To view detailed results, visit:
https://lab.dpdk.org/results/dashboard/patchsets/13714/
UNH-IOL DPDK Community Lab
To manage your email subscriptions, visit:
https://lab.dpdk.org/results/dashboard/preferences/subscriptions/
^ permalink raw reply [flat|nested] 7+ messages in thread
* [dpdk-test-report] |SUCCESS| pw80797 [PATCH] [v4, 1/2] ethdev: add VLAN attributes to ETH and VLAN items
@ 2020-10-14 20:17 dpdklab
0 siblings, 0 replies; 7+ messages in thread
From: dpdklab @ 2020-10-14 20:17 UTC (permalink / raw)
To: Test Report; +Cc: dpdk-test-reports
[-- Attachment #1: Type: text/plain, Size: 1988 bytes --]
Test-Label: iol-testing
Test-Status: SUCCESS
http://dpdk.org/patch/80797
_Testing PASS_
Submitter: Dekel Peled <dekelp@nvidia.com>
Date: Wednesday, October 14 2020 18:53:27
DPDK git baseline: Repo:dpdk
Branch: master
CommitID:9d3ad80abd34f2420998d94606e208518d330bcc
80797 --> testing pass
Test environment and result as below:
+---------------------+--------------------+----------------+
| Environment | dpdk_meson_compile | dpdk_unit_test |
+=====================+====================+================+
| Windows Server 2019 | PASS | SKIPPED |
+---------------------+--------------------+----------------+
| FreeBSD 11.2 | PASS | SKIPPED |
+---------------------+--------------------+----------------+
| CentOS 8 | PASS | SKIPPED |
+---------------------+--------------------+----------------+
| Ubuntu 18.04 | PASS | PASS |
+---------------------+--------------------+----------------+
| openSUSE Leap 15 | PASS | SKIPPED |
+---------------------+--------------------+----------------+
| Fedora 31 | PASS | SKIPPED |
+---------------------+--------------------+----------------+
| Arch Linux | PASS | SKIPPED |
+---------------------+--------------------+----------------+
Windows Server 2019
Kernel: 10.0
Compiler: clang 9.0
FreeBSD 11.2
Kernel: 11.2
Compiler: gcc 8.3
CentOS 8
Kernel: 4.18.0.el8_0
Compiler: gcc 8.3.1
Ubuntu 18.04
Kernel: 4.15.0-generic
Compiler: gcc 7.4
openSUSE Leap 15
Kernel: 4.12.14
Compiler: gcc 7.4.1
Fedora 31
Kernel: 5.3.16
Compiler: gcc 9.2.1
Arch Linux
Kernel: latest
Compiler: gcc latest
To view detailed results, visit:
https://lab.dpdk.org/results/dashboard/patchsets/13714/
UNH-IOL DPDK Community Lab
To manage your email subscriptions, visit:
https://lab.dpdk.org/results/dashboard/preferences/subscriptions/
^ permalink raw reply [flat|nested] 7+ messages in thread
* [dpdk-test-report] |SUCCESS| pw80797 [PATCH] [v4, 1/2] ethdev: add VLAN attributes to ETH and VLAN items
@ 2020-10-14 20:14 dpdklab
0 siblings, 0 replies; 7+ messages in thread
From: dpdklab @ 2020-10-14 20:14 UTC (permalink / raw)
To: Ajit Khaparde, Test Report; +Cc: dpdk-test-reports
[-- Attachment #1: Type: text/plain, Size: 789 bytes --]
Test-Label: iol-broadcom-Functional
Test-Status: SUCCESS
http://dpdk.org/patch/80797
_Functional Testing PASS_
Submitter: Dekel Peled <dekelp@nvidia.com>
Date: Wednesday, October 14 2020 18:53:27
DPDK git baseline: Repo:dpdk
Branch: master
CommitID:9d3ad80abd34f2420998d94606e208518d330bcc
80797 --> functional testing pass
Test environment and result as below:
Ubuntu 18.04
Kernel: 4.15.0-65-generic
Compiler: gcc gcc (Ubuntu 7.4.0-1ubuntu1~18.04.1) 7.4.0
NIC: Broadcom Inc. brcm_57414 25000 Mbps
Target: x86_64-native-linuxapp-gcc
Fail/Total: 0/3
To view detailed results, visit:
https://lab.dpdk.org/results/dashboard/patchsets/13714/
UNH-IOL DPDK Community Lab
To manage your email subscriptions, visit:
https://lab.dpdk.org/results/dashboard/preferences/subscriptions/
^ permalink raw reply [flat|nested] 7+ messages in thread
* [dpdk-test-report] |SUCCESS| pw80797 [PATCH] [v4, 1/2] ethdev: add VLAN attributes to ETH and VLAN items
@ 2020-10-14 20:06 dpdklab
0 siblings, 0 replies; 7+ messages in thread
From: dpdklab @ 2020-10-14 20:06 UTC (permalink / raw)
To: Ajit Khaparde, Test Report; +Cc: dpdk-test-reports
[-- Attachment #1: Type: text/plain, Size: 1262 bytes --]
Test-Label: iol-broadcom-Performance
Test-Status: SUCCESS
http://dpdk.org/patch/80797
_Performance Testing PASS_
Submitter: Dekel Peled <dekelp@nvidia.com>
Date: Wednesday, October 14 2020 18:53:27
DPDK git baseline: Repo:dpdk
Branch: master
CommitID:9d3ad80abd34f2420998d94606e208518d330bcc
80797 --> performance testing pass
Test environment and result as below:
Ubuntu 18.04
Kernel: 4.15.0-65-generic
Compiler: gcc gcc (Ubuntu 7.4.0-1ubuntu1~18.04.1) 7.4.0
NIC: Broadcom Inc. brcm_57414 25000 Mbps
Target: x86_64-native-linuxapp-gcc
Fail/Total: 0/2
Detail performance results:
+------------+---------+-------------------------------------+
| frame_size | txd/rxd | throughput difference from expected |
+============+=========+=====================================+
| 64 | 512 | 0.087 |
+------------+---------+-------------------------------------+
| 64 | 2048 | 0.047 |
+------------+---------+-------------------------------------+
To view detailed results, visit:
https://lab.dpdk.org/results/dashboard/patchsets/13714/
UNH-IOL DPDK Community Lab
To manage your email subscriptions, visit:
https://lab.dpdk.org/results/dashboard/preferences/subscriptions/
^ permalink raw reply [flat|nested] 7+ messages in thread
[parent not found: <6363b9417eea68914d23bbd636567977e5b0eda8.1602700693.git.dekelp@nvidia.com>]
end of thread, other threads:[~2020-10-15 8:43 UTC | newest]
Thread overview: 7+ messages (download: mbox.gz / follow: Atom feed)
-- links below jump to the message on this page --
2020-10-15 8:43 [dpdk-test-report] |SUCCESS| pw80797 [PATCH] [v4, 1/2] ethdev: add VLAN attributes to ETH and VLAN items dpdklab
-- strict thread matches above, loose matches on Subject: below --
2020-10-14 20:42 dpdklab
2020-10-14 20:19 dpdklab
2020-10-14 20:17 dpdklab
2020-10-14 20:14 dpdklab
2020-10-14 20:06 dpdklab
[not found] <6363b9417eea68914d23bbd636567977e5b0eda8.1602700693.git.dekelp@nvidia.com>
2020-10-14 18:56 ` [dpdk-test-report] |SUCCESS| pw80797 [PATCH v4 " checkpatch
This is a public inbox, see mirroring instructions
for how to clone and mirror all data and code used for this inbox;
as well as URLs for NNTP newsgroup(s).