* [dpdk-test-report] |SUCCESS| pw80933 [PATCH] [v6] eventdev: add PCI probe named convenience function
@ 2020-10-16 15:50 dpdklab
0 siblings, 0 replies; 12+ messages in thread
From: dpdklab @ 2020-10-16 15:50 UTC (permalink / raw)
To: Ali Alnubani, Test Report; +Cc: dpdk-test-reports
[-- Attachment #1: Type: text/plain, Size: 3974 bytes --]
Test-Label: iol-mellanox-Performance
Test-Status: SUCCESS
http://dpdk.org/patch/80933
_Performance Testing PASS_
Submitter: Timothy McDaniel <timothy.mcdaniel@intel.com>
Date: Thursday, October 15 2020 14:16:46
DPDK git baseline: Repo:dpdk
Branch: master
CommitID:f4cbdbc7fbd2cf352d50f5ce7018a63dc5392b1b
80933 --> performance testing pass
Test environment and result as below:
Ubuntu 18.04
Kernel: 4.15.0-generic
Compiler: gcc 7.4
NIC: Mellanox ConnectX-5 100000 Mbps
Target: x86_64-native-linuxapp-gcc
Fail/Total: 0/6
Detail performance results:
+------------+---------+-------------------------------------+
| frame_size | txd/rxd | throughput difference from expected |
+============+=========+=====================================+
| 64 | 256 | 0.053 |
+------------+---------+-------------------------------------+
| 128 | 256 | -0.193 |
+------------+---------+-------------------------------------+
| 256 | 256 | -0.191 |
+------------+---------+-------------------------------------+
| 512 | 256 | 0.146 |
+------------+---------+-------------------------------------+
| 1024 | 256 | 0.011 |
+------------+---------+-------------------------------------+
| 1518 | 256 | 0 |
+------------+---------+-------------------------------------+
Ubuntu 18.04
Kernel: 4.15.0-generic
Compiler: gcc 7.4
NIC: Mellanox ConnectX-4 Lx 25000 Mbps
Target: x86_64-native-linuxapp-gcc
Fail/Total: 0/6
Detail performance results:
+------------+---------+-------------------------------------+
| frame_size | txd/rxd | throughput difference from expected |
+============+=========+=====================================+
| 64 | 256 | 0.289 |
+------------+---------+-------------------------------------+
| 128 | 256 | 0.154 |
+------------+---------+-------------------------------------+
| 256 | 256 | 0.141 |
+------------+---------+-------------------------------------+
| 512 | 256 | -0.060 |
+------------+---------+-------------------------------------+
| 1024 | 256 | 0.001 |
+------------+---------+-------------------------------------+
| 1518 | 256 | 0.004 |
+------------+---------+-------------------------------------+
Ubuntu 18.04
Kernel: 4.15.0-generic
Compiler: gcc 7.4
NIC: Mellanox ConnectX-4 Lx 40000 Mbps
Target: x86_64-native-linuxapp-gcc
Fail/Total: 0/6
Detail performance results:
+------------+---------+-------------------------------------+
| frame_size | txd/rxd | throughput difference from expected |
+============+=========+=====================================+
| 64 | 256 | 0.019 |
+------------+---------+-------------------------------------+
| 128 | 256 | 0.056 |
+------------+---------+-------------------------------------+
| 256 | 256 | 0.110 |
+------------+---------+-------------------------------------+
| 512 | 256 | -0.039 |
+------------+---------+-------------------------------------+
| 1024 | 256 | 0.025 |
+------------+---------+-------------------------------------+
| 1518 | 256 | 0.009 |
+------------+---------+-------------------------------------+
To view detailed results, visit:
https://lab.dpdk.org/results/dashboard/patchsets/13755/
UNH-IOL DPDK Community Lab
To manage your email subscriptions, visit:
https://lab.dpdk.org/results/dashboard/preferences/subscriptions/
^ permalink raw reply [flat|nested] 12+ messages in thread
* [dpdk-test-report] |SUCCESS| pw80933 [PATCH] [v6] eventdev: add PCI probe named convenience function
@ 2020-10-16 15:00 dpdklab
0 siblings, 0 replies; 12+ messages in thread
From: dpdklab @ 2020-10-16 15:00 UTC (permalink / raw)
To: Ali Alnubani, Test Report; +Cc: dpdk-test-reports
[-- Attachment #1: Type: text/plain, Size: 3974 bytes --]
Test-Label: iol-mellanox-Performance
Test-Status: SUCCESS
http://dpdk.org/patch/80933
_Performance Testing PASS_
Submitter: Timothy McDaniel <timothy.mcdaniel@intel.com>
Date: Thursday, October 15 2020 14:16:46
DPDK git baseline: Repo:dpdk
Branch: master
CommitID:f4cbdbc7fbd2cf352d50f5ce7018a63dc5392b1b
80933 --> performance testing pass
Test environment and result as below:
Ubuntu 18.04
Kernel: 4.15.0-generic
Compiler: gcc 7.4
NIC: Mellanox ConnectX-5 100000 Mbps
Target: x86_64-native-linuxapp-gcc
Fail/Total: 0/6
Detail performance results:
+------------+---------+-------------------------------------+
| frame_size | txd/rxd | throughput difference from expected |
+============+=========+=====================================+
| 64 | 256 | 0.348 |
+------------+---------+-------------------------------------+
| 128 | 256 | 0.006 |
+------------+---------+-------------------------------------+
| 256 | 256 | -0.159 |
+------------+---------+-------------------------------------+
| 512 | 256 | 0.166 |
+------------+---------+-------------------------------------+
| 1024 | 256 | 0.090 |
+------------+---------+-------------------------------------+
| 1518 | 256 | -0.027 |
+------------+---------+-------------------------------------+
Ubuntu 18.04
Kernel: 4.15.0-generic
Compiler: gcc 7.4
NIC: Mellanox ConnectX-4 Lx 25000 Mbps
Target: x86_64-native-linuxapp-gcc
Fail/Total: 0/6
Detail performance results:
+------------+---------+-------------------------------------+
| frame_size | txd/rxd | throughput difference from expected |
+============+=========+=====================================+
| 64 | 256 | 0.065 |
+------------+---------+-------------------------------------+
| 128 | 256 | 0.114 |
+------------+---------+-------------------------------------+
| 256 | 256 | 0.057 |
+------------+---------+-------------------------------------+
| 512 | 256 | -0.043 |
+------------+---------+-------------------------------------+
| 1024 | 256 | 0.001 |
+------------+---------+-------------------------------------+
| 1518 | 256 | 0.004 |
+------------+---------+-------------------------------------+
Ubuntu 18.04
Kernel: 4.15.0-generic
Compiler: gcc 7.4
NIC: Mellanox ConnectX-4 Lx 40000 Mbps
Target: x86_64-native-linuxapp-gcc
Fail/Total: 0/6
Detail performance results:
+------------+---------+-------------------------------------+
| frame_size | txd/rxd | throughput difference from expected |
+============+=========+=====================================+
| 64 | 256 | 0.033 |
+------------+---------+-------------------------------------+
| 128 | 256 | 0.194 |
+------------+---------+-------------------------------------+
| 256 | 256 | 0.043 |
+------------+---------+-------------------------------------+
| 512 | 256 | 0.020 |
+------------+---------+-------------------------------------+
| 1024 | 256 | 0.015 |
+------------+---------+-------------------------------------+
| 1518 | 256 | 0.001 |
+------------+---------+-------------------------------------+
To view detailed results, visit:
https://lab.dpdk.org/results/dashboard/patchsets/13755/
UNH-IOL DPDK Community Lab
To manage your email subscriptions, visit:
https://lab.dpdk.org/results/dashboard/preferences/subscriptions/
^ permalink raw reply [flat|nested] 12+ messages in thread
* [dpdk-test-report] |SUCCESS| pw80933 [PATCH] [v6] eventdev: add PCI probe named convenience function
@ 2020-10-15 19:19 dpdklab
0 siblings, 0 replies; 12+ messages in thread
From: dpdklab @ 2020-10-15 19:19 UTC (permalink / raw)
To: Test Report; +Cc: dpdk-test-reports
[-- Attachment #1: Type: text/plain, Size: 1829 bytes --]
Test-Label: iol-testing
Test-Status: SUCCESS
http://dpdk.org/patch/80933
_Testing PASS_
Submitter: Timothy McDaniel <timothy.mcdaniel@intel.com>
Date: Thursday, October 15 2020 14:16:46
DPDK git baseline: Repo:dpdk
Branch: master
CommitID:f4cbdbc7fbd2cf352d50f5ce7018a63dc5392b1b
80933 --> testing pass
Test environment and result as below:
+---------------------+--------------------+----------------+
| Environment | dpdk_meson_compile | dpdk_unit_test |
+=====================+====================+================+
| Windows Server 2019 | PASS | SKIPPED |
+---------------------+--------------------+----------------+
| FreeBSD 11.2 | PASS | SKIPPED |
+---------------------+--------------------+----------------+
| CentOS 8 | PASS | SKIPPED |
+---------------------+--------------------+----------------+
| Ubuntu 18.04 | PASS | PASS |
+---------------------+--------------------+----------------+
| openSUSE Leap 15 | PASS | SKIPPED |
+---------------------+--------------------+----------------+
| Arch Linux | PASS | SKIPPED |
+---------------------+--------------------+----------------+
Windows Server 2019
Kernel: 10.0
Compiler: clang 9.0
FreeBSD 11.2
Kernel: 11.2
Compiler: gcc 8.3
CentOS 8
Kernel: 4.18.0.el8_0
Compiler: gcc 8.3.1
Ubuntu 18.04
Kernel: 4.15.0-generic
Compiler: gcc 7.4
openSUSE Leap 15
Kernel: 4.12.14
Compiler: gcc 7.4.1
Arch Linux
Kernel: latest
Compiler: gcc latest
To view detailed results, visit:
https://lab.dpdk.org/results/dashboard/patchsets/13755/
UNH-IOL DPDK Community Lab
To manage your email subscriptions, visit:
https://lab.dpdk.org/results/dashboard/preferences/subscriptions/
^ permalink raw reply [flat|nested] 12+ messages in thread
* [dpdk-test-report] |SUCCESS| pw80933 [PATCH] [v6] eventdev: add PCI probe named convenience function
@ 2020-10-15 18:52 dpdklab
0 siblings, 0 replies; 12+ messages in thread
From: dpdklab @ 2020-10-15 18:52 UTC (permalink / raw)
To: Test Report; +Cc: dpdk-test-reports
[-- Attachment #1: Type: text/plain, Size: 1924 bytes --]
Test-Label: iol-intel-Performance
Test-Status: SUCCESS
http://dpdk.org/patch/80933
_Performance Testing PASS_
Submitter: Timothy McDaniel <timothy.mcdaniel@intel.com>
Date: Thursday, October 15 2020 14:16:46
DPDK git baseline: Repo:dpdk
Branch: master
CommitID:f4cbdbc7fbd2cf352d50f5ce7018a63dc5392b1b
80933 --> performance testing pass
Test environment and result as below:
Ubuntu 18.04
Kernel: 4.15.0-generic
Compiler: gcc 7.4
NIC: Intel Corporation Ethernet Converged Network Adapter XL710-QDA2 40000 Mbps
Target: x86_64-native-linuxapp-gcc
Fail/Total: 0/2
Detail performance results:
+------------+---------+-------------------------------------+
| frame_size | txd/rxd | throughput difference from expected |
+============+=========+=====================================+
| 64 | 512 | 2.731 |
+------------+---------+-------------------------------------+
| 64 | 2048 | 1.717 |
+------------+---------+-------------------------------------+
Ubuntu 18.04
Kernel: 4.15.0-generic
Compiler: gcc 7.4
NIC: Intel Corporation Ethernet Converged Network Adapter 82599ES 10000 Mbps
Target: x86_64-native-linuxapp-gcc
Fail/Total: 0/2
Detail performance results:
+------------+---------+-------------------------------------+
| frame_size | txd/rxd | throughput difference from expected |
+============+=========+=====================================+
| 64 | 512 | 1.827 |
+------------+---------+-------------------------------------+
| 64 | 2048 | 0.742 |
+------------+---------+-------------------------------------+
To view detailed results, visit:
https://lab.dpdk.org/results/dashboard/patchsets/13755/
UNH-IOL DPDK Community Lab
To manage your email subscriptions, visit:
https://lab.dpdk.org/results/dashboard/preferences/subscriptions/
^ permalink raw reply [flat|nested] 12+ messages in thread
* [dpdk-test-report] |SUCCESS| pw80933 [PATCH] [v6] eventdev: add PCI probe named convenience function
@ 2020-10-15 18:23 dpdklab
0 siblings, 0 replies; 12+ messages in thread
From: dpdklab @ 2020-10-15 18:23 UTC (permalink / raw)
To: Test Report; +Cc: dpdk-test-reports
[-- Attachment #1: Type: text/plain, Size: 1924 bytes --]
Test-Label: iol-intel-Performance
Test-Status: SUCCESS
http://dpdk.org/patch/80933
_Performance Testing PASS_
Submitter: Timothy McDaniel <timothy.mcdaniel@intel.com>
Date: Thursday, October 15 2020 14:16:46
DPDK git baseline: Repo:dpdk
Branch: master
CommitID:f4cbdbc7fbd2cf352d50f5ce7018a63dc5392b1b
80933 --> performance testing pass
Test environment and result as below:
Ubuntu 18.04
Kernel: 4.15.0-generic
Compiler: gcc 7.4
NIC: Intel Corporation Ethernet Converged Network Adapter XL710-QDA2 40000 Mbps
Target: x86_64-native-linuxapp-gcc
Fail/Total: 0/2
Detail performance results:
+------------+---------+-------------------------------------+
| frame_size | txd/rxd | throughput difference from expected |
+============+=========+=====================================+
| 64 | 512 | 2.700 |
+------------+---------+-------------------------------------+
| 64 | 2048 | 1.386 |
+------------+---------+-------------------------------------+
Ubuntu 18.04
Kernel: 4.15.0-generic
Compiler: gcc 7.4
NIC: Intel Corporation Ethernet Converged Network Adapter 82599ES 10000 Mbps
Target: x86_64-native-linuxapp-gcc
Fail/Total: 0/2
Detail performance results:
+------------+---------+-------------------------------------+
| frame_size | txd/rxd | throughput difference from expected |
+============+=========+=====================================+
| 64 | 512 | 1.787 |
+------------+---------+-------------------------------------+
| 64 | 2048 | 0.877 |
+------------+---------+-------------------------------------+
To view detailed results, visit:
https://lab.dpdk.org/results/dashboard/patchsets/13755/
UNH-IOL DPDK Community Lab
To manage your email subscriptions, visit:
https://lab.dpdk.org/results/dashboard/preferences/subscriptions/
^ permalink raw reply [flat|nested] 12+ messages in thread
* [dpdk-test-report] |SUCCESS| pw80933 [PATCH] [v6] eventdev: add PCI probe named convenience function
@ 2020-10-15 17:31 dpdklab
0 siblings, 0 replies; 12+ messages in thread
From: dpdklab @ 2020-10-15 17:31 UTC (permalink / raw)
To: Test Report; +Cc: dpdk-test-reports
[-- Attachment #1: Type: text/plain, Size: 797 bytes --]
Test-Label: iol-intel-Functional
Test-Status: SUCCESS
http://dpdk.org/patch/80933
_Functional Testing PASS_
Submitter: Timothy McDaniel <timothy.mcdaniel@intel.com>
Date: Thursday, October 15 2020 14:16:46
DPDK git baseline: Repo:dpdk
Branch: master
CommitID:f4cbdbc7fbd2cf352d50f5ce7018a63dc5392b1b
80933 --> functional testing pass
Test environment and result as below:
Ubuntu 18.04
Kernel: 4.15.0-generic
Compiler: gcc 7.4
NIC: Intel Corporation Ethernet Converged Network Adapter XL710-QDA2 40000 Mbps
Target: x86_64-native-linuxapp-gcc
Fail/Total: 0/4
To view detailed results, visit:
https://lab.dpdk.org/results/dashboard/patchsets/13755/
UNH-IOL DPDK Community Lab
To manage your email subscriptions, visit:
https://lab.dpdk.org/results/dashboard/preferences/subscriptions/
^ permalink raw reply [flat|nested] 12+ messages in thread
* [dpdk-test-report] |SUCCESS| pw80933 [PATCH] [v6] eventdev: add PCI probe named convenience function
@ 2020-10-15 17:02 dpdklab
0 siblings, 0 replies; 12+ messages in thread
From: dpdklab @ 2020-10-15 17:02 UTC (permalink / raw)
To: Test Report; +Cc: dpdk-test-reports
[-- Attachment #1: Type: text/plain, Size: 798 bytes --]
Test-Label: iol-intel-Functional
Test-Status: SUCCESS
http://dpdk.org/patch/80933
_Functional Testing PASS_
Submitter: McDaniel, Timothy <timothy.mcdaniel@intel.com>
Date: Thursday, October 15 2020 14:16:46
DPDK git baseline: Repo:dpdk
Branch: master
CommitID:f4cbdbc7fbd2cf352d50f5ce7018a63dc5392b1b
80933 --> functional testing pass
Test environment and result as below:
Ubuntu 18.04
Kernel: 4.15.0-generic
Compiler: gcc 7.4
NIC: Intel Corporation Ethernet Converged Network Adapter XL710-QDA2 40000 Mbps
Target: x86_64-native-linuxapp-gcc
Fail/Total: 0/4
To view detailed results, visit:
https://lab.dpdk.org/results/dashboard/patchsets/13755/
UNH-IOL DPDK Community Lab
To manage your email subscriptions, visit:
https://lab.dpdk.org/results/dashboard/preferences/subscriptions/
^ permalink raw reply [flat|nested] 12+ messages in thread
* [dpdk-test-report] |SUCCESS| pw80933 [PATCH] [v6] eventdev: add PCI probe named convenience function
@ 2020-10-15 15:11 dpdklab
0 siblings, 0 replies; 12+ messages in thread
From: dpdklab @ 2020-10-15 15:11 UTC (permalink / raw)
To: Ajit Khaparde, Test Report; +Cc: dpdk-test-reports
[-- Attachment #1: Type: text/plain, Size: 1276 bytes --]
Test-Label: iol-broadcom-Performance
Test-Status: SUCCESS
http://dpdk.org/patch/80933
_Performance Testing PASS_
Submitter: McDaniel, Timothy <timothy.mcdaniel@intel.com>
Date: Thursday, October 15 2020 14:16:46
DPDK git baseline: Repo:dpdk
Branch: master
CommitID:f4cbdbc7fbd2cf352d50f5ce7018a63dc5392b1b
80933 --> performance testing pass
Test environment and result as below:
Ubuntu 18.04
Kernel: 4.15.0-65-generic
Compiler: gcc gcc (Ubuntu 7.4.0-1ubuntu1~18.04.1) 7.4.0
NIC: Broadcom Inc. brcm_57414 25000 Mbps
Target: x86_64-native-linuxapp-gcc
Fail/Total: 0/2
Detail performance results:
+------------+---------+-------------------------------------+
| frame_size | txd/rxd | throughput difference from expected |
+============+=========+=====================================+
| 64 | 512 | 0.006 |
+------------+---------+-------------------------------------+
| 64 | 2048 | -0.034 |
+------------+---------+-------------------------------------+
To view detailed results, visit:
https://lab.dpdk.org/results/dashboard/patchsets/13755/
UNH-IOL DPDK Community Lab
To manage your email subscriptions, visit:
https://lab.dpdk.org/results/dashboard/preferences/subscriptions/
^ permalink raw reply [flat|nested] 12+ messages in thread
* [dpdk-test-report] |SUCCESS| pw80933 [PATCH] [v6] eventdev: add PCI probe named convenience function
@ 2020-10-15 15:05 dpdklab
0 siblings, 0 replies; 12+ messages in thread
From: dpdklab @ 2020-10-15 15:05 UTC (permalink / raw)
To: Ajit Khaparde, Test Report; +Cc: dpdk-test-reports
[-- Attachment #1: Type: text/plain, Size: 803 bytes --]
Test-Label: iol-broadcom-Functional
Test-Status: SUCCESS
http://dpdk.org/patch/80933
_Functional Testing PASS_
Submitter: McDaniel, Timothy <timothy.mcdaniel@intel.com>
Date: Thursday, October 15 2020 14:16:46
DPDK git baseline: Repo:dpdk
Branch: master
CommitID:f4cbdbc7fbd2cf352d50f5ce7018a63dc5392b1b
80933 --> functional testing pass
Test environment and result as below:
Ubuntu 18.04
Kernel: 4.15.0-65-generic
Compiler: gcc gcc (Ubuntu 7.4.0-1ubuntu1~18.04.1) 7.4.0
NIC: Broadcom Inc. brcm_57414 25000 Mbps
Target: x86_64-native-linuxapp-gcc
Fail/Total: 0/3
To view detailed results, visit:
https://lab.dpdk.org/results/dashboard/patchsets/13755/
UNH-IOL DPDK Community Lab
To manage your email subscriptions, visit:
https://lab.dpdk.org/results/dashboard/preferences/subscriptions/
^ permalink raw reply [flat|nested] 12+ messages in thread
* [dpdk-test-report] |SUCCESS| pw80933 [PATCH] [v6] eventdev: add PCI probe named convenience function
@ 2020-10-15 14:56 dpdklab
0 siblings, 0 replies; 12+ messages in thread
From: dpdklab @ 2020-10-15 14:56 UTC (permalink / raw)
To: Ajit Khaparde, Test Report; +Cc: dpdk-test-reports
[-- Attachment #1: Type: text/plain, Size: 1276 bytes --]
Test-Label: iol-broadcom-Performance
Test-Status: SUCCESS
http://dpdk.org/patch/80933
_Performance Testing PASS_
Submitter: McDaniel, Timothy <timothy.mcdaniel@intel.com>
Date: Thursday, October 15 2020 14:16:46
DPDK git baseline: Repo:dpdk
Branch: master
CommitID:f4cbdbc7fbd2cf352d50f5ce7018a63dc5392b1b
80933 --> performance testing pass
Test environment and result as below:
Ubuntu 18.04
Kernel: 4.15.0-65-generic
Compiler: gcc gcc (Ubuntu 7.4.0-1ubuntu1~18.04.1) 7.4.0
NIC: Broadcom Inc. brcm_57414 25000 Mbps
Target: x86_64-native-linuxapp-gcc
Fail/Total: 0/2
Detail performance results:
+------------+---------+-------------------------------------+
| frame_size | txd/rxd | throughput difference from expected |
+============+=========+=====================================+
| 64 | 512 | -0.007 |
+------------+---------+-------------------------------------+
| 64 | 2048 | -0.085 |
+------------+---------+-------------------------------------+
To view detailed results, visit:
https://lab.dpdk.org/results/dashboard/patchsets/13755/
UNH-IOL DPDK Community Lab
To manage your email subscriptions, visit:
https://lab.dpdk.org/results/dashboard/preferences/subscriptions/
^ permalink raw reply [flat|nested] 12+ messages in thread
* [dpdk-test-report] |SUCCESS| pw80933 [PATCH] [v6] eventdev: add PCI probe named convenience function
@ 2020-10-15 14:51 dpdklab
0 siblings, 0 replies; 12+ messages in thread
From: dpdklab @ 2020-10-15 14:51 UTC (permalink / raw)
To: Ajit Khaparde, Test Report; +Cc: dpdk-test-reports
[-- Attachment #1: Type: text/plain, Size: 803 bytes --]
Test-Label: iol-broadcom-Functional
Test-Status: SUCCESS
http://dpdk.org/patch/80933
_Functional Testing PASS_
Submitter: McDaniel, Timothy <timothy.mcdaniel@intel.com>
Date: Thursday, October 15 2020 14:16:46
DPDK git baseline: Repo:dpdk
Branch: master
CommitID:f4cbdbc7fbd2cf352d50f5ce7018a63dc5392b1b
80933 --> functional testing pass
Test environment and result as below:
Ubuntu 18.04
Kernel: 4.15.0-65-generic
Compiler: gcc gcc (Ubuntu 7.4.0-1ubuntu1~18.04.1) 7.4.0
NIC: Broadcom Inc. brcm_57414 25000 Mbps
Target: x86_64-native-linuxapp-gcc
Fail/Total: 0/3
To view detailed results, visit:
https://lab.dpdk.org/results/dashboard/patchsets/13755/
UNH-IOL DPDK Community Lab
To manage your email subscriptions, visit:
https://lab.dpdk.org/results/dashboard/preferences/subscriptions/
^ permalink raw reply [flat|nested] 12+ messages in thread
[parent not found: <1602771406-25220-1-git-send-email-timothy.mcdaniel@intel.com>]
end of thread, other threads:[~2020-10-16 15:50 UTC | newest]
Thread overview: 12+ messages (download: mbox.gz / follow: Atom feed)
-- links below jump to the message on this page --
2020-10-16 15:50 [dpdk-test-report] |SUCCESS| pw80933 [PATCH] [v6] eventdev: add PCI probe named convenience function dpdklab
-- strict thread matches above, loose matches on Subject: below --
2020-10-16 15:00 dpdklab
2020-10-15 19:19 dpdklab
2020-10-15 18:52 dpdklab
2020-10-15 18:23 dpdklab
2020-10-15 17:31 dpdklab
2020-10-15 17:02 dpdklab
2020-10-15 15:11 dpdklab
2020-10-15 15:05 dpdklab
2020-10-15 14:56 dpdklab
2020-10-15 14:51 dpdklab
[not found] <1602771406-25220-1-git-send-email-timothy.mcdaniel@intel.com>
2020-10-15 14:15 ` [dpdk-test-report] |SUCCESS| pw80933 [PATCH v6] " checkpatch
This is a public inbox, see mirroring instructions
for how to clone and mirror all data and code used for this inbox;
as well as URLs for NNTP newsgroup(s).