automatic DPDK test reports
 help / color / Atom feed
* [dpdk-test-report] |SUCCESS| pw80905-80909 [PATCH] [v6, 5/5] app/testpmd: change hairpin queues setup
@ 2020-10-16 21:45 dpdklab
  0 siblings, 0 replies; 6+ messages in thread
From: dpdklab @ 2020-10-16 21:45 UTC (permalink / raw)
  To: Ali Alnubani, Test Report; +Cc: dpdk-test-reports

[-- Attachment #1: Type: text/plain, Size: 3963 bytes --]

Test-Label: iol-mellanox-Performance
Test-Status: SUCCESS
http://dpdk.org/patch/80909

_Performance Testing PASS_

Submitter: Bing Zhao <bingz@nvidia.com>
Date: Thursday, October 15 2020 13:08:55 
DPDK git baseline: Repo:dpdk
  Branch: master
  CommitID:f4cbdbc7fbd2cf352d50f5ce7018a63dc5392b1b

80905-80909 --> performance testing pass

Test environment and result as below:

Ubuntu 18.04
Kernel: 4.15.0-generic
Compiler: gcc 7.4
NIC: Mellanox ConnectX-5 100000 Mbps
Target: x86_64-native-linuxapp-gcc
Fail/Total: 0/6

Detail performance results: 
+------------+---------+-------------------------------------+
| frame_size | txd/rxd | throughput difference from expected |
+============+=========+=====================================+
| 64         | 256     | 0.387                               |
+------------+---------+-------------------------------------+
| 128        | 256     | -0.105                              |
+------------+---------+-------------------------------------+
| 256        | 256     | -0.214                              |
+------------+---------+-------------------------------------+
| 512        | 256     | 0.237                               |
+------------+---------+-------------------------------------+
| 1024       | 256     | 0.122                               |
+------------+---------+-------------------------------------+
| 1518       | 256     | -0.007                              |
+------------+---------+-------------------------------------+

Ubuntu 18.04
Kernel: 4.15.0-generic
Compiler: gcc 7.4
NIC: Mellanox ConnectX-4 Lx 25000 Mbps
Target: x86_64-native-linuxapp-gcc
Fail/Total: 0/6

Detail performance results: 
+------------+---------+-------------------------------------+
| frame_size | txd/rxd | throughput difference from expected |
+============+=========+=====================================+
| 64         | 256     | 0.233                               |
+------------+---------+-------------------------------------+
| 128        | 256     | 0.100                               |
+------------+---------+-------------------------------------+
| 256        | 256     | 0.127                               |
+------------+---------+-------------------------------------+
| 512        | 256     | -0.017                              |
+------------+---------+-------------------------------------+
| 1024       | 256     | 0.009                               |
+------------+---------+-------------------------------------+
| 1518       | 256     | 0.005                               |
+------------+---------+-------------------------------------+

Ubuntu 18.04
Kernel: 4.15.0-generic
Compiler: gcc 7.4
NIC: Mellanox ConnectX-4 Lx 40000 Mbps
Target: x86_64-native-linuxapp-gcc
Fail/Total: 0/6

Detail performance results: 
+------------+---------+-------------------------------------+
| frame_size | txd/rxd | throughput difference from expected |
+============+=========+=====================================+
| 64         | 256     | 0.003                               |
+------------+---------+-------------------------------------+
| 128        | 256     | 0.052                               |
+------------+---------+-------------------------------------+
| 256        | 256     | 0.711                               |
+------------+---------+-------------------------------------+
| 512        | 256     | 0.007                               |
+------------+---------+-------------------------------------+
| 1024       | 256     | 0.015                               |
+------------+---------+-------------------------------------+
| 1518       | 256     | 0.021                               |
+------------+---------+-------------------------------------+

To view detailed results, visit:
https://lab.dpdk.org/results/dashboard/patchsets/13749/

UNH-IOL DPDK Community Lab

To manage your email subscriptions, visit: 
https://lab.dpdk.org/results/dashboard/preferences/subscriptions/

^ permalink raw reply	[flat|nested] 6+ messages in thread

* [dpdk-test-report] |SUCCESS| pw80905-80909 [PATCH] [v6, 5/5] app/testpmd: change hairpin queues setup
@ 2020-10-16 14:17 dpdklab
  0 siblings, 0 replies; 6+ messages in thread
From: dpdklab @ 2020-10-16 14:17 UTC (permalink / raw)
  To: Test Report; +Cc: dpdk-test-reports

[-- Attachment #1: Type: text/plain, Size: 1990 bytes --]

Test-Label: iol-testing
Test-Status: SUCCESS
http://dpdk.org/patch/80909

_Testing PASS_

Submitter: Bing Zhao <bingz@nvidia.com>
Date: Thursday, October 15 2020 13:08:55 
DPDK git baseline: Repo:dpdk
  Branch: master
  CommitID:f4cbdbc7fbd2cf352d50f5ce7018a63dc5392b1b

80905-80909 --> testing pass

Test environment and result as below:

+---------------------+--------------------+----------------+
|     Environment     | dpdk_meson_compile | dpdk_unit_test |
+=====================+====================+================+
| Windows Server 2019 | PASS               | SKIPPED        |
+---------------------+--------------------+----------------+
| Fedora 31           | PASS               | SKIPPED        |
+---------------------+--------------------+----------------+
| FreeBSD 11.2        | PASS               | SKIPPED        |
+---------------------+--------------------+----------------+
| Ubuntu 18.04        | PASS               | PASS           |
+---------------------+--------------------+----------------+
| CentOS 8            | PASS               | SKIPPED        |
+---------------------+--------------------+----------------+
| openSUSE Leap 15    | PASS               | SKIPPED        |
+---------------------+--------------------+----------------+
| Arch Linux          | PASS               | SKIPPED        |
+---------------------+--------------------+----------------+

Windows Server 2019
	Kernel: 10.0
	Compiler: clang 9.0

Fedora 31
	Kernel: 5.3.16
	Compiler: gcc 9.2.1

FreeBSD 11.2
	Kernel: 11.2
	Compiler: gcc 8.3

Ubuntu 18.04
	Kernel: 4.15.0-generic
	Compiler: gcc 7.4

CentOS 8
	Kernel: 4.18.0.el8_0
	Compiler: gcc 8.3.1

openSUSE Leap 15
	Kernel: 4.12.14
	Compiler: gcc 7.4.1

Arch Linux
	Kernel: latest
	Compiler: gcc latest

To view detailed results, visit:
https://lab.dpdk.org/results/dashboard/patchsets/13749/

UNH-IOL DPDK Community Lab

To manage your email subscriptions, visit: 
https://lab.dpdk.org/results/dashboard/preferences/subscriptions/

^ permalink raw reply	[flat|nested] 6+ messages in thread

* [dpdk-test-report] |SUCCESS| pw80905-80909 [PATCH] [v6, 5/5] app/testpmd: change hairpin queues setup
@ 2020-10-15 22:51 dpdklab
  0 siblings, 0 replies; 6+ messages in thread
From: dpdklab @ 2020-10-15 22:51 UTC (permalink / raw)
  To: Test Report; +Cc: dpdk-test-reports

[-- Attachment #1: Type: text/plain, Size: 1913 bytes --]

Test-Label: iol-intel-Performance
Test-Status: SUCCESS
http://dpdk.org/patch/80909

_Performance Testing PASS_

Submitter: Bing Zhao <bingz@nvidia.com>
Date: Thursday, October 15 2020 13:08:55 
DPDK git baseline: Repo:dpdk
  Branch: master
  CommitID:f4cbdbc7fbd2cf352d50f5ce7018a63dc5392b1b

80905-80909 --> performance testing pass

Test environment and result as below:

Ubuntu 18.04
Kernel: 4.15.0-generic
Compiler: gcc 7.4
NIC: Intel Corporation Ethernet Converged Network Adapter XL710-QDA2 40000 Mbps
Target: x86_64-native-linuxapp-gcc
Fail/Total: 0/2

Detail performance results: 
+------------+---------+-------------------------------------+
| frame_size | txd/rxd | throughput difference from expected |
+============+=========+=====================================+
| 64         | 512     | 2.467                               |
+------------+---------+-------------------------------------+
| 64         | 2048    | 1.596                               |
+------------+---------+-------------------------------------+

Ubuntu 18.04
Kernel: 4.15.0-generic
Compiler: gcc 7.4
NIC: Intel Corporation Ethernet Converged Network Adapter 82599ES 10000 Mbps
Target: x86_64-native-linuxapp-gcc
Fail/Total: 0/2

Detail performance results: 
+------------+---------+-------------------------------------+
| frame_size | txd/rxd | throughput difference from expected |
+============+=========+=====================================+
| 64         | 512     | 1.893                               |
+------------+---------+-------------------------------------+
| 64         | 2048    | 0.595                               |
+------------+---------+-------------------------------------+

To view detailed results, visit:
https://lab.dpdk.org/results/dashboard/patchsets/13749/

UNH-IOL DPDK Community Lab

To manage your email subscriptions, visit: 
https://lab.dpdk.org/results/dashboard/preferences/subscriptions/

^ permalink raw reply	[flat|nested] 6+ messages in thread

* [dpdk-test-report] |SUCCESS| pw80905-80909 [PATCH] [v6, 5/5] app/testpmd: change hairpin queues setup
@ 2020-10-15 21:06 dpdklab
  0 siblings, 0 replies; 6+ messages in thread
From: dpdklab @ 2020-10-15 21:06 UTC (permalink / raw)
  To: Test Report; +Cc: dpdk-test-reports

[-- Attachment #1: Type: text/plain, Size: 786 bytes --]

Test-Label: iol-intel-Functional
Test-Status: SUCCESS
http://dpdk.org/patch/80909

_Functional Testing PASS_

Submitter: Bing Zhao <bingz@nvidia.com>
Date: Thursday, October 15 2020 13:08:55 
DPDK git baseline: Repo:dpdk
  Branch: master
  CommitID:f4cbdbc7fbd2cf352d50f5ce7018a63dc5392b1b

80905-80909 --> functional testing pass

Test environment and result as below:

Ubuntu 18.04
Kernel: 4.15.0-generic
Compiler: gcc 7.4
NIC: Intel Corporation Ethernet Converged Network Adapter XL710-QDA2 40000 Mbps
Target: x86_64-native-linuxapp-gcc
Fail/Total: 0/4


To view detailed results, visit:
https://lab.dpdk.org/results/dashboard/patchsets/13749/

UNH-IOL DPDK Community Lab

To manage your email subscriptions, visit: 
https://lab.dpdk.org/results/dashboard/preferences/subscriptions/

^ permalink raw reply	[flat|nested] 6+ messages in thread

* [dpdk-test-report] |SUCCESS| pw80905-80909 [PATCH] [v6, 5/5] app/testpmd: change hairpin queues setup
@ 2020-10-15 17:58 dpdklab
  0 siblings, 0 replies; 6+ messages in thread
From: dpdklab @ 2020-10-15 17:58 UTC (permalink / raw)
  To: Ajit Khaparde, Test Report; +Cc: dpdk-test-reports

[-- Attachment #1: Type: text/plain, Size: 791 bytes --]

Test-Label: iol-broadcom-Functional
Test-Status: SUCCESS
http://dpdk.org/patch/80909

_Functional Testing PASS_

Submitter: Bing Zhao <bingz@nvidia.com>
Date: Thursday, October 15 2020 13:08:55 
DPDK git baseline: Repo:dpdk
  Branch: master
  CommitID:f4cbdbc7fbd2cf352d50f5ce7018a63dc5392b1b

80905-80909 --> functional testing pass

Test environment and result as below:

Ubuntu 18.04
Kernel: 4.15.0-65-generic
Compiler: gcc gcc (Ubuntu 7.4.0-1ubuntu1~18.04.1) 7.4.0
NIC: Broadcom Inc. brcm_57414 25000 Mbps
Target: x86_64-native-linuxapp-gcc
Fail/Total: 0/3


To view detailed results, visit:
https://lab.dpdk.org/results/dashboard/patchsets/13749/

UNH-IOL DPDK Community Lab

To manage your email subscriptions, visit: 
https://lab.dpdk.org/results/dashboard/preferences/subscriptions/

^ permalink raw reply	[flat|nested] 6+ messages in thread

* [dpdk-test-report] |SUCCESS| pw80905-80909 [PATCH] [v6, 5/5] app/testpmd: change hairpin queues setup
@ 2020-10-15 17:50 dpdklab
  0 siblings, 0 replies; 6+ messages in thread
From: dpdklab @ 2020-10-15 17:50 UTC (permalink / raw)
  To: Ajit Khaparde, Test Report; +Cc: dpdk-test-reports

[-- Attachment #1: Type: text/plain, Size: 1264 bytes --]

Test-Label: iol-broadcom-Performance
Test-Status: SUCCESS
http://dpdk.org/patch/80909

_Performance Testing PASS_

Submitter: Bing Zhao <bingz@nvidia.com>
Date: Thursday, October 15 2020 13:08:55 
DPDK git baseline: Repo:dpdk
  Branch: master
  CommitID:f4cbdbc7fbd2cf352d50f5ce7018a63dc5392b1b

80905-80909 --> performance testing pass

Test environment and result as below:

Ubuntu 18.04
Kernel: 4.15.0-65-generic
Compiler: gcc gcc (Ubuntu 7.4.0-1ubuntu1~18.04.1) 7.4.0
NIC: Broadcom Inc. brcm_57414 25000 Mbps
Target: x86_64-native-linuxapp-gcc
Fail/Total: 0/2

Detail performance results: 
+------------+---------+-------------------------------------+
| frame_size | txd/rxd | throughput difference from expected |
+============+=========+=====================================+
| 64         | 512     | -0.016                              |
+------------+---------+-------------------------------------+
| 64         | 2048    | -0.022                              |
+------------+---------+-------------------------------------+

To view detailed results, visit:
https://lab.dpdk.org/results/dashboard/patchsets/13749/

UNH-IOL DPDK Community Lab

To manage your email subscriptions, visit: 
https://lab.dpdk.org/results/dashboard/preferences/subscriptions/

^ permalink raw reply	[flat|nested] 6+ messages in thread

end of thread, back to index

Thread overview: 6+ messages (download: mbox.gz / follow: Atom feed)
-- links below jump to the message on this page --
2020-10-16 21:45 [dpdk-test-report] |SUCCESS| pw80905-80909 [PATCH] [v6, 5/5] app/testpmd: change hairpin queues setup dpdklab
  -- strict thread matches above, loose matches on Subject: below --
2020-10-16 14:17 dpdklab
2020-10-15 22:51 dpdklab
2020-10-15 21:06 dpdklab
2020-10-15 17:58 dpdklab
2020-10-15 17:50 dpdklab

automatic DPDK test reports

Archives are clonable:
	git clone --mirror http://inbox.dpdk.org/test-report/0 test-report/git/0.git

	# If you have public-inbox 1.1+ installed, you may
	# initialize and index your mirror using the following commands:
	public-inbox-init -V2 test-report test-report/ http://inbox.dpdk.org/test-report \
		test-report@dpdk.org
	public-inbox-index test-report


Newsgroup available over NNTP:
	nntp://inbox.dpdk.org/inbox.dpdk.test-report


AGPL code for this site: git clone https://public-inbox.org/ public-inbox