automatic DPDK test reports
 help / color / Atom feed
* [dpdk-test-report] |SUCCESS| [GIT MASTER] 028c57407df4288f061698b95336a9e9a0cf75b3
@ 2020-10-16 22:02 dpdklab
  0 siblings, 0 replies; 6+ messages in thread
From: dpdklab @ 2020-10-16 22:02 UTC (permalink / raw)
  To: Ajit Khaparde, Test Report; +Cc: dpdk-test-reports

[-- Attachment #1: Type: text/plain, Size: 1038 bytes --]

_Performance Testing PASS_

Branch: dpdk

028c57407df4288f061698b95336a9e9a0cf75b3 --> performance testing pass

Test environment and result as below:

Ubuntu 18.04
Kernel: 4.15.0-65-generic
Compiler: gcc gcc (Ubuntu 7.4.0-1ubuntu1~18.04.1) 7.4.0
NIC: Broadcom Inc. brcm_57414 25000 Mbps
Target: x86_64-native-linuxapp-gcc
Fail/Total: 0/2

Detail performance results: 
+------------+---------+-------------------------------------+
| frame_size | txd/rxd | throughput difference from expected |
+============+=========+=====================================+
| 64         | 512     | 0.033                               |
+------------+---------+-------------------------------------+
| 64         | 2048    | 0.003                               |
+------------+---------+-------------------------------------+

To view detailed results, visit:
https://lab.dpdk.org/results/dashboard/tarballs/12025/

UNH-IOL DPDK Community Lab

To manage your email subscriptions, visit: 
https://lab.dpdk.org/results/dashboard/preferences/subscriptions/

^ permalink raw reply	[flat|nested] 6+ messages in thread

* [dpdk-test-report] |SUCCESS| [GIT MASTER] 028c57407df4288f061698b95336a9e9a0cf75b3
@ 2020-10-18  8:44 dpdklab
  0 siblings, 0 replies; 6+ messages in thread
From: dpdklab @ 2020-10-18  8:44 UTC (permalink / raw)
  To: Ali Alnubani, Test Report; +Cc: dpdk-test-reports

[-- Attachment #1: Type: text/plain, Size: 3737 bytes --]

_Performance Testing PASS_

Branch: dpdk

028c57407df4288f061698b95336a9e9a0cf75b3 --> performance testing pass

Test environment and result as below:

Ubuntu 18.04
Kernel: 4.15.0-generic
Compiler: gcc 7.4
NIC: Mellanox ConnectX-5 100000 Mbps
Target: x86_64-native-linuxapp-gcc
Fail/Total: 0/6

Detail performance results: 
+------------+---------+-------------------------------------+
| frame_size | txd/rxd | throughput difference from expected |
+============+=========+=====================================+
| 64         | 256     | -0.287                              |
+------------+---------+-------------------------------------+
| 128        | 256     | -0.014                              |
+------------+---------+-------------------------------------+
| 256        | 256     | 0.202                               |
+------------+---------+-------------------------------------+
| 512        | 256     | 0.029                               |
+------------+---------+-------------------------------------+
| 1024       | 256     | -0.075                              |
+------------+---------+-------------------------------------+
| 1518       | 256     | -0.018                              |
+------------+---------+-------------------------------------+

Ubuntu 18.04
Kernel: 4.15.0-generic
Compiler: gcc 7.4
NIC: Mellanox ConnectX-4 Lx 25000 Mbps
Target: x86_64-native-linuxapp-gcc
Fail/Total: 0/6

Detail performance results: 
+------------+---------+-------------------------------------+
| frame_size | txd/rxd | throughput difference from expected |
+============+=========+=====================================+
| 64         | 256     | -0.026                              |
+------------+---------+-------------------------------------+
| 128        | 256     | -0.073                              |
+------------+---------+-------------------------------------+
| 256        | 256     | -0.004                              |
+------------+---------+-------------------------------------+
| 512        | 256     | -0.036                              |
+------------+---------+-------------------------------------+
| 1024       | 256     | -0.013                              |
+------------+---------+-------------------------------------+
| 1518       | 256     | -0.008                              |
+------------+---------+-------------------------------------+

Ubuntu 18.04
Kernel: 4.15.0-generic
Compiler: gcc 7.4
NIC: Mellanox ConnectX-4 Lx 40000 Mbps
Target: x86_64-native-linuxapp-gcc
Fail/Total: 0/6

Detail performance results: 
+------------+---------+-------------------------------------+
| frame_size | txd/rxd | throughput difference from expected |
+============+=========+=====================================+
| 64         | 256     | -0.024                              |
+------------+---------+-------------------------------------+
| 128        | 256     | -0.049                              |
+------------+---------+-------------------------------------+
| 256        | 256     | -0.102                              |
+------------+---------+-------------------------------------+
| 512        | 256     | 0.011                               |
+------------+---------+-------------------------------------+
| 1024       | 256     | 0.015                               |
+------------+---------+-------------------------------------+
| 1518       | 256     | 0.004                               |
+------------+---------+-------------------------------------+

To view detailed results, visit:
https://lab.dpdk.org/results/dashboard/tarballs/12025/

UNH-IOL DPDK Community Lab

To manage your email subscriptions, visit: 
https://lab.dpdk.org/results/dashboard/preferences/subscriptions/

^ permalink raw reply	[flat|nested] 6+ messages in thread

* [dpdk-test-report] |SUCCESS| [GIT MASTER] 028c57407df4288f061698b95336a9e9a0cf75b3
@ 2020-10-16 22:24 dpdklab
  0 siblings, 0 replies; 6+ messages in thread
From: dpdklab @ 2020-10-16 22:24 UTC (permalink / raw)
  To: Test Report; +Cc: dpdk-test-reports

[-- Attachment #1: Type: text/plain, Size: 1690 bytes --]

_Performance Testing PASS_

Branch: dpdk

028c57407df4288f061698b95336a9e9a0cf75b3 --> performance testing pass

Test environment and result as below:

Ubuntu 18.04
Kernel: 4.15.0-generic
Compiler: gcc 7.4
NIC: Intel Corporation Ethernet Converged Network Adapter XL710-QDA2 40000 Mbps
Target: x86_64-native-linuxapp-gcc
Fail/Total: 0/2

Detail performance results: 
+------------+---------+-------------------------------------+
| frame_size | txd/rxd | throughput difference from expected |
+============+=========+=====================================+
| 64         | 512     | 2.588                               |
+------------+---------+-------------------------------------+
| 64         | 2048    | 1.504                               |
+------------+---------+-------------------------------------+

Ubuntu 18.04
Kernel: 4.15.0-generic
Compiler: gcc 7.4
NIC: Intel Corporation Ethernet Converged Network Adapter 82599ES 10000 Mbps
Target: x86_64-native-linuxapp-gcc
Fail/Total: 0/2

Detail performance results: 
+------------+---------+-------------------------------------+
| frame_size | txd/rxd | throughput difference from expected |
+============+=========+=====================================+
| 64         | 512     | 1.662                               |
+------------+---------+-------------------------------------+
| 64         | 2048    | 0.599                               |
+------------+---------+-------------------------------------+

To view detailed results, visit:
https://lab.dpdk.org/results/dashboard/tarballs/12025/

UNH-IOL DPDK Community Lab

To manage your email subscriptions, visit: 
https://lab.dpdk.org/results/dashboard/preferences/subscriptions/

^ permalink raw reply	[flat|nested] 6+ messages in thread

* [dpdk-test-report] |SUCCESS| [GIT MASTER] 028c57407df4288f061698b95336a9e9a0cf75b3
@ 2020-10-16 22:02 dpdklab
  0 siblings, 0 replies; 6+ messages in thread
From: dpdklab @ 2020-10-16 22:02 UTC (permalink / raw)
  To: Test Report; +Cc: dpdk-test-reports

[-- Attachment #1: Type: text/plain, Size: 564 bytes --]

_Functional Testing PASS_

Branch: dpdk

028c57407df4288f061698b95336a9e9a0cf75b3 --> functional testing pass

Test environment and result as below:

Ubuntu 18.04
Kernel: 4.15.0-generic
Compiler: gcc 7.4
NIC: Intel Corporation Ethernet Converged Network Adapter XL710-QDA2 40000 Mbps
Target: x86_64-native-linuxapp-gcc
Fail/Total: 0/4


To view detailed results, visit:
https://lab.dpdk.org/results/dashboard/tarballs/12025/

UNH-IOL DPDK Community Lab

To manage your email subscriptions, visit: 
https://lab.dpdk.org/results/dashboard/preferences/subscriptions/

^ permalink raw reply	[flat|nested] 6+ messages in thread

* [dpdk-test-report] |SUCCESS| [GIT MASTER] 028c57407df4288f061698b95336a9e9a0cf75b3
@ 2020-10-16 22:02 dpdklab
  0 siblings, 0 replies; 6+ messages in thread
From: dpdklab @ 2020-10-16 22:02 UTC (permalink / raw)
  To: Test Report; +Cc: dpdk-test-reports

[-- Attachment #1: Type: text/plain, Size: 1777 bytes --]

_Testing PASS_

Branch: dpdk

028c57407df4288f061698b95336a9e9a0cf75b3 --> testing pass

Test environment and result as below:

+---------------------+--------------------+----------------+
|     Environment     | dpdk_meson_compile | dpdk_unit_test |
+=====================+====================+================+
| Windows Server 2019 | PASS               | SKIPPED        |
+---------------------+--------------------+----------------+
| FreeBSD 11.2        | PASS               | SKIPPED        |
+---------------------+--------------------+----------------+
| Fedora 31           | PASS               | SKIPPED        |
+---------------------+--------------------+----------------+
| CentOS 8            | PASS               | SKIPPED        |
+---------------------+--------------------+----------------+
| Ubuntu 18.04        | PASS               | PASS           |
+---------------------+--------------------+----------------+
| openSUSE Leap 15    | PASS               | SKIPPED        |
+---------------------+--------------------+----------------+
| Arch Linux          | PASS               | SKIPPED        |
+---------------------+--------------------+----------------+

Windows Server 2019
	Kernel: 10.0
	Compiler: clang 9.0

FreeBSD 11.2
	Kernel: 11.2
	Compiler: gcc 8.3

Fedora 31
	Kernel: 5.3.16
	Compiler: gcc 9.2.1

CentOS 8
	Kernel: 4.18.0.el8_0
	Compiler: gcc 8.3.1

Ubuntu 18.04
	Kernel: 4.15.0-generic
	Compiler: gcc 7.4

openSUSE Leap 15
	Kernel: 4.12.14
	Compiler: gcc 7.4.1

Arch Linux
	Kernel: latest
	Compiler: gcc latest

To view detailed results, visit:
https://lab.dpdk.org/results/dashboard/tarballs/12025/

UNH-IOL DPDK Community Lab

To manage your email subscriptions, visit: 
https://lab.dpdk.org/results/dashboard/preferences/subscriptions/

^ permalink raw reply	[flat|nested] 6+ messages in thread

* [dpdk-test-report] |SUCCESS| [GIT MASTER] 028c57407df4288f061698b95336a9e9a0cf75b3
@ 2020-10-16 21:57 dpdklab
  0 siblings, 0 replies; 6+ messages in thread
From: dpdklab @ 2020-10-16 21:57 UTC (permalink / raw)
  To: Ajit Khaparde, Test Report; +Cc: dpdk-test-reports

[-- Attachment #1: Type: text/plain, Size: 566 bytes --]

_Functional Testing PASS_

Branch: dpdk

028c57407df4288f061698b95336a9e9a0cf75b3 --> functional testing pass

Test environment and result as below:

Ubuntu 18.04
Kernel: 4.15.0-65-generic
Compiler: gcc gcc (Ubuntu 7.4.0-1ubuntu1~18.04.1) 7.4.0
NIC: Broadcom Inc. brcm_57414 25000 Mbps
Target: x86_64-native-linuxapp-gcc
Fail/Total: 0/3


To view detailed results, visit:
https://lab.dpdk.org/results/dashboard/tarballs/12025/

UNH-IOL DPDK Community Lab

To manage your email subscriptions, visit: 
https://lab.dpdk.org/results/dashboard/preferences/subscriptions/

^ permalink raw reply	[flat|nested] 6+ messages in thread

end of thread, back to index

Thread overview: 6+ messages (download: mbox.gz / follow: Atom feed)
-- links below jump to the message on this page --
2020-10-16 22:02 [dpdk-test-report] |SUCCESS| [GIT MASTER] 028c57407df4288f061698b95336a9e9a0cf75b3 dpdklab
  -- strict thread matches above, loose matches on Subject: below --
2020-10-18  8:44 dpdklab
2020-10-16 22:24 dpdklab
2020-10-16 22:02 dpdklab
2020-10-16 22:02 dpdklab
2020-10-16 21:57 dpdklab

automatic DPDK test reports

Archives are clonable:
	git clone --mirror http://inbox.dpdk.org/test-report/0 test-report/git/0.git

	# If you have public-inbox 1.1+ installed, you may
	# initialize and index your mirror using the following commands:
	public-inbox-init -V2 test-report test-report/ http://inbox.dpdk.org/test-report \
		test-report@dpdk.org
	public-inbox-index test-report


Newsgroup available over NNTP:
	nntp://inbox.dpdk.org/inbox.dpdk.test-report


AGPL code for this site: git clone https://public-inbox.org/ public-inbox