automatic DPDK test reports
 help / color / Atom feed
* [dpdk-test-report] |SUCCESS| [GIT MASTER] eb1b13d04341bf5bfbb5853c0b16b439b207da69
@ 2020-10-17  3:11 dpdklab
  0 siblings, 0 replies; 12+ messages in thread
From: dpdklab @ 2020-10-17  3:11 UTC (permalink / raw)
  To: Ali Alnubani, Test Report; +Cc: dpdk-test-reports

[-- Attachment #1: Type: text/plain, Size: 3751 bytes --]

_Performance Testing PASS_

Branch: dpdk-next-net-brcm

eb1b13d04341bf5bfbb5853c0b16b439b207da69 --> performance testing pass

Test environment and result as below:

Ubuntu 18.04
Kernel: 4.15.0-generic
Compiler: gcc 7.4
NIC: Mellanox ConnectX-5 100000 Mbps
Target: x86_64-native-linuxapp-gcc
Fail/Total: 0/6

Detail performance results: 
+------------+---------+-------------------------------------+
| frame_size | txd/rxd | throughput difference from expected |
+============+=========+=====================================+
| 64         | 256     | 0.170                               |
+------------+---------+-------------------------------------+
| 128        | 256     | -0.178                              |
+------------+---------+-------------------------------------+
| 256        | 256     | -0.075                              |
+------------+---------+-------------------------------------+
| 512        | 256     | 0.171                               |
+------------+---------+-------------------------------------+
| 1024       | 256     | 0.073                               |
+------------+---------+-------------------------------------+
| 1518       | 256     | -0.031                              |
+------------+---------+-------------------------------------+

Ubuntu 18.04
Kernel: 4.15.0-generic
Compiler: gcc 7.4
NIC: Mellanox ConnectX-4 Lx 25000 Mbps
Target: x86_64-native-linuxapp-gcc
Fail/Total: 0/6

Detail performance results: 
+------------+---------+-------------------------------------+
| frame_size | txd/rxd | throughput difference from expected |
+============+=========+=====================================+
| 64         | 256     | -0.165                              |
+------------+---------+-------------------------------------+
| 128        | 256     | -0.243                              |
+------------+---------+-------------------------------------+
| 256        | 256     | -0.118                              |
+------------+---------+-------------------------------------+
| 512        | 256     | -0.052                              |
+------------+---------+-------------------------------------+
| 1024       | 256     | 0                                   |
+------------+---------+-------------------------------------+
| 1518       | 256     | 0.003                               |
+------------+---------+-------------------------------------+

Ubuntu 18.04
Kernel: 4.15.0-generic
Compiler: gcc 7.4
NIC: Mellanox ConnectX-4 Lx 40000 Mbps
Target: x86_64-native-linuxapp-gcc
Fail/Total: 0/6

Detail performance results: 
+------------+---------+-------------------------------------+
| frame_size | txd/rxd | throughput difference from expected |
+============+=========+=====================================+
| 64         | 256     | -0.630                              |
+------------+---------+-------------------------------------+
| 128        | 256     | -0.589                              |
+------------+---------+-------------------------------------+
| 256        | 256     | 0.596                               |
+------------+---------+-------------------------------------+
| 512        | 256     | 0.012                               |
+------------+---------+-------------------------------------+
| 1024       | 256     | 0.017                               |
+------------+---------+-------------------------------------+
| 1518       | 256     | -0.001                              |
+------------+---------+-------------------------------------+

To view detailed results, visit:
https://lab.dpdk.org/results/dashboard/tarballs/11985/

UNH-IOL DPDK Community Lab

To manage your email subscriptions, visit: 
https://lab.dpdk.org/results/dashboard/preferences/subscriptions/

^ permalink raw reply	[flat|nested] 12+ messages in thread

* [dpdk-test-report] |SUCCESS| [GIT MASTER] eb1b13d04341bf5bfbb5853c0b16b439b207da69
@ 2020-10-16 17:53 dpdklab
  0 siblings, 0 replies; 12+ messages in thread
From: dpdklab @ 2020-10-16 17:53 UTC (permalink / raw)
  To: Test Report; +Cc: dpdk-test-reports

[-- Attachment #1: Type: text/plain, Size: 1791 bytes --]

_Testing PASS_

Branch: dpdk-next-net-brcm

eb1b13d04341bf5bfbb5853c0b16b439b207da69 --> testing pass

Test environment and result as below:

+---------------------+--------------------+----------------+
|     Environment     | dpdk_meson_compile | dpdk_unit_test |
+=====================+====================+================+
| Windows Server 2019 | PASS               | SKIPPED        |
+---------------------+--------------------+----------------+
| Fedora 31           | PASS               | SKIPPED        |
+---------------------+--------------------+----------------+
| FreeBSD 11.2        | PASS               | SKIPPED        |
+---------------------+--------------------+----------------+
| Ubuntu 18.04        | PASS               | PASS           |
+---------------------+--------------------+----------------+
| CentOS 8            | PASS               | SKIPPED        |
+---------------------+--------------------+----------------+
| openSUSE Leap 15    | PASS               | SKIPPED        |
+---------------------+--------------------+----------------+
| Arch Linux          | PASS               | SKIPPED        |
+---------------------+--------------------+----------------+

Windows Server 2019
	Kernel: 10.0
	Compiler: clang 9.0

Fedora 31
	Kernel: 5.3.16
	Compiler: gcc 9.2.1

FreeBSD 11.2
	Kernel: 11.2
	Compiler: gcc 8.3

Ubuntu 18.04
	Kernel: 4.15.0-generic
	Compiler: gcc 7.4

CentOS 8
	Kernel: 4.18.0.el8_0
	Compiler: gcc 8.3.1

openSUSE Leap 15
	Kernel: 4.12.14
	Compiler: gcc 7.4.1

Arch Linux
	Kernel: latest
	Compiler: gcc latest

To view detailed results, visit:
https://lab.dpdk.org/results/dashboard/tarballs/11985/

UNH-IOL DPDK Community Lab

To manage your email subscriptions, visit: 
https://lab.dpdk.org/results/dashboard/preferences/subscriptions/

^ permalink raw reply	[flat|nested] 12+ messages in thread

* [dpdk-test-report] |SUCCESS| [GIT MASTER] eb1b13d04341bf5bfbb5853c0b16b439b207da69
@ 2020-10-16 14:07 dpdklab
  0 siblings, 0 replies; 12+ messages in thread
From: dpdklab @ 2020-10-16 14:07 UTC (permalink / raw)
  To: Ali Alnubani, Test Report; +Cc: dpdk-test-reports

[-- Attachment #1: Type: text/plain, Size: 3750 bytes --]

_Performance Testing PASS_

Branch: dpdk-next-net-mlx

eb1b13d04341bf5bfbb5853c0b16b439b207da69 --> performance testing pass

Test environment and result as below:

Ubuntu 18.04
Kernel: 4.15.0-generic
Compiler: gcc 7.4
NIC: Mellanox ConnectX-5 100000 Mbps
Target: x86_64-native-linuxapp-gcc
Fail/Total: 0/6

Detail performance results: 
+------------+---------+-------------------------------------+
| frame_size | txd/rxd | throughput difference from expected |
+============+=========+=====================================+
| 64         | 256     | 0.448                               |
+------------+---------+-------------------------------------+
| 128        | 256     | -0.093                              |
+------------+---------+-------------------------------------+
| 256        | 256     | -0.167                              |
+------------+---------+-------------------------------------+
| 512        | 256     | 0.120                               |
+------------+---------+-------------------------------------+
| 1024       | 256     | -0.021                              |
+------------+---------+-------------------------------------+
| 1518       | 256     | -0.034                              |
+------------+---------+-------------------------------------+

Ubuntu 18.04
Kernel: 4.15.0-generic
Compiler: gcc 7.4
NIC: Mellanox ConnectX-4 Lx 25000 Mbps
Target: x86_64-native-linuxapp-gcc
Fail/Total: 0/6

Detail performance results: 
+------------+---------+-------------------------------------+
| frame_size | txd/rxd | throughput difference from expected |
+============+=========+=====================================+
| 64         | 256     | -0.418                              |
+------------+---------+-------------------------------------+
| 128        | 256     | -0.273                              |
+------------+---------+-------------------------------------+
| 256        | 256     | -0.007                              |
+------------+---------+-------------------------------------+
| 512        | 256     | -0.067                              |
+------------+---------+-------------------------------------+
| 1024       | 256     | 0                                   |
+------------+---------+-------------------------------------+
| 1518       | 256     | 0.010                               |
+------------+---------+-------------------------------------+

Ubuntu 18.04
Kernel: 4.15.0-generic
Compiler: gcc 7.4
NIC: Mellanox ConnectX-4 Lx 40000 Mbps
Target: x86_64-native-linuxapp-gcc
Fail/Total: 0/6

Detail performance results: 
+------------+---------+-------------------------------------+
| frame_size | txd/rxd | throughput difference from expected |
+============+=========+=====================================+
| 64         | 256     | -0.775                              |
+------------+---------+-------------------------------------+
| 128        | 256     | -0.625                              |
+------------+---------+-------------------------------------+
| 256        | 256     | 0.422                               |
+------------+---------+-------------------------------------+
| 512        | 256     | -0.046                              |
+------------+---------+-------------------------------------+
| 1024       | 256     | 0.037                               |
+------------+---------+-------------------------------------+
| 1518       | 256     | 0.010                               |
+------------+---------+-------------------------------------+

To view detailed results, visit:
https://lab.dpdk.org/results/dashboard/tarballs/11968/

UNH-IOL DPDK Community Lab

To manage your email subscriptions, visit: 
https://lab.dpdk.org/results/dashboard/preferences/subscriptions/

^ permalink raw reply	[flat|nested] 12+ messages in thread

* [dpdk-test-report] |SUCCESS| [GIT MASTER] eb1b13d04341bf5bfbb5853c0b16b439b207da69
@ 2020-10-16  2:13 dpdklab
  0 siblings, 0 replies; 12+ messages in thread
From: dpdklab @ 2020-10-16  2:13 UTC (permalink / raw)
  To: Test Report; +Cc: dpdk-test-reports

[-- Attachment #1: Type: text/plain, Size: 1704 bytes --]

_Performance Testing PASS_

Branch: dpdk-next-net-brcm

eb1b13d04341bf5bfbb5853c0b16b439b207da69 --> performance testing pass

Test environment and result as below:

Ubuntu 18.04
Kernel: 4.15.0-generic
Compiler: gcc 7.4
NIC: Intel Corporation Ethernet Converged Network Adapter XL710-QDA2 40000 Mbps
Target: x86_64-native-linuxapp-gcc
Fail/Total: 0/2

Detail performance results: 
+------------+---------+-------------------------------------+
| frame_size | txd/rxd | throughput difference from expected |
+============+=========+=====================================+
| 64         | 512     | 2.738                               |
+------------+---------+-------------------------------------+
| 64         | 2048    | 1.594                               |
+------------+---------+-------------------------------------+

Ubuntu 18.04
Kernel: 4.15.0-generic
Compiler: gcc 7.4
NIC: Intel Corporation Ethernet Converged Network Adapter 82599ES 10000 Mbps
Target: x86_64-native-linuxapp-gcc
Fail/Total: 0/2

Detail performance results: 
+------------+---------+-------------------------------------+
| frame_size | txd/rxd | throughput difference from expected |
+============+=========+=====================================+
| 64         | 512     | 1.966                               |
+------------+---------+-------------------------------------+
| 64         | 2048    | 0.896                               |
+------------+---------+-------------------------------------+

To view detailed results, visit:
https://lab.dpdk.org/results/dashboard/tarballs/11985/

UNH-IOL DPDK Community Lab

To manage your email subscriptions, visit: 
https://lab.dpdk.org/results/dashboard/preferences/subscriptions/

^ permalink raw reply	[flat|nested] 12+ messages in thread

* [dpdk-test-report] |SUCCESS| [GIT MASTER] eb1b13d04341bf5bfbb5853c0b16b439b207da69
@ 2020-10-16  0:23 dpdklab
  0 siblings, 0 replies; 12+ messages in thread
From: dpdklab @ 2020-10-16  0:23 UTC (permalink / raw)
  To: Test Report; +Cc: dpdk-test-reports

[-- Attachment #1: Type: text/plain, Size: 578 bytes --]

_Functional Testing PASS_

Branch: dpdk-next-net-brcm

eb1b13d04341bf5bfbb5853c0b16b439b207da69 --> functional testing pass

Test environment and result as below:

Ubuntu 18.04
Kernel: 4.15.0-generic
Compiler: gcc 7.4
NIC: Intel Corporation Ethernet Converged Network Adapter XL710-QDA2 40000 Mbps
Target: x86_64-native-linuxapp-gcc
Fail/Total: 0/4


To view detailed results, visit:
https://lab.dpdk.org/results/dashboard/tarballs/11985/

UNH-IOL DPDK Community Lab

To manage your email subscriptions, visit: 
https://lab.dpdk.org/results/dashboard/preferences/subscriptions/

^ permalink raw reply	[flat|nested] 12+ messages in thread

* [dpdk-test-report] |SUCCESS| [GIT MASTER] eb1b13d04341bf5bfbb5853c0b16b439b207da69
@ 2020-10-15 19:47 dpdklab
  0 siblings, 0 replies; 12+ messages in thread
From: dpdklab @ 2020-10-15 19:47 UTC (permalink / raw)
  To: Ajit Khaparde, Test Report; +Cc: dpdk-test-reports

[-- Attachment #1: Type: text/plain, Size: 580 bytes --]

_Functional Testing PASS_

Branch: dpdk-next-net-brcm

eb1b13d04341bf5bfbb5853c0b16b439b207da69 --> functional testing pass

Test environment and result as below:

Ubuntu 18.04
Kernel: 4.15.0-65-generic
Compiler: gcc gcc (Ubuntu 7.4.0-1ubuntu1~18.04.1) 7.4.0
NIC: Broadcom Inc. brcm_57414 25000 Mbps
Target: x86_64-native-linuxapp-gcc
Fail/Total: 0/3


To view detailed results, visit:
https://lab.dpdk.org/results/dashboard/tarballs/11985/

UNH-IOL DPDK Community Lab

To manage your email subscriptions, visit: 
https://lab.dpdk.org/results/dashboard/preferences/subscriptions/

^ permalink raw reply	[flat|nested] 12+ messages in thread

* [dpdk-test-report] |SUCCESS| [GIT MASTER] eb1b13d04341bf5bfbb5853c0b16b439b207da69
@ 2020-10-15 19:38 dpdklab
  0 siblings, 0 replies; 12+ messages in thread
From: dpdklab @ 2020-10-15 19:38 UTC (permalink / raw)
  To: Ajit Khaparde, Test Report; +Cc: dpdk-test-reports

[-- Attachment #1: Type: text/plain, Size: 1052 bytes --]

_Performance Testing PASS_

Branch: dpdk-next-net-brcm

eb1b13d04341bf5bfbb5853c0b16b439b207da69 --> performance testing pass

Test environment and result as below:

Ubuntu 18.04
Kernel: 4.15.0-65-generic
Compiler: gcc gcc (Ubuntu 7.4.0-1ubuntu1~18.04.1) 7.4.0
NIC: Broadcom Inc. brcm_57414 25000 Mbps
Target: x86_64-native-linuxapp-gcc
Fail/Total: 0/2

Detail performance results: 
+------------+---------+-------------------------------------+
| frame_size | txd/rxd | throughput difference from expected |
+============+=========+=====================================+
| 64         | 512     | -0.002                              |
+------------+---------+-------------------------------------+
| 64         | 2048    | 0.003                               |
+------------+---------+-------------------------------------+

To view detailed results, visit:
https://lab.dpdk.org/results/dashboard/tarballs/11985/

UNH-IOL DPDK Community Lab

To manage your email subscriptions, visit: 
https://lab.dpdk.org/results/dashboard/preferences/subscriptions/

^ permalink raw reply	[flat|nested] 12+ messages in thread

* [dpdk-test-report] |SUCCESS| [GIT MASTER] eb1b13d04341bf5bfbb5853c0b16b439b207da69
@ 2020-10-15 18:58 dpdklab
  0 siblings, 0 replies; 12+ messages in thread
From: dpdklab @ 2020-10-15 18:58 UTC (permalink / raw)
  To: Test Report; +Cc: dpdk-test-reports

[-- Attachment #1: Type: text/plain, Size: 1618 bytes --]

_Testing PASS_

Branch: dpdk-next-net-mlx

eb1b13d04341bf5bfbb5853c0b16b439b207da69 --> testing pass

Test environment and result as below:

+---------------------+--------------------+----------------+
|     Environment     | dpdk_meson_compile | dpdk_unit_test |
+=====================+====================+================+
| Windows Server 2019 | PASS               | SKIPPED        |
+---------------------+--------------------+----------------+
| FreeBSD 11.2        | PASS               | SKIPPED        |
+---------------------+--------------------+----------------+
| Ubuntu 18.04        | PASS               | PASS           |
+---------------------+--------------------+----------------+
| CentOS 8            | PASS               | SKIPPED        |
+---------------------+--------------------+----------------+
| openSUSE Leap 15    | PASS               | SKIPPED        |
+---------------------+--------------------+----------------+
| Arch Linux          | PASS               | SKIPPED        |
+---------------------+--------------------+----------------+

Windows Server 2019
	Kernel: 10.0
	Compiler: clang 9.0

FreeBSD 11.2
	Kernel: 11.2
	Compiler: gcc 8.3

Ubuntu 18.04
	Kernel: 4.15.0-generic
	Compiler: gcc 7.4

CentOS 8
	Kernel: 4.18.0.el8_0
	Compiler: gcc 8.3.1

openSUSE Leap 15
	Kernel: 4.12.14
	Compiler: gcc 7.4.1

Arch Linux
	Kernel: latest
	Compiler: gcc latest

To view detailed results, visit:
https://lab.dpdk.org/results/dashboard/tarballs/11968/

UNH-IOL DPDK Community Lab

To manage your email subscriptions, visit: 
https://lab.dpdk.org/results/dashboard/preferences/subscriptions/

^ permalink raw reply	[flat|nested] 12+ messages in thread

* [dpdk-test-report] |SUCCESS| [GIT MASTER] eb1b13d04341bf5bfbb5853c0b16b439b207da69
@ 2020-10-15 17:55 dpdklab
  0 siblings, 0 replies; 12+ messages in thread
From: dpdklab @ 2020-10-15 17:55 UTC (permalink / raw)
  To: Test Report; +Cc: dpdk-test-reports

[-- Attachment #1: Type: text/plain, Size: 1703 bytes --]

_Performance Testing PASS_

Branch: dpdk-next-net-mlx

eb1b13d04341bf5bfbb5853c0b16b439b207da69 --> performance testing pass

Test environment and result as below:

Ubuntu 18.04
Kernel: 4.15.0-generic
Compiler: gcc 7.4
NIC: Intel Corporation Ethernet Converged Network Adapter XL710-QDA2 40000 Mbps
Target: x86_64-native-linuxapp-gcc
Fail/Total: 0/2

Detail performance results: 
+------------+---------+-------------------------------------+
| frame_size | txd/rxd | throughput difference from expected |
+============+=========+=====================================+
| 64         | 512     | 2.747                               |
+------------+---------+-------------------------------------+
| 64         | 2048    | 1.714                               |
+------------+---------+-------------------------------------+

Ubuntu 18.04
Kernel: 4.15.0-generic
Compiler: gcc 7.4
NIC: Intel Corporation Ethernet Converged Network Adapter 82599ES 10000 Mbps
Target: x86_64-native-linuxapp-gcc
Fail/Total: 0/2

Detail performance results: 
+------------+---------+-------------------------------------+
| frame_size | txd/rxd | throughput difference from expected |
+============+=========+=====================================+
| 64         | 512     | 1.919                               |
+------------+---------+-------------------------------------+
| 64         | 2048    | 0.615                               |
+------------+---------+-------------------------------------+

To view detailed results, visit:
https://lab.dpdk.org/results/dashboard/tarballs/11968/

UNH-IOL DPDK Community Lab

To manage your email subscriptions, visit: 
https://lab.dpdk.org/results/dashboard/preferences/subscriptions/

^ permalink raw reply	[flat|nested] 12+ messages in thread

* [dpdk-test-report] |SUCCESS| [GIT MASTER] eb1b13d04341bf5bfbb5853c0b16b439b207da69
@ 2020-10-15 16:31 dpdklab
  0 siblings, 0 replies; 12+ messages in thread
From: dpdklab @ 2020-10-15 16:31 UTC (permalink / raw)
  To: Test Report; +Cc: dpdk-test-reports

[-- Attachment #1: Type: text/plain, Size: 577 bytes --]

_Functional Testing PASS_

Branch: dpdk-next-net-mlx

eb1b13d04341bf5bfbb5853c0b16b439b207da69 --> functional testing pass

Test environment and result as below:

Ubuntu 18.04
Kernel: 4.15.0-generic
Compiler: gcc 7.4
NIC: Intel Corporation Ethernet Converged Network Adapter XL710-QDA2 40000 Mbps
Target: x86_64-native-linuxapp-gcc
Fail/Total: 0/4


To view detailed results, visit:
https://lab.dpdk.org/results/dashboard/tarballs/11968/

UNH-IOL DPDK Community Lab

To manage your email subscriptions, visit: 
https://lab.dpdk.org/results/dashboard/preferences/subscriptions/

^ permalink raw reply	[flat|nested] 12+ messages in thread

* [dpdk-test-report] |SUCCESS| [GIT MASTER] eb1b13d04341bf5bfbb5853c0b16b439b207da69
@ 2020-10-15 14:42 dpdklab
  0 siblings, 0 replies; 12+ messages in thread
From: dpdklab @ 2020-10-15 14:42 UTC (permalink / raw)
  To: Ajit Khaparde, Test Report; +Cc: dpdk-test-reports

[-- Attachment #1: Type: text/plain, Size: 1051 bytes --]

_Performance Testing PASS_

Branch: dpdk-next-net-mlx

eb1b13d04341bf5bfbb5853c0b16b439b207da69 --> performance testing pass

Test environment and result as below:

Ubuntu 18.04
Kernel: 4.15.0-65-generic
Compiler: gcc gcc (Ubuntu 7.4.0-1ubuntu1~18.04.1) 7.4.0
NIC: Broadcom Inc. brcm_57414 25000 Mbps
Target: x86_64-native-linuxapp-gcc
Fail/Total: 0/2

Detail performance results: 
+------------+---------+-------------------------------------+
| frame_size | txd/rxd | throughput difference from expected |
+============+=========+=====================================+
| 64         | 512     | 0                                   |
+------------+---------+-------------------------------------+
| 64         | 2048    | -0.092                              |
+------------+---------+-------------------------------------+

To view detailed results, visit:
https://lab.dpdk.org/results/dashboard/tarballs/11968/

UNH-IOL DPDK Community Lab

To manage your email subscriptions, visit: 
https://lab.dpdk.org/results/dashboard/preferences/subscriptions/

^ permalink raw reply	[flat|nested] 12+ messages in thread

* [dpdk-test-report] |SUCCESS| [GIT MASTER] eb1b13d04341bf5bfbb5853c0b16b439b207da69
@ 2020-10-15 14:37 dpdklab
  0 siblings, 0 replies; 12+ messages in thread
From: dpdklab @ 2020-10-15 14:37 UTC (permalink / raw)
  To: Ajit Khaparde, Test Report; +Cc: dpdk-test-reports

[-- Attachment #1: Type: text/plain, Size: 579 bytes --]

_Functional Testing PASS_

Branch: dpdk-next-net-mlx

eb1b13d04341bf5bfbb5853c0b16b439b207da69 --> functional testing pass

Test environment and result as below:

Ubuntu 18.04
Kernel: 4.15.0-65-generic
Compiler: gcc gcc (Ubuntu 7.4.0-1ubuntu1~18.04.1) 7.4.0
NIC: Broadcom Inc. brcm_57414 25000 Mbps
Target: x86_64-native-linuxapp-gcc
Fail/Total: 0/3


To view detailed results, visit:
https://lab.dpdk.org/results/dashboard/tarballs/11968/

UNH-IOL DPDK Community Lab

To manage your email subscriptions, visit: 
https://lab.dpdk.org/results/dashboard/preferences/subscriptions/

^ permalink raw reply	[flat|nested] 12+ messages in thread

end of thread, back to index

Thread overview: 12+ messages (download: mbox.gz / follow: Atom feed)
-- links below jump to the message on this page --
2020-10-17  3:11 [dpdk-test-report] |SUCCESS| [GIT MASTER] eb1b13d04341bf5bfbb5853c0b16b439b207da69 dpdklab
  -- strict thread matches above, loose matches on Subject: below --
2020-10-16 17:53 dpdklab
2020-10-16 14:07 dpdklab
2020-10-16  2:13 dpdklab
2020-10-16  0:23 dpdklab
2020-10-15 19:47 dpdklab
2020-10-15 19:38 dpdklab
2020-10-15 18:58 dpdklab
2020-10-15 17:55 dpdklab
2020-10-15 16:31 dpdklab
2020-10-15 14:42 dpdklab
2020-10-15 14:37 dpdklab

automatic DPDK test reports

Archives are clonable:
	git clone --mirror http://inbox.dpdk.org/test-report/0 test-report/git/0.git

	# If you have public-inbox 1.1+ installed, you may
	# initialize and index your mirror using the following commands:
	public-inbox-init -V2 test-report test-report/ http://inbox.dpdk.org/test-report \
		test-report@dpdk.org
	public-inbox-index test-report


Newsgroup available over NNTP:
	nntp://inbox.dpdk.org/inbox.dpdk.test-report


AGPL code for this site: git clone https://public-inbox.org/ public-inbox