automatic DPDK test reports
 help / color / Atom feed
* [dpdk-test-report] |SUCCESS| pw80977 [PATCH] net/vdev_netvsc: Prevent alarm lost on failed device probe
@ 2020-10-17  4:46 dpdklab
  0 siblings, 0 replies; 7+ messages in thread
From: dpdklab @ 2020-10-17  4:46 UTC (permalink / raw)
  To: Ali Alnubani, Test Report; +Cc: dpdk-test-reports

[-- Attachment #1: Type: text/plain, Size: 3963 bytes --]

Test-Label: iol-mellanox-Performance
Test-Status: SUCCESS
http://dpdk.org/patch/80977

_Performance Testing PASS_

Submitter: Long Li <longli@linuxonhyperv.com>
Date: Thursday, October 15 2020 19:33:05 
DPDK git baseline: Repo:dpdk
  Branch: master
  CommitID:f4cbdbc7fbd2cf352d50f5ce7018a63dc5392b1b

80977 --> performance testing pass

Test environment and result as below:

Ubuntu 18.04
Kernel: 4.15.0-generic
Compiler: gcc 7.4
NIC: Mellanox ConnectX-5 100000 Mbps
Target: x86_64-native-linuxapp-gcc
Fail/Total: 0/6

Detail performance results: 
+------------+---------+-------------------------------------+
| frame_size | txd/rxd | throughput difference from expected |
+============+=========+=====================================+
| 64         | 256     | 0.268                               |
+------------+---------+-------------------------------------+
| 128        | 256     | -0.140                              |
+------------+---------+-------------------------------------+
| 256        | 256     | -0.121                              |
+------------+---------+-------------------------------------+
| 512        | 256     | 0.138                               |
+------------+---------+-------------------------------------+
| 1024       | 256     | 0.020                               |
+------------+---------+-------------------------------------+
| 1518       | 256     | -0.020                              |
+------------+---------+-------------------------------------+

Ubuntu 18.04
Kernel: 4.15.0-generic
Compiler: gcc 7.4
NIC: Mellanox ConnectX-4 Lx 25000 Mbps
Target: x86_64-native-linuxapp-gcc
Fail/Total: 0/6

Detail performance results: 
+------------+---------+-------------------------------------+
| frame_size | txd/rxd | throughput difference from expected |
+============+=========+=====================================+
| 64         | 256     | 0.053                               |
+------------+---------+-------------------------------------+
| 128        | 256     | 0.108                               |
+------------+---------+-------------------------------------+
| 256        | 256     | 0.152                               |
+------------+---------+-------------------------------------+
| 512        | 256     | 0.004                               |
+------------+---------+-------------------------------------+
| 1024       | 256     | -0.001                              |
+------------+---------+-------------------------------------+
| 1518       | 256     | 0.012                               |
+------------+---------+-------------------------------------+

Ubuntu 18.04
Kernel: 4.15.0-generic
Compiler: gcc 7.4
NIC: Mellanox ConnectX-4 Lx 40000 Mbps
Target: x86_64-native-linuxapp-gcc
Fail/Total: 0/6

Detail performance results: 
+------------+---------+-------------------------------------+
| frame_size | txd/rxd | throughput difference from expected |
+============+=========+=====================================+
| 64         | 256     | 0.030                               |
+------------+---------+-------------------------------------+
| 128        | 256     | -0.281                              |
+------------+---------+-------------------------------------+
| 256        | 256     | 0.037                               |
+------------+---------+-------------------------------------+
| 512        | 256     | -0.031                              |
+------------+---------+-------------------------------------+
| 1024       | 256     | -0.006                              |
+------------+---------+-------------------------------------+
| 1518       | 256     | 0.008                               |
+------------+---------+-------------------------------------+

To view detailed results, visit:
https://lab.dpdk.org/results/dashboard/patchsets/13765/

UNH-IOL DPDK Community Lab

To manage your email subscriptions, visit: 
https://lab.dpdk.org/results/dashboard/preferences/subscriptions/

^ permalink raw reply	[flat|nested] 7+ messages in thread

* [dpdk-test-report] |SUCCESS| pw80977 [PATCH] net/vdev_netvsc: Prevent alarm lost on failed device probe
@ 2020-10-16 15:02 dpdklab
  0 siblings, 0 replies; 7+ messages in thread
From: dpdklab @ 2020-10-16 15:02 UTC (permalink / raw)
  To: Test Report; +Cc: dpdk-test-reports

[-- Attachment #1: Type: text/plain, Size: 1990 bytes --]

Test-Label: iol-testing
Test-Status: SUCCESS
http://dpdk.org/patch/80977

_Testing PASS_

Submitter: Long Li <longli@linuxonhyperv.com>
Date: Thursday, October 15 2020 19:33:05 
DPDK git baseline: Repo:dpdk
  Branch: master
  CommitID:f4cbdbc7fbd2cf352d50f5ce7018a63dc5392b1b

80977 --> testing pass

Test environment and result as below:

+---------------------+--------------------+----------------+
|     Environment     | dpdk_meson_compile | dpdk_unit_test |
+=====================+====================+================+
| Windows Server 2019 | PASS               | SKIPPED        |
+---------------------+--------------------+----------------+
| Fedora 31           | PASS               | SKIPPED        |
+---------------------+--------------------+----------------+
| FreeBSD 11.2        | PASS               | SKIPPED        |
+---------------------+--------------------+----------------+
| CentOS 8            | PASS               | SKIPPED        |
+---------------------+--------------------+----------------+
| openSUSE Leap 15    | PASS               | SKIPPED        |
+---------------------+--------------------+----------------+
| Arch Linux          | PASS               | SKIPPED        |
+---------------------+--------------------+----------------+
| Ubuntu 18.04        | PASS               | PASS           |
+---------------------+--------------------+----------------+

Windows Server 2019
	Kernel: 10.0
	Compiler: clang 9.0

Fedora 31
	Kernel: 5.3.16
	Compiler: gcc 9.2.1

FreeBSD 11.2
	Kernel: 11.2
	Compiler: gcc 8.3

CentOS 8
	Kernel: 4.18.0.el8_0
	Compiler: gcc 8.3.1

openSUSE Leap 15
	Kernel: 4.12.14
	Compiler: gcc 7.4.1

Arch Linux
	Kernel: latest
	Compiler: gcc latest

Ubuntu 18.04
	Kernel: 4.15.0-generic
	Compiler: gcc 7.4

To view detailed results, visit:
https://lab.dpdk.org/results/dashboard/patchsets/13765/

UNH-IOL DPDK Community Lab

To manage your email subscriptions, visit: 
https://lab.dpdk.org/results/dashboard/preferences/subscriptions/

^ permalink raw reply	[flat|nested] 7+ messages in thread

* [dpdk-test-report] |SUCCESS| pw80977 [PATCH] net/vdev_netvsc: Prevent alarm lost on failed device probe
@ 2020-10-16  3:16 dpdklab
  0 siblings, 0 replies; 7+ messages in thread
From: dpdklab @ 2020-10-16  3:16 UTC (permalink / raw)
  To: Test Report; +Cc: dpdk-test-reports

[-- Attachment #1: Type: text/plain, Size: 1913 bytes --]

Test-Label: iol-intel-Performance
Test-Status: SUCCESS
http://dpdk.org/patch/80977

_Performance Testing PASS_

Submitter: Long Li <longli@linuxonhyperv.com>
Date: Thursday, October 15 2020 19:33:05 
DPDK git baseline: Repo:dpdk
  Branch: master
  CommitID:f4cbdbc7fbd2cf352d50f5ce7018a63dc5392b1b

80977 --> performance testing pass

Test environment and result as below:

Ubuntu 18.04
Kernel: 4.15.0-generic
Compiler: gcc 7.4
NIC: Intel Corporation Ethernet Converged Network Adapter XL710-QDA2 40000 Mbps
Target: x86_64-native-linuxapp-gcc
Fail/Total: 0/2

Detail performance results: 
+------------+---------+-------------------------------------+
| frame_size | txd/rxd | throughput difference from expected |
+============+=========+=====================================+
| 64         | 512     | 2.463                               |
+------------+---------+-------------------------------------+
| 64         | 2048    | 1.732                               |
+------------+---------+-------------------------------------+

Ubuntu 18.04
Kernel: 4.15.0-generic
Compiler: gcc 7.4
NIC: Intel Corporation Ethernet Converged Network Adapter 82599ES 10000 Mbps
Target: x86_64-native-linuxapp-gcc
Fail/Total: 0/2

Detail performance results: 
+------------+---------+-------------------------------------+
| frame_size | txd/rxd | throughput difference from expected |
+============+=========+=====================================+
| 64         | 512     | 1.648                               |
+------------+---------+-------------------------------------+
| 64         | 2048    | 0.791                               |
+------------+---------+-------------------------------------+

To view detailed results, visit:
https://lab.dpdk.org/results/dashboard/patchsets/13765/

UNH-IOL DPDK Community Lab

To manage your email subscriptions, visit: 
https://lab.dpdk.org/results/dashboard/preferences/subscriptions/

^ permalink raw reply	[flat|nested] 7+ messages in thread

* [dpdk-test-report] |SUCCESS| pw80977 [PATCH] net/vdev_netvsc: Prevent alarm lost on failed device probe
@ 2020-10-16  1:21 dpdklab
  0 siblings, 0 replies; 7+ messages in thread
From: dpdklab @ 2020-10-16  1:21 UTC (permalink / raw)
  To: Test Report; +Cc: dpdk-test-reports

[-- Attachment #1: Type: text/plain, Size: 786 bytes --]

Test-Label: iol-intel-Functional
Test-Status: SUCCESS
http://dpdk.org/patch/80977

_Functional Testing PASS_

Submitter: Long Li <longli@linuxonhyperv.com>
Date: Thursday, October 15 2020 19:33:05 
DPDK git baseline: Repo:dpdk
  Branch: master
  CommitID:f4cbdbc7fbd2cf352d50f5ce7018a63dc5392b1b

80977 --> functional testing pass

Test environment and result as below:

Ubuntu 18.04
Kernel: 4.15.0-generic
Compiler: gcc 7.4
NIC: Intel Corporation Ethernet Converged Network Adapter XL710-QDA2 40000 Mbps
Target: x86_64-native-linuxapp-gcc
Fail/Total: 0/4


To view detailed results, visit:
https://lab.dpdk.org/results/dashboard/patchsets/13765/

UNH-IOL DPDK Community Lab

To manage your email subscriptions, visit: 
https://lab.dpdk.org/results/dashboard/preferences/subscriptions/

^ permalink raw reply	[flat|nested] 7+ messages in thread

* [dpdk-test-report] |SUCCESS| pw80977 [PATCH] net/vdev_netvsc: Prevent alarm lost on failed device probe
@ 2020-10-15 20:27 dpdklab
  0 siblings, 0 replies; 7+ messages in thread
From: dpdklab @ 2020-10-15 20:27 UTC (permalink / raw)
  To: Ajit Khaparde, Test Report; +Cc: dpdk-test-reports

[-- Attachment #1: Type: text/plain, Size: 1264 bytes --]

Test-Label: iol-broadcom-Performance
Test-Status: SUCCESS
http://dpdk.org/patch/80977

_Performance Testing PASS_

Submitter: Long Li <longli@linuxonhyperv.com>
Date: Thursday, October 15 2020 19:33:05 
DPDK git baseline: Repo:dpdk
  Branch: master
  CommitID:f4cbdbc7fbd2cf352d50f5ce7018a63dc5392b1b

80977 --> performance testing pass

Test environment and result as below:

Ubuntu 18.04
Kernel: 4.15.0-65-generic
Compiler: gcc gcc (Ubuntu 7.4.0-1ubuntu1~18.04.1) 7.4.0
NIC: Broadcom Inc. brcm_57414 25000 Mbps
Target: x86_64-native-linuxapp-gcc
Fail/Total: 0/2

Detail performance results: 
+------------+---------+-------------------------------------+
| frame_size | txd/rxd | throughput difference from expected |
+============+=========+=====================================+
| 64         | 512     | -0.021                              |
+------------+---------+-------------------------------------+
| 64         | 2048    | -0.083                              |
+------------+---------+-------------------------------------+

To view detailed results, visit:
https://lab.dpdk.org/results/dashboard/patchsets/13765/

UNH-IOL DPDK Community Lab

To manage your email subscriptions, visit: 
https://lab.dpdk.org/results/dashboard/preferences/subscriptions/

^ permalink raw reply	[flat|nested] 7+ messages in thread

* [dpdk-test-report] |SUCCESS| pw80977 [PATCH] net/vdev_netvsc: Prevent alarm lost on failed device probe
@ 2020-10-15 20:21 dpdklab
  0 siblings, 0 replies; 7+ messages in thread
From: dpdklab @ 2020-10-15 20:21 UTC (permalink / raw)
  To: Ajit Khaparde, Test Report; +Cc: dpdk-test-reports

[-- Attachment #1: Type: text/plain, Size: 791 bytes --]

Test-Label: iol-broadcom-Functional
Test-Status: SUCCESS
http://dpdk.org/patch/80977

_Functional Testing PASS_

Submitter: Long Li <longli@linuxonhyperv.com>
Date: Thursday, October 15 2020 19:33:05 
DPDK git baseline: Repo:dpdk
  Branch: master
  CommitID:f4cbdbc7fbd2cf352d50f5ce7018a63dc5392b1b

80977 --> functional testing pass

Test environment and result as below:

Ubuntu 18.04
Kernel: 4.15.0-65-generic
Compiler: gcc gcc (Ubuntu 7.4.0-1ubuntu1~18.04.1) 7.4.0
NIC: Broadcom Inc. brcm_57414 25000 Mbps
Target: x86_64-native-linuxapp-gcc
Fail/Total: 0/3


To view detailed results, visit:
https://lab.dpdk.org/results/dashboard/patchsets/13765/

UNH-IOL DPDK Community Lab

To manage your email subscriptions, visit: 
https://lab.dpdk.org/results/dashboard/preferences/subscriptions/

^ permalink raw reply	[flat|nested] 7+ messages in thread

* [dpdk-test-report] |SUCCESS| pw80977 [PATCH] net/vdev_netvsc: Prevent alarm lost on failed device probe
       [not found] <1602790385-13032-1-git-send-email-longli@linuxonhyperv.com>
@ 2020-10-15 19:33 ` checkpatch
  0 siblings, 0 replies; 7+ messages in thread
From: checkpatch @ 2020-10-15 19:33 UTC (permalink / raw)
  To: test-report

Test-Label: checkpatch
Test-Status: SUCCESS
http://dpdk.org/patch/80977

_coding style OK_



^ permalink raw reply	[flat|nested] 7+ messages in thread

end of thread, back to index

Thread overview: 7+ messages (download: mbox.gz / follow: Atom feed)
-- links below jump to the message on this page --
2020-10-17  4:46 [dpdk-test-report] |SUCCESS| pw80977 [PATCH] net/vdev_netvsc: Prevent alarm lost on failed device probe dpdklab
  -- strict thread matches above, loose matches on Subject: below --
2020-10-16 15:02 dpdklab
2020-10-16  3:16 dpdklab
2020-10-16  1:21 dpdklab
2020-10-15 20:27 dpdklab
2020-10-15 20:21 dpdklab
     [not found] <1602790385-13032-1-git-send-email-longli@linuxonhyperv.com>
2020-10-15 19:33 ` checkpatch

automatic DPDK test reports

Archives are clonable:
	git clone --mirror http://inbox.dpdk.org/test-report/0 test-report/git/0.git

	# If you have public-inbox 1.1+ installed, you may
	# initialize and index your mirror using the following commands:
	public-inbox-init -V2 test-report test-report/ http://inbox.dpdk.org/test-report \
		test-report@dpdk.org
	public-inbox-index test-report


Newsgroup available over NNTP:
	nntp://inbox.dpdk.org/inbox.dpdk.test-report


AGPL code for this site: git clone https://public-inbox.org/ public-inbox