automatic DPDK test reports
 help / color / Atom feed
* [dpdk-test-report] |SUCCESS| pw81197 [PATCH] [v4] security: update session create API
@ 2020-10-17 12:32 dpdklab
  0 siblings, 0 replies; 7+ messages in thread
From: dpdklab @ 2020-10-17 12:32 UTC (permalink / raw)
  To: Ajit Khaparde, Test Report; +Cc: dpdk-test-reports

[-- Attachment #1: Type: text/plain, Size: 790 bytes --]

Test-Label: iol-broadcom-Functional
Test-Status: SUCCESS
http://dpdk.org/patch/81197

_Functional Testing PASS_

Submitter: Akhil Goyal <akhil.goyal@nxp.com>
Date: Saturday, October 17 2020 11:50:10 
DPDK git baseline: Repo:dpdk
  Branch: master
  CommitID:028c57407df4288f061698b95336a9e9a0cf75b3

81197 --> functional testing pass

Test environment and result as below:

Ubuntu 18.04
Kernel: 4.15.0-65-generic
Compiler: gcc gcc (Ubuntu 7.4.0-1ubuntu1~18.04.1) 7.4.0
NIC: Broadcom Inc. brcm_57414 25000 Mbps
Target: x86_64-native-linuxapp-gcc
Fail/Total: 0/3


To view detailed results, visit:
https://lab.dpdk.org/results/dashboard/patchsets/13810/

UNH-IOL DPDK Community Lab

To manage your email subscriptions, visit: 
https://lab.dpdk.org/results/dashboard/preferences/subscriptions/

^ permalink raw reply	[flat|nested] 7+ messages in thread

* [dpdk-test-report] |SUCCESS| pw81197 [PATCH] [v4] security: update session create API
@ 2020-10-18 11:53 dpdklab
  0 siblings, 0 replies; 7+ messages in thread
From: dpdklab @ 2020-10-18 11:53 UTC (permalink / raw)
  To: Ali Alnubani, Test Report; +Cc: dpdk-test-reports

[-- Attachment #1: Type: text/plain, Size: 3962 bytes --]

Test-Label: iol-mellanox-Performance
Test-Status: SUCCESS
http://dpdk.org/patch/81197

_Performance Testing PASS_

Submitter: Akhil Goyal <akhil.goyal@nxp.com>
Date: Saturday, October 17 2020 11:50:10 
DPDK git baseline: Repo:dpdk
  Branch: master
  CommitID:028c57407df4288f061698b95336a9e9a0cf75b3

81197 --> performance testing pass

Test environment and result as below:

Ubuntu 18.04
Kernel: 4.15.0-generic
Compiler: gcc 7.4
NIC: Mellanox ConnectX-5 100000 Mbps
Target: x86_64-native-linuxapp-gcc
Fail/Total: 0/6

Detail performance results: 
+------------+---------+-------------------------------------+
| frame_size | txd/rxd | throughput difference from expected |
+============+=========+=====================================+
| 64         | 256     | 0.195                               |
+------------+---------+-------------------------------------+
| 128        | 256     | 0.045                               |
+------------+---------+-------------------------------------+
| 256        | 256     | -0.094                              |
+------------+---------+-------------------------------------+
| 512        | 256     | -0.041                              |
+------------+---------+-------------------------------------+
| 1024       | 256     | -0.005                              |
+------------+---------+-------------------------------------+
| 1518       | 256     | 0.027                               |
+------------+---------+-------------------------------------+

Ubuntu 18.04
Kernel: 4.15.0-generic
Compiler: gcc 7.4
NIC: Mellanox ConnectX-4 Lx 25000 Mbps
Target: x86_64-native-linuxapp-gcc
Fail/Total: 0/6

Detail performance results: 
+------------+---------+-------------------------------------+
| frame_size | txd/rxd | throughput difference from expected |
+============+=========+=====================================+
| 64         | 256     | -0.003                              |
+------------+---------+-------------------------------------+
| 128        | 256     | -0.003                              |
+------------+---------+-------------------------------------+
| 256        | 256     | -0.039                              |
+------------+---------+-------------------------------------+
| 512        | 256     | 0.050                               |
+------------+---------+-------------------------------------+
| 1024       | 256     | 0.017                               |
+------------+---------+-------------------------------------+
| 1518       | 256     | 0.004                               |
+------------+---------+-------------------------------------+

Ubuntu 18.04
Kernel: 4.15.0-generic
Compiler: gcc 7.4
NIC: Mellanox ConnectX-4 Lx 40000 Mbps
Target: x86_64-native-linuxapp-gcc
Fail/Total: 0/6

Detail performance results: 
+------------+---------+-------------------------------------+
| frame_size | txd/rxd | throughput difference from expected |
+============+=========+=====================================+
| 64         | 256     | 0.089                               |
+------------+---------+-------------------------------------+
| 128        | 256     | 0.049                               |
+------------+---------+-------------------------------------+
| 256        | 256     | -0.131                              |
+------------+---------+-------------------------------------+
| 512        | 256     | 0.037                               |
+------------+---------+-------------------------------------+
| 1024       | 256     | 0.013                               |
+------------+---------+-------------------------------------+
| 1518       | 256     | 0.005                               |
+------------+---------+-------------------------------------+

To view detailed results, visit:
https://lab.dpdk.org/results/dashboard/patchsets/13810/

UNH-IOL DPDK Community Lab

To manage your email subscriptions, visit: 
https://lab.dpdk.org/results/dashboard/preferences/subscriptions/

^ permalink raw reply	[flat|nested] 7+ messages in thread

* [dpdk-test-report] |SUCCESS| pw81197 [PATCH] [v4] security: update session create API
@ 2020-10-17 12:55 dpdklab
  0 siblings, 0 replies; 7+ messages in thread
From: dpdklab @ 2020-10-17 12:55 UTC (permalink / raw)
  To: Test Report; +Cc: dpdk-test-reports

[-- Attachment #1: Type: text/plain, Size: 1912 bytes --]

Test-Label: iol-intel-Performance
Test-Status: SUCCESS
http://dpdk.org/patch/81197

_Performance Testing PASS_

Submitter: Akhil Goyal <akhil.goyal@nxp.com>
Date: Saturday, October 17 2020 11:50:10 
DPDK git baseline: Repo:dpdk
  Branch: master
  CommitID:028c57407df4288f061698b95336a9e9a0cf75b3

81197 --> performance testing pass

Test environment and result as below:

Ubuntu 18.04
Kernel: 4.15.0-generic
Compiler: gcc 7.4
NIC: Intel Corporation Ethernet Converged Network Adapter XL710-QDA2 40000 Mbps
Target: x86_64-native-linuxapp-gcc
Fail/Total: 0/2

Detail performance results: 
+------------+---------+-------------------------------------+
| frame_size | txd/rxd | throughput difference from expected |
+============+=========+=====================================+
| 64         | 512     | 2.650                               |
+------------+---------+-------------------------------------+
| 64         | 2048    | 1.635                               |
+------------+---------+-------------------------------------+

Ubuntu 18.04
Kernel: 4.15.0-generic
Compiler: gcc 7.4
NIC: Intel Corporation Ethernet Converged Network Adapter 82599ES 10000 Mbps
Target: x86_64-native-linuxapp-gcc
Fail/Total: 0/2

Detail performance results: 
+------------+---------+-------------------------------------+
| frame_size | txd/rxd | throughput difference from expected |
+============+=========+=====================================+
| 64         | 512     | 1.907                               |
+------------+---------+-------------------------------------+
| 64         | 2048    | 0.586                               |
+------------+---------+-------------------------------------+

To view detailed results, visit:
https://lab.dpdk.org/results/dashboard/patchsets/13810/

UNH-IOL DPDK Community Lab

To manage your email subscriptions, visit: 
https://lab.dpdk.org/results/dashboard/preferences/subscriptions/

^ permalink raw reply	[flat|nested] 7+ messages in thread

* [dpdk-test-report] |SUCCESS| pw81197 [PATCH] [v4] security: update session create API
@ 2020-10-17 12:33 dpdklab
  0 siblings, 0 replies; 7+ messages in thread
From: dpdklab @ 2020-10-17 12:33 UTC (permalink / raw)
  To: Test Report; +Cc: dpdk-test-reports

[-- Attachment #1: Type: text/plain, Size: 1989 bytes --]

Test-Label: iol-testing
Test-Status: SUCCESS
http://dpdk.org/patch/81197

_Testing PASS_

Submitter: Akhil Goyal <akhil.goyal@nxp.com>
Date: Saturday, October 17 2020 11:50:10 
DPDK git baseline: Repo:dpdk
  Branch: master
  CommitID:028c57407df4288f061698b95336a9e9a0cf75b3

81197 --> testing pass

Test environment and result as below:

+---------------------+--------------------+----------------+
|     Environment     | dpdk_meson_compile | dpdk_unit_test |
+=====================+====================+================+
| Windows Server 2019 | PASS               | SKIPPED        |
+---------------------+--------------------+----------------+
| FreeBSD 11.2        | PASS               | SKIPPED        |
+---------------------+--------------------+----------------+
| Ubuntu 18.04        | PASS               | PASS           |
+---------------------+--------------------+----------------+
| CentOS 8            | PASS               | SKIPPED        |
+---------------------+--------------------+----------------+
| Fedora 31           | PASS               | SKIPPED        |
+---------------------+--------------------+----------------+
| openSUSE Leap 15    | PASS               | SKIPPED        |
+---------------------+--------------------+----------------+
| Arch Linux          | PASS               | SKIPPED        |
+---------------------+--------------------+----------------+

Windows Server 2019
	Kernel: 10.0
	Compiler: clang 9.0

FreeBSD 11.2
	Kernel: 11.2
	Compiler: gcc 8.3

Ubuntu 18.04
	Kernel: 4.15.0-generic
	Compiler: gcc 7.4

CentOS 8
	Kernel: 4.18.0.el8_0
	Compiler: gcc 8.3.1

Fedora 31
	Kernel: 5.3.16
	Compiler: gcc 9.2.1

openSUSE Leap 15
	Kernel: 4.12.14
	Compiler: gcc 7.4.1

Arch Linux
	Kernel: latest
	Compiler: gcc latest

To view detailed results, visit:
https://lab.dpdk.org/results/dashboard/patchsets/13810/

UNH-IOL DPDK Community Lab

To manage your email subscriptions, visit: 
https://lab.dpdk.org/results/dashboard/preferences/subscriptions/

^ permalink raw reply	[flat|nested] 7+ messages in thread

* [dpdk-test-report] |SUCCESS| pw81197 [PATCH] [v4] security: update session create API
@ 2020-10-17 12:32 dpdklab
  0 siblings, 0 replies; 7+ messages in thread
From: dpdklab @ 2020-10-17 12:32 UTC (permalink / raw)
  To: Test Report; +Cc: dpdk-test-reports

[-- Attachment #1: Type: text/plain, Size: 785 bytes --]

Test-Label: iol-intel-Functional
Test-Status: SUCCESS
http://dpdk.org/patch/81197

_Functional Testing PASS_

Submitter: Akhil Goyal <akhil.goyal@nxp.com>
Date: Saturday, October 17 2020 11:50:10 
DPDK git baseline: Repo:dpdk
  Branch: master
  CommitID:028c57407df4288f061698b95336a9e9a0cf75b3

81197 --> functional testing pass

Test environment and result as below:

Ubuntu 18.04
Kernel: 4.15.0-generic
Compiler: gcc 7.4
NIC: Intel Corporation Ethernet Converged Network Adapter XL710-QDA2 40000 Mbps
Target: x86_64-native-linuxapp-gcc
Fail/Total: 0/4


To view detailed results, visit:
https://lab.dpdk.org/results/dashboard/patchsets/13810/

UNH-IOL DPDK Community Lab

To manage your email subscriptions, visit: 
https://lab.dpdk.org/results/dashboard/preferences/subscriptions/

^ permalink raw reply	[flat|nested] 7+ messages in thread

* [dpdk-test-report] |SUCCESS| pw81197 [PATCH] [v4] security: update session create API
@ 2020-10-17 12:24 dpdklab
  0 siblings, 0 replies; 7+ messages in thread
From: dpdklab @ 2020-10-17 12:24 UTC (permalink / raw)
  To: Ajit Khaparde, Test Report; +Cc: dpdk-test-reports

[-- Attachment #1: Type: text/plain, Size: 1263 bytes --]

Test-Label: iol-broadcom-Performance
Test-Status: SUCCESS
http://dpdk.org/patch/81197

_Performance Testing PASS_

Submitter: Akhil Goyal <akhil.goyal@nxp.com>
Date: Saturday, October 17 2020 11:50:10 
DPDK git baseline: Repo:dpdk
  Branch: master
  CommitID:028c57407df4288f061698b95336a9e9a0cf75b3

81197 --> performance testing pass

Test environment and result as below:

Ubuntu 18.04
Kernel: 4.15.0-65-generic
Compiler: gcc gcc (Ubuntu 7.4.0-1ubuntu1~18.04.1) 7.4.0
NIC: Broadcom Inc. brcm_57414 25000 Mbps
Target: x86_64-native-linuxapp-gcc
Fail/Total: 0/2

Detail performance results: 
+------------+---------+-------------------------------------+
| frame_size | txd/rxd | throughput difference from expected |
+============+=========+=====================================+
| 64         | 512     | -0.023                              |
+------------+---------+-------------------------------------+
| 64         | 2048    | -0.007                              |
+------------+---------+-------------------------------------+

To view detailed results, visit:
https://lab.dpdk.org/results/dashboard/patchsets/13810/

UNH-IOL DPDK Community Lab

To manage your email subscriptions, visit: 
https://lab.dpdk.org/results/dashboard/preferences/subscriptions/

^ permalink raw reply	[flat|nested] 7+ messages in thread

* [dpdk-test-report] |SUCCESS| pw81197 [PATCH v4] security: update session create API
       [not found] <20201017115010.17477-1-akhil.goyal@nxp.com>
@ 2020-10-17 11:50 ` " checkpatch
  0 siblings, 0 replies; 7+ messages in thread
From: checkpatch @ 2020-10-17 11:50 UTC (permalink / raw)
  To: test-report

Test-Label: checkpatch
Test-Status: SUCCESS
http://dpdk.org/patch/81197

_coding style OK_



^ permalink raw reply	[flat|nested] 7+ messages in thread

end of thread, back to index

Thread overview: 7+ messages (download: mbox.gz / follow: Atom feed)
-- links below jump to the message on this page --
2020-10-17 12:32 [dpdk-test-report] |SUCCESS| pw81197 [PATCH] [v4] security: update session create API dpdklab
  -- strict thread matches above, loose matches on Subject: below --
2020-10-18 11:53 dpdklab
2020-10-17 12:55 dpdklab
2020-10-17 12:33 dpdklab
2020-10-17 12:32 dpdklab
2020-10-17 12:24 dpdklab
     [not found] <20201017115010.17477-1-akhil.goyal@nxp.com>
2020-10-17 11:50 ` [dpdk-test-report] |SUCCESS| pw81197 [PATCH v4] " checkpatch

automatic DPDK test reports

Archives are clonable:
	git clone --mirror http://inbox.dpdk.org/test-report/0 test-report/git/0.git

	# If you have public-inbox 1.1+ installed, you may
	# initialize and index your mirror using the following commands:
	public-inbox-init -V2 test-report test-report/ http://inbox.dpdk.org/test-report \
		test-report@dpdk.org
	public-inbox-index test-report


Newsgroup available over NNTP:
	nntp://inbox.dpdk.org/inbox.dpdk.test-report


AGPL code for this site: git clone https://public-inbox.org/ public-inbox