automatic DPDK test reports
 help / color / Atom feed
* [dpdk-test-report] |SUCCESS| [GIT MASTER] 2b337dd4d35b36d8670ff5c8a7ca70c8cfa6709a
@ 2020-10-17 18:33 dpdklab
  0 siblings, 0 replies; 12+ messages in thread
From: dpdklab @ 2020-10-17 18:33 UTC (permalink / raw)
  To: Test Report; +Cc: dpdk-test-reports

[-- Attachment #1: Type: text/plain, Size: 1786 bytes --]

_Testing PASS_

Branch: dpdk-next-net

2b337dd4d35b36d8670ff5c8a7ca70c8cfa6709a --> testing pass

Test environment and result as below:

+---------------------+--------------------+----------------+
|     Environment     | dpdk_meson_compile | dpdk_unit_test |
+=====================+====================+================+
| Windows Server 2019 | PASS               | SKIPPED        |
+---------------------+--------------------+----------------+
| FreeBSD 11.2        | PASS               | SKIPPED        |
+---------------------+--------------------+----------------+
| Fedora 31           | PASS               | SKIPPED        |
+---------------------+--------------------+----------------+
| CentOS 8            | PASS               | SKIPPED        |
+---------------------+--------------------+----------------+
| Ubuntu 18.04        | PASS               | PASS           |
+---------------------+--------------------+----------------+
| openSUSE Leap 15    | PASS               | SKIPPED        |
+---------------------+--------------------+----------------+
| Arch Linux          | PASS               | SKIPPED        |
+---------------------+--------------------+----------------+

Windows Server 2019
	Kernel: 10.0
	Compiler: clang 9.0

FreeBSD 11.2
	Kernel: 11.2
	Compiler: gcc 8.3

Fedora 31
	Kernel: 5.3.16
	Compiler: gcc 9.2.1

CentOS 8
	Kernel: 4.18.0.el8_0
	Compiler: gcc 8.3.1

Ubuntu 18.04
	Kernel: 4.15.0-generic
	Compiler: gcc 7.4

openSUSE Leap 15
	Kernel: 4.12.14
	Compiler: gcc 7.4.1

Arch Linux
	Kernel: latest
	Compiler: gcc latest

To view detailed results, visit:
https://lab.dpdk.org/results/dashboard/tarballs/12030/

UNH-IOL DPDK Community Lab

To manage your email subscriptions, visit: 
https://lab.dpdk.org/results/dashboard/preferences/subscriptions/

^ permalink raw reply	[flat|nested] 12+ messages in thread

* [dpdk-test-report] |SUCCESS| [GIT MASTER] 2b337dd4d35b36d8670ff5c8a7ca70c8cfa6709a
@ 2020-10-18 13:36 dpdklab
  0 siblings, 0 replies; 12+ messages in thread
From: dpdklab @ 2020-10-18 13:36 UTC (permalink / raw)
  To: Ali Alnubani, Test Report; +Cc: dpdk-test-reports

[-- Attachment #1: Type: text/plain, Size: 3751 bytes --]

_Performance Testing PASS_

Branch: dpdk-next-net-brcm

2b337dd4d35b36d8670ff5c8a7ca70c8cfa6709a --> performance testing pass

Test environment and result as below:

Ubuntu 18.04
Kernel: 4.15.0-generic
Compiler: gcc 7.4
NIC: Mellanox ConnectX-5 100000 Mbps
Target: x86_64-native-linuxapp-gcc
Fail/Total: 0/6

Detail performance results: 
+------------+---------+-------------------------------------+
| frame_size | txd/rxd | throughput difference from expected |
+============+=========+=====================================+
| 64         | 256     | 0.322                               |
+------------+---------+-------------------------------------+
| 128        | 256     | 0.126                               |
+------------+---------+-------------------------------------+
| 256        | 256     | -0.139                              |
+------------+---------+-------------------------------------+
| 512        | 256     | -0.358                              |
+------------+---------+-------------------------------------+
| 1024       | 256     | -0.045                              |
+------------+---------+-------------------------------------+
| 1518       | 256     | 0.016                               |
+------------+---------+-------------------------------------+

Ubuntu 18.04
Kernel: 4.15.0-generic
Compiler: gcc 7.4
NIC: Mellanox ConnectX-4 Lx 25000 Mbps
Target: x86_64-native-linuxapp-gcc
Fail/Total: 0/6

Detail performance results: 
+------------+---------+-------------------------------------+
| frame_size | txd/rxd | throughput difference from expected |
+============+=========+=====================================+
| 64         | 256     | 0.163                               |
+------------+---------+-------------------------------------+
| 128        | 256     | 0.036                               |
+------------+---------+-------------------------------------+
| 256        | 256     | -0.019                              |
+------------+---------+-------------------------------------+
| 512        | 256     | -0.033                              |
+------------+---------+-------------------------------------+
| 1024       | 256     | 0.013                               |
+------------+---------+-------------------------------------+
| 1518       | 256     | 0.008                               |
+------------+---------+-------------------------------------+

Ubuntu 18.04
Kernel: 4.15.0-generic
Compiler: gcc 7.4
NIC: Mellanox ConnectX-4 Lx 40000 Mbps
Target: x86_64-native-linuxapp-gcc
Fail/Total: 0/6

Detail performance results: 
+------------+---------+-------------------------------------+
| frame_size | txd/rxd | throughput difference from expected |
+============+=========+=====================================+
| 64         | 256     | 0.204                               |
+------------+---------+-------------------------------------+
| 128        | 256     | 0.074                               |
+------------+---------+-------------------------------------+
| 256        | 256     | -0.276                              |
+------------+---------+-------------------------------------+
| 512        | 256     | -0.048                              |
+------------+---------+-------------------------------------+
| 1024       | 256     | -0.003                              |
+------------+---------+-------------------------------------+
| 1518       | 256     | 0.007                               |
+------------+---------+-------------------------------------+

To view detailed results, visit:
https://lab.dpdk.org/results/dashboard/tarballs/12031/

UNH-IOL DPDK Community Lab

To manage your email subscriptions, visit: 
https://lab.dpdk.org/results/dashboard/preferences/subscriptions/

^ permalink raw reply	[flat|nested] 12+ messages in thread

* [dpdk-test-report] |SUCCESS| [GIT MASTER] 2b337dd4d35b36d8670ff5c8a7ca70c8cfa6709a
@ 2020-10-18 12:43 dpdklab
  0 siblings, 0 replies; 12+ messages in thread
From: dpdklab @ 2020-10-18 12:43 UTC (permalink / raw)
  To: Ali Alnubani, Test Report; +Cc: dpdk-test-reports

[-- Attachment #1: Type: text/plain, Size: 3746 bytes --]

_Performance Testing PASS_

Branch: dpdk-next-net

2b337dd4d35b36d8670ff5c8a7ca70c8cfa6709a --> performance testing pass

Test environment and result as below:

Ubuntu 18.04
Kernel: 4.15.0-generic
Compiler: gcc 7.4
NIC: Mellanox ConnectX-5 100000 Mbps
Target: x86_64-native-linuxapp-gcc
Fail/Total: 0/6

Detail performance results: 
+------------+---------+-------------------------------------+
| frame_size | txd/rxd | throughput difference from expected |
+============+=========+=====================================+
| 64         | 256     | -0.100                              |
+------------+---------+-------------------------------------+
| 128        | 256     | 0.202                               |
+------------+---------+-------------------------------------+
| 256        | 256     | -0.020                              |
+------------+---------+-------------------------------------+
| 512        | 256     | -0.231                              |
+------------+---------+-------------------------------------+
| 1024       | 256     | 0.059                               |
+------------+---------+-------------------------------------+
| 1518       | 256     | 0.012                               |
+------------+---------+-------------------------------------+

Ubuntu 18.04
Kernel: 4.15.0-generic
Compiler: gcc 7.4
NIC: Mellanox ConnectX-4 Lx 25000 Mbps
Target: x86_64-native-linuxapp-gcc
Fail/Total: 0/6

Detail performance results: 
+------------+---------+-------------------------------------+
| frame_size | txd/rxd | throughput difference from expected |
+============+=========+=====================================+
| 64         | 256     | 0.054                               |
+------------+---------+-------------------------------------+
| 128        | 256     | 0.086                               |
+------------+---------+-------------------------------------+
| 256        | 256     | -0.062                              |
+------------+---------+-------------------------------------+
| 512        | 256     | -0.013                              |
+------------+---------+-------------------------------------+
| 1024       | 256     | 0.015                               |
+------------+---------+-------------------------------------+
| 1518       | 256     | 0.008                               |
+------------+---------+-------------------------------------+

Ubuntu 18.04
Kernel: 4.15.0-generic
Compiler: gcc 7.4
NIC: Mellanox ConnectX-4 Lx 40000 Mbps
Target: x86_64-native-linuxapp-gcc
Fail/Total: 0/6

Detail performance results: 
+------------+---------+-------------------------------------+
| frame_size | txd/rxd | throughput difference from expected |
+============+=========+=====================================+
| 64         | 256     | 0.037                               |
+------------+---------+-------------------------------------+
| 128        | 256     | 0.117                               |
+------------+---------+-------------------------------------+
| 256        | 256     | 0.014                               |
+------------+---------+-------------------------------------+
| 512        | 256     | -0.041                              |
+------------+---------+-------------------------------------+
| 1024       | 256     | 0.020                               |
+------------+---------+-------------------------------------+
| 1518       | 256     | -0.007                              |
+------------+---------+-------------------------------------+

To view detailed results, visit:
https://lab.dpdk.org/results/dashboard/tarballs/12030/

UNH-IOL DPDK Community Lab

To manage your email subscriptions, visit: 
https://lab.dpdk.org/results/dashboard/preferences/subscriptions/

^ permalink raw reply	[flat|nested] 12+ messages in thread

* [dpdk-test-report] |SUCCESS| [GIT MASTER] 2b337dd4d35b36d8670ff5c8a7ca70c8cfa6709a
@ 2020-10-17 19:54 dpdklab
  0 siblings, 0 replies; 12+ messages in thread
From: dpdklab @ 2020-10-17 19:54 UTC (permalink / raw)
  To: Test Report; +Cc: dpdk-test-reports

[-- Attachment #1: Type: text/plain, Size: 1704 bytes --]

_Performance Testing PASS_

Branch: dpdk-next-net-brcm

2b337dd4d35b36d8670ff5c8a7ca70c8cfa6709a --> performance testing pass

Test environment and result as below:

Ubuntu 18.04
Kernel: 4.15.0-generic
Compiler: gcc 7.4
NIC: Intel Corporation Ethernet Converged Network Adapter XL710-QDA2 40000 Mbps
Target: x86_64-native-linuxapp-gcc
Fail/Total: 0/2

Detail performance results: 
+------------+---------+-------------------------------------+
| frame_size | txd/rxd | throughput difference from expected |
+============+=========+=====================================+
| 64         | 512     | 2.896                               |
+------------+---------+-------------------------------------+
| 64         | 2048    | 1.373                               |
+------------+---------+-------------------------------------+

Ubuntu 18.04
Kernel: 4.15.0-generic
Compiler: gcc 7.4
NIC: Intel Corporation Ethernet Converged Network Adapter 82599ES 10000 Mbps
Target: x86_64-native-linuxapp-gcc
Fail/Total: 0/2

Detail performance results: 
+------------+---------+-------------------------------------+
| frame_size | txd/rxd | throughput difference from expected |
+============+=========+=====================================+
| 64         | 512     | 1.854                               |
+------------+---------+-------------------------------------+
| 64         | 2048    | 0.816                               |
+------------+---------+-------------------------------------+

To view detailed results, visit:
https://lab.dpdk.org/results/dashboard/tarballs/12031/

UNH-IOL DPDK Community Lab

To manage your email subscriptions, visit: 
https://lab.dpdk.org/results/dashboard/preferences/subscriptions/

^ permalink raw reply	[flat|nested] 12+ messages in thread

* [dpdk-test-report] |SUCCESS| [GIT MASTER] 2b337dd4d35b36d8670ff5c8a7ca70c8cfa6709a
@ 2020-10-17 19:33 dpdklab
  0 siblings, 0 replies; 12+ messages in thread
From: dpdklab @ 2020-10-17 19:33 UTC (permalink / raw)
  To: Test Report; +Cc: dpdk-test-reports

[-- Attachment #1: Type: text/plain, Size: 1791 bytes --]

_Testing PASS_

Branch: dpdk-next-net-brcm

2b337dd4d35b36d8670ff5c8a7ca70c8cfa6709a --> testing pass

Test environment and result as below:

+---------------------+--------------------+----------------+
|     Environment     | dpdk_meson_compile | dpdk_unit_test |
+=====================+====================+================+
| Windows Server 2019 | PASS               | SKIPPED        |
+---------------------+--------------------+----------------+
| FreeBSD 11.2        | PASS               | SKIPPED        |
+---------------------+--------------------+----------------+
| Fedora 31           | PASS               | SKIPPED        |
+---------------------+--------------------+----------------+
| CentOS 8            | PASS               | SKIPPED        |
+---------------------+--------------------+----------------+
| Ubuntu 18.04        | PASS               | PASS           |
+---------------------+--------------------+----------------+
| openSUSE Leap 15    | PASS               | SKIPPED        |
+---------------------+--------------------+----------------+
| Arch Linux          | PASS               | SKIPPED        |
+---------------------+--------------------+----------------+

Windows Server 2019
	Kernel: 10.0
	Compiler: clang 9.0

FreeBSD 11.2
	Kernel: 11.2
	Compiler: gcc 8.3

Fedora 31
	Kernel: 5.3.16
	Compiler: gcc 9.2.1

CentOS 8
	Kernel: 4.18.0.el8_0
	Compiler: gcc 8.3.1

Ubuntu 18.04
	Kernel: 4.15.0-generic
	Compiler: gcc 7.4

openSUSE Leap 15
	Kernel: 4.12.14
	Compiler: gcc 7.4.1

Arch Linux
	Kernel: latest
	Compiler: gcc latest

To view detailed results, visit:
https://lab.dpdk.org/results/dashboard/tarballs/12031/

UNH-IOL DPDK Community Lab

To manage your email subscriptions, visit: 
https://lab.dpdk.org/results/dashboard/preferences/subscriptions/

^ permalink raw reply	[flat|nested] 12+ messages in thread

* [dpdk-test-report] |SUCCESS| [GIT MASTER] 2b337dd4d35b36d8670ff5c8a7ca70c8cfa6709a
@ 2020-10-17 19:32 dpdklab
  0 siblings, 0 replies; 12+ messages in thread
From: dpdklab @ 2020-10-17 19:32 UTC (permalink / raw)
  To: Test Report; +Cc: dpdk-test-reports

[-- Attachment #1: Type: text/plain, Size: 578 bytes --]

_Functional Testing PASS_

Branch: dpdk-next-net-brcm

2b337dd4d35b36d8670ff5c8a7ca70c8cfa6709a --> functional testing pass

Test environment and result as below:

Ubuntu 18.04
Kernel: 4.15.0-generic
Compiler: gcc 7.4
NIC: Intel Corporation Ethernet Converged Network Adapter XL710-QDA2 40000 Mbps
Target: x86_64-native-linuxapp-gcc
Fail/Total: 0/4


To view detailed results, visit:
https://lab.dpdk.org/results/dashboard/tarballs/12031/

UNH-IOL DPDK Community Lab

To manage your email subscriptions, visit: 
https://lab.dpdk.org/results/dashboard/preferences/subscriptions/

^ permalink raw reply	[flat|nested] 12+ messages in thread

* [dpdk-test-report] |SUCCESS| [GIT MASTER] 2b337dd4d35b36d8670ff5c8a7ca70c8cfa6709a
@ 2020-10-17 19:32 dpdklab
  0 siblings, 0 replies; 12+ messages in thread
From: dpdklab @ 2020-10-17 19:32 UTC (permalink / raw)
  To: Ajit Khaparde, Test Report; +Cc: dpdk-test-reports

[-- Attachment #1: Type: text/plain, Size: 580 bytes --]

_Functional Testing PASS_

Branch: dpdk-next-net-brcm

2b337dd4d35b36d8670ff5c8a7ca70c8cfa6709a --> functional testing pass

Test environment and result as below:

Ubuntu 18.04
Kernel: 4.15.0-65-generic
Compiler: gcc gcc (Ubuntu 7.4.0-1ubuntu1~18.04.1) 7.4.0
NIC: Broadcom Inc. brcm_57414 25000 Mbps
Target: x86_64-native-linuxapp-gcc
Fail/Total: 0/3


To view detailed results, visit:
https://lab.dpdk.org/results/dashboard/tarballs/12031/

UNH-IOL DPDK Community Lab

To manage your email subscriptions, visit: 
https://lab.dpdk.org/results/dashboard/preferences/subscriptions/

^ permalink raw reply	[flat|nested] 12+ messages in thread

* [dpdk-test-report] |SUCCESS| [GIT MASTER] 2b337dd4d35b36d8670ff5c8a7ca70c8cfa6709a
@ 2020-10-17 19:24 dpdklab
  0 siblings, 0 replies; 12+ messages in thread
From: dpdklab @ 2020-10-17 19:24 UTC (permalink / raw)
  To: Ajit Khaparde, Test Report; +Cc: dpdk-test-reports

[-- Attachment #1: Type: text/plain, Size: 1052 bytes --]

_Performance Testing PASS_

Branch: dpdk-next-net-brcm

2b337dd4d35b36d8670ff5c8a7ca70c8cfa6709a --> performance testing pass

Test environment and result as below:

Ubuntu 18.04
Kernel: 4.15.0-65-generic
Compiler: gcc gcc (Ubuntu 7.4.0-1ubuntu1~18.04.1) 7.4.0
NIC: Broadcom Inc. brcm_57414 25000 Mbps
Target: x86_64-native-linuxapp-gcc
Fail/Total: 0/2

Detail performance results: 
+------------+---------+-------------------------------------+
| frame_size | txd/rxd | throughput difference from expected |
+============+=========+=====================================+
| 64         | 512     | -0.117                              |
+------------+---------+-------------------------------------+
| 64         | 2048    | -0.005                              |
+------------+---------+-------------------------------------+

To view detailed results, visit:
https://lab.dpdk.org/results/dashboard/tarballs/12031/

UNH-IOL DPDK Community Lab

To manage your email subscriptions, visit: 
https://lab.dpdk.org/results/dashboard/preferences/subscriptions/

^ permalink raw reply	[flat|nested] 12+ messages in thread

* [dpdk-test-report] |SUCCESS| [GIT MASTER] 2b337dd4d35b36d8670ff5c8a7ca70c8cfa6709a
@ 2020-10-17 18:45 dpdklab
  0 siblings, 0 replies; 12+ messages in thread
From: dpdklab @ 2020-10-17 18:45 UTC (permalink / raw)
  To: Test Report; +Cc: dpdk-test-reports

[-- Attachment #1: Type: text/plain, Size: 573 bytes --]

_Functional Testing PASS_

Branch: dpdk-next-net

2b337dd4d35b36d8670ff5c8a7ca70c8cfa6709a --> functional testing pass

Test environment and result as below:

Ubuntu 18.04
Kernel: 4.15.0-generic
Compiler: gcc 7.4
NIC: Intel Corporation Ethernet Converged Network Adapter XL710-QDA2 40000 Mbps
Target: x86_64-native-linuxapp-gcc
Fail/Total: 0/4


To view detailed results, visit:
https://lab.dpdk.org/results/dashboard/tarballs/12030/

UNH-IOL DPDK Community Lab

To manage your email subscriptions, visit: 
https://lab.dpdk.org/results/dashboard/preferences/subscriptions/

^ permalink raw reply	[flat|nested] 12+ messages in thread

* [dpdk-test-report] |SUCCESS| [GIT MASTER] 2b337dd4d35b36d8670ff5c8a7ca70c8cfa6709a
@ 2020-10-17 18:41 dpdklab
  0 siblings, 0 replies; 12+ messages in thread
From: dpdklab @ 2020-10-17 18:41 UTC (permalink / raw)
  To: Test Report; +Cc: dpdk-test-reports

[-- Attachment #1: Type: text/plain, Size: 1699 bytes --]

_Performance Testing PASS_

Branch: dpdk-next-net

2b337dd4d35b36d8670ff5c8a7ca70c8cfa6709a --> performance testing pass

Test environment and result as below:

Ubuntu 18.04
Kernel: 4.15.0-generic
Compiler: gcc 7.4
NIC: Intel Corporation Ethernet Converged Network Adapter XL710-QDA2 40000 Mbps
Target: x86_64-native-linuxapp-gcc
Fail/Total: 0/2

Detail performance results: 
+------------+---------+-------------------------------------+
| frame_size | txd/rxd | throughput difference from expected |
+============+=========+=====================================+
| 64         | 512     | 2.955                               |
+------------+---------+-------------------------------------+
| 64         | 2048    | 1.350                               |
+------------+---------+-------------------------------------+

Ubuntu 18.04
Kernel: 4.15.0-generic
Compiler: gcc 7.4
NIC: Intel Corporation Ethernet Converged Network Adapter 82599ES 10000 Mbps
Target: x86_64-native-linuxapp-gcc
Fail/Total: 0/2

Detail performance results: 
+------------+---------+-------------------------------------+
| frame_size | txd/rxd | throughput difference from expected |
+============+=========+=====================================+
| 64         | 512     | 1.961                               |
+------------+---------+-------------------------------------+
| 64         | 2048    | 0.984                               |
+------------+---------+-------------------------------------+

To view detailed results, visit:
https://lab.dpdk.org/results/dashboard/tarballs/12030/

UNH-IOL DPDK Community Lab

To manage your email subscriptions, visit: 
https://lab.dpdk.org/results/dashboard/preferences/subscriptions/

^ permalink raw reply	[flat|nested] 12+ messages in thread

* [dpdk-test-report] |SUCCESS| [GIT MASTER] 2b337dd4d35b36d8670ff5c8a7ca70c8cfa6709a
@ 2020-10-17 18:30 dpdklab
  0 siblings, 0 replies; 12+ messages in thread
From: dpdklab @ 2020-10-17 18:30 UTC (permalink / raw)
  To: Ajit Khaparde, Test Report; +Cc: dpdk-test-reports

[-- Attachment #1: Type: text/plain, Size: 575 bytes --]

_Functional Testing PASS_

Branch: dpdk-next-net

2b337dd4d35b36d8670ff5c8a7ca70c8cfa6709a --> functional testing pass

Test environment and result as below:

Ubuntu 18.04
Kernel: 4.15.0-65-generic
Compiler: gcc gcc (Ubuntu 7.4.0-1ubuntu1~18.04.1) 7.4.0
NIC: Broadcom Inc. brcm_57414 25000 Mbps
Target: x86_64-native-linuxapp-gcc
Fail/Total: 0/3


To view detailed results, visit:
https://lab.dpdk.org/results/dashboard/tarballs/12030/

UNH-IOL DPDK Community Lab

To manage your email subscriptions, visit: 
https://lab.dpdk.org/results/dashboard/preferences/subscriptions/

^ permalink raw reply	[flat|nested] 12+ messages in thread

* [dpdk-test-report] |SUCCESS| [GIT MASTER] 2b337dd4d35b36d8670ff5c8a7ca70c8cfa6709a
@ 2020-10-17 18:21 dpdklab
  0 siblings, 0 replies; 12+ messages in thread
From: dpdklab @ 2020-10-17 18:21 UTC (permalink / raw)
  To: Ajit Khaparde, Test Report; +Cc: dpdk-test-reports

[-- Attachment #1: Type: text/plain, Size: 1047 bytes --]

_Performance Testing PASS_

Branch: dpdk-next-net

2b337dd4d35b36d8670ff5c8a7ca70c8cfa6709a --> performance testing pass

Test environment and result as below:

Ubuntu 18.04
Kernel: 4.15.0-65-generic
Compiler: gcc gcc (Ubuntu 7.4.0-1ubuntu1~18.04.1) 7.4.0
NIC: Broadcom Inc. brcm_57414 25000 Mbps
Target: x86_64-native-linuxapp-gcc
Fail/Total: 0/2

Detail performance results: 
+------------+---------+-------------------------------------+
| frame_size | txd/rxd | throughput difference from expected |
+============+=========+=====================================+
| 64         | 512     | 0.024                               |
+------------+---------+-------------------------------------+
| 64         | 2048    | -0.010                              |
+------------+---------+-------------------------------------+

To view detailed results, visit:
https://lab.dpdk.org/results/dashboard/tarballs/12030/

UNH-IOL DPDK Community Lab

To manage your email subscriptions, visit: 
https://lab.dpdk.org/results/dashboard/preferences/subscriptions/

^ permalink raw reply	[flat|nested] 12+ messages in thread

end of thread, back to index

Thread overview: 12+ messages (download: mbox.gz / follow: Atom feed)
-- links below jump to the message on this page --
2020-10-17 18:33 [dpdk-test-report] |SUCCESS| [GIT MASTER] 2b337dd4d35b36d8670ff5c8a7ca70c8cfa6709a dpdklab
  -- strict thread matches above, loose matches on Subject: below --
2020-10-18 13:36 dpdklab
2020-10-18 12:43 dpdklab
2020-10-17 19:54 dpdklab
2020-10-17 19:33 dpdklab
2020-10-17 19:32 dpdklab
2020-10-17 19:32 dpdklab
2020-10-17 19:24 dpdklab
2020-10-17 18:45 dpdklab
2020-10-17 18:41 dpdklab
2020-10-17 18:30 dpdklab
2020-10-17 18:21 dpdklab

automatic DPDK test reports

Archives are clonable:
	git clone --mirror http://inbox.dpdk.org/test-report/0 test-report/git/0.git

	# If you have public-inbox 1.1+ installed, you may
	# initialize and index your mirror using the following commands:
	public-inbox-init -V2 test-report test-report/ http://inbox.dpdk.org/test-report \
		test-report@dpdk.org
	public-inbox-index test-report


Newsgroup available over NNTP:
	nntp://inbox.dpdk.org/inbox.dpdk.test-report


AGPL code for this site: git clone https://public-inbox.org/ public-inbox