automatic DPDK test reports
 help / color / Atom feed
* [dpdk-test-report] |SUCCESS| [GIT MASTER] e8a83681f458d95d197bd37208fed3c3900def03
@ 2020-10-17 22:02 dpdklab
  0 siblings, 0 replies; 12+ messages in thread
From: dpdklab @ 2020-10-17 22:02 UTC (permalink / raw)
  To: Ajit Khaparde, Test Report; +Cc: dpdk-test-reports

[-- Attachment #1: Type: text/plain, Size: 566 bytes --]

_Functional Testing PASS_

Branch: dpdk

e8a83681f458d95d197bd37208fed3c3900def03 --> functional testing pass

Test environment and result as below:

Ubuntu 18.04
Kernel: 4.15.0-65-generic
Compiler: gcc gcc (Ubuntu 7.4.0-1ubuntu1~18.04.1) 7.4.0
NIC: Broadcom Inc. brcm_57414 25000 Mbps
Target: x86_64-native-linuxapp-gcc
Fail/Total: 0/3


To view detailed results, visit:
https://lab.dpdk.org/results/dashboard/tarballs/12032/

UNH-IOL DPDK Community Lab

To manage your email subscriptions, visit: 
https://lab.dpdk.org/results/dashboard/preferences/subscriptions/

^ permalink raw reply	[flat|nested] 12+ messages in thread

* [dpdk-test-report] |SUCCESS| [GIT MASTER] e8a83681f458d95d197bd37208fed3c3900def03
@ 2020-10-18 16:10 dpdklab
  0 siblings, 0 replies; 12+ messages in thread
From: dpdklab @ 2020-10-18 16:10 UTC (permalink / raw)
  To: Ali Alnubani, Test Report; +Cc: dpdk-test-reports

[-- Attachment #1: Type: text/plain, Size: 3751 bytes --]

_Performance Testing PASS_

Branch: dpdk-next-eventdev

e8a83681f458d95d197bd37208fed3c3900def03 --> performance testing pass

Test environment and result as below:

Ubuntu 18.04
Kernel: 4.15.0-generic
Compiler: gcc 7.4
NIC: Mellanox ConnectX-5 100000 Mbps
Target: x86_64-native-linuxapp-gcc
Fail/Total: 0/6

Detail performance results: 
+------------+---------+-------------------------------------+
| frame_size | txd/rxd | throughput difference from expected |
+============+=========+=====================================+
| 64         | 256     | 0.399                               |
+------------+---------+-------------------------------------+
| 128        | 256     | -0.001                              |
+------------+---------+-------------------------------------+
| 256        | 256     | -0.004                              |
+------------+---------+-------------------------------------+
| 512        | 256     | 0                                   |
+------------+---------+-------------------------------------+
| 1024       | 256     | -0.201                              |
+------------+---------+-------------------------------------+
| 1518       | 256     | 0.026                               |
+------------+---------+-------------------------------------+

Ubuntu 18.04
Kernel: 4.15.0-generic
Compiler: gcc 7.4
NIC: Mellanox ConnectX-4 Lx 25000 Mbps
Target: x86_64-native-linuxapp-gcc
Fail/Total: 0/6

Detail performance results: 
+------------+---------+-------------------------------------+
| frame_size | txd/rxd | throughput difference from expected |
+============+=========+=====================================+
| 64         | 256     | -0.016                              |
+------------+---------+-------------------------------------+
| 128        | 256     | -0.080                              |
+------------+---------+-------------------------------------+
| 256        | 256     | -0.102                              |
+------------+---------+-------------------------------------+
| 512        | 256     | -0.002                              |
+------------+---------+-------------------------------------+
| 1024       | 256     | 0.001                               |
+------------+---------+-------------------------------------+
| 1518       | 256     | 0.008                               |
+------------+---------+-------------------------------------+

Ubuntu 18.04
Kernel: 4.15.0-generic
Compiler: gcc 7.4
NIC: Mellanox ConnectX-4 Lx 40000 Mbps
Target: x86_64-native-linuxapp-gcc
Fail/Total: 0/6

Detail performance results: 
+------------+---------+-------------------------------------+
| frame_size | txd/rxd | throughput difference from expected |
+============+=========+=====================================+
| 64         | 256     | -0.087                              |
+------------+---------+-------------------------------------+
| 128        | 256     | 0.117                               |
+------------+---------+-------------------------------------+
| 256        | 256     | 0.319                               |
+------------+---------+-------------------------------------+
| 512        | 256     | 0.016                               |
+------------+---------+-------------------------------------+
| 1024       | 256     | 0.003                               |
+------------+---------+-------------------------------------+
| 1518       | 256     | -0.002                              |
+------------+---------+-------------------------------------+

To view detailed results, visit:
https://lab.dpdk.org/results/dashboard/tarballs/12034/

UNH-IOL DPDK Community Lab

To manage your email subscriptions, visit: 
https://lab.dpdk.org/results/dashboard/preferences/subscriptions/

^ permalink raw reply	[flat|nested] 12+ messages in thread

* [dpdk-test-report] |SUCCESS| [GIT MASTER] e8a83681f458d95d197bd37208fed3c3900def03
@ 2020-10-18 14:24 dpdklab
  0 siblings, 0 replies; 12+ messages in thread
From: dpdklab @ 2020-10-18 14:24 UTC (permalink / raw)
  To: Ali Alnubani, Test Report; +Cc: dpdk-test-reports

[-- Attachment #1: Type: text/plain, Size: 3737 bytes --]

_Performance Testing PASS_

Branch: dpdk

e8a83681f458d95d197bd37208fed3c3900def03 --> performance testing pass

Test environment and result as below:

Ubuntu 18.04
Kernel: 4.15.0-generic
Compiler: gcc 7.4
NIC: Mellanox ConnectX-5 100000 Mbps
Target: x86_64-native-linuxapp-gcc
Fail/Total: 0/6

Detail performance results: 
+------------+---------+-------------------------------------+
| frame_size | txd/rxd | throughput difference from expected |
+============+=========+=====================================+
| 64         | 256     | -0.292                              |
+------------+---------+-------------------------------------+
| 128        | 256     | 0.068                               |
+------------+---------+-------------------------------------+
| 256        | 256     | -0.073                              |
+------------+---------+-------------------------------------+
| 512        | 256     | -0.215                              |
+------------+---------+-------------------------------------+
| 1024       | 256     | 0.052                               |
+------------+---------+-------------------------------------+
| 1518       | 256     | 0.005                               |
+------------+---------+-------------------------------------+

Ubuntu 18.04
Kernel: 4.15.0-generic
Compiler: gcc 7.4
NIC: Mellanox ConnectX-4 Lx 25000 Mbps
Target: x86_64-native-linuxapp-gcc
Fail/Total: 0/6

Detail performance results: 
+------------+---------+-------------------------------------+
| frame_size | txd/rxd | throughput difference from expected |
+============+=========+=====================================+
| 64         | 256     | -0.016                              |
+------------+---------+-------------------------------------+
| 128        | 256     | 0.145                               |
+------------+---------+-------------------------------------+
| 256        | 256     | 0.069                               |
+------------+---------+-------------------------------------+
| 512        | 256     | 0.016                               |
+------------+---------+-------------------------------------+
| 1024       | 256     | -0.001                              |
+------------+---------+-------------------------------------+
| 1518       | 256     | 0.009                               |
+------------+---------+-------------------------------------+

Ubuntu 18.04
Kernel: 4.15.0-generic
Compiler: gcc 7.4
NIC: Mellanox ConnectX-4 Lx 40000 Mbps
Target: x86_64-native-linuxapp-gcc
Fail/Total: 0/6

Detail performance results: 
+------------+---------+-------------------------------------+
| frame_size | txd/rxd | throughput difference from expected |
+============+=========+=====================================+
| 64         | 256     | 0.134                               |
+------------+---------+-------------------------------------+
| 128        | 256     | 0.137                               |
+------------+---------+-------------------------------------+
| 256        | 256     | -0.241                              |
+------------+---------+-------------------------------------+
| 512        | 256     | -0.050                              |
+------------+---------+-------------------------------------+
| 1024       | 256     | 0.014                               |
+------------+---------+-------------------------------------+
| 1518       | 256     | 0.001                               |
+------------+---------+-------------------------------------+

To view detailed results, visit:
https://lab.dpdk.org/results/dashboard/tarballs/12032/

UNH-IOL DPDK Community Lab

To manage your email subscriptions, visit: 
https://lab.dpdk.org/results/dashboard/preferences/subscriptions/

^ permalink raw reply	[flat|nested] 12+ messages in thread

* [dpdk-test-report] |SUCCESS| [GIT MASTER] e8a83681f458d95d197bd37208fed3c3900def03
@ 2020-10-18 11:47 dpdklab
  0 siblings, 0 replies; 12+ messages in thread
From: dpdklab @ 2020-10-18 11:47 UTC (permalink / raw)
  To: Test Report; +Cc: dpdk-test-reports

[-- Attachment #1: Type: text/plain, Size: 1704 bytes --]

_Performance Testing PASS_

Branch: dpdk-next-eventdev

e8a83681f458d95d197bd37208fed3c3900def03 --> performance testing pass

Test environment and result as below:

Ubuntu 18.04
Kernel: 4.15.0-generic
Compiler: gcc 7.4
NIC: Intel Corporation Ethernet Converged Network Adapter XL710-QDA2 40000 Mbps
Target: x86_64-native-linuxapp-gcc
Fail/Total: 0/2

Detail performance results: 
+------------+---------+-------------------------------------+
| frame_size | txd/rxd | throughput difference from expected |
+============+=========+=====================================+
| 64         | 512     | 2.438                               |
+------------+---------+-------------------------------------+
| 64         | 2048    | 1.506                               |
+------------+---------+-------------------------------------+

Ubuntu 18.04
Kernel: 4.15.0-generic
Compiler: gcc 7.4
NIC: Intel Corporation Ethernet Converged Network Adapter 82599ES 10000 Mbps
Target: x86_64-native-linuxapp-gcc
Fail/Total: 0/2

Detail performance results: 
+------------+---------+-------------------------------------+
| frame_size | txd/rxd | throughput difference from expected |
+============+=========+=====================================+
| 64         | 512     | 1.715                               |
+------------+---------+-------------------------------------+
| 64         | 2048    | 0.941                               |
+------------+---------+-------------------------------------+

To view detailed results, visit:
https://lab.dpdk.org/results/dashboard/tarballs/12034/

UNH-IOL DPDK Community Lab

To manage your email subscriptions, visit: 
https://lab.dpdk.org/results/dashboard/preferences/subscriptions/

^ permalink raw reply	[flat|nested] 12+ messages in thread

* [dpdk-test-report] |SUCCESS| [GIT MASTER] e8a83681f458d95d197bd37208fed3c3900def03
@ 2020-10-18 11:26 dpdklab
  0 siblings, 0 replies; 12+ messages in thread
From: dpdklab @ 2020-10-18 11:26 UTC (permalink / raw)
  To: Test Report; +Cc: dpdk-test-reports

[-- Attachment #1: Type: text/plain, Size: 1791 bytes --]

_Testing PASS_

Branch: dpdk-next-eventdev

e8a83681f458d95d197bd37208fed3c3900def03 --> testing pass

Test environment and result as below:

+---------------------+--------------------+----------------+
|     Environment     | dpdk_meson_compile | dpdk_unit_test |
+=====================+====================+================+
| Windows Server 2019 | PASS               | SKIPPED        |
+---------------------+--------------------+----------------+
| FreeBSD 11.2        | PASS               | SKIPPED        |
+---------------------+--------------------+----------------+
| Fedora 31           | PASS               | SKIPPED        |
+---------------------+--------------------+----------------+
| CentOS 8            | PASS               | SKIPPED        |
+---------------------+--------------------+----------------+
| Ubuntu 18.04        | PASS               | PASS           |
+---------------------+--------------------+----------------+
| openSUSE Leap 15    | PASS               | SKIPPED        |
+---------------------+--------------------+----------------+
| Arch Linux          | PASS               | SKIPPED        |
+---------------------+--------------------+----------------+

Windows Server 2019
	Kernel: 10.0
	Compiler: clang 9.0

FreeBSD 11.2
	Kernel: 11.2
	Compiler: gcc 8.3

Fedora 31
	Kernel: 5.3.16
	Compiler: gcc 9.2.1

CentOS 8
	Kernel: 4.18.0.el8_0
	Compiler: gcc 8.3.1

Ubuntu 18.04
	Kernel: 4.15.0-generic
	Compiler: gcc 7.4

openSUSE Leap 15
	Kernel: 4.12.14
	Compiler: gcc 7.4.1

Arch Linux
	Kernel: latest
	Compiler: gcc latest

To view detailed results, visit:
https://lab.dpdk.org/results/dashboard/tarballs/12034/

UNH-IOL DPDK Community Lab

To manage your email subscriptions, visit: 
https://lab.dpdk.org/results/dashboard/preferences/subscriptions/

^ permalink raw reply	[flat|nested] 12+ messages in thread

* [dpdk-test-report] |SUCCESS| [GIT MASTER] e8a83681f458d95d197bd37208fed3c3900def03
@ 2020-10-18 11:21 dpdklab
  0 siblings, 0 replies; 12+ messages in thread
From: dpdklab @ 2020-10-18 11:21 UTC (permalink / raw)
  To: Test Report; +Cc: dpdk-test-reports

[-- Attachment #1: Type: text/plain, Size: 578 bytes --]

_Functional Testing PASS_

Branch: dpdk-next-eventdev

e8a83681f458d95d197bd37208fed3c3900def03 --> functional testing pass

Test environment and result as below:

Ubuntu 18.04
Kernel: 4.15.0-generic
Compiler: gcc 7.4
NIC: Intel Corporation Ethernet Converged Network Adapter XL710-QDA2 40000 Mbps
Target: x86_64-native-linuxapp-gcc
Fail/Total: 0/4


To view detailed results, visit:
https://lab.dpdk.org/results/dashboard/tarballs/12034/

UNH-IOL DPDK Community Lab

To manage your email subscriptions, visit: 
https://lab.dpdk.org/results/dashboard/preferences/subscriptions/

^ permalink raw reply	[flat|nested] 12+ messages in thread

* [dpdk-test-report] |SUCCESS| [GIT MASTER] e8a83681f458d95d197bd37208fed3c3900def03
@ 2020-10-18 11:21 dpdklab
  0 siblings, 0 replies; 12+ messages in thread
From: dpdklab @ 2020-10-18 11:21 UTC (permalink / raw)
  To: Ajit Khaparde, Test Report; +Cc: dpdk-test-reports

[-- Attachment #1: Type: text/plain, Size: 1052 bytes --]

_Performance Testing PASS_

Branch: dpdk-next-eventdev

e8a83681f458d95d197bd37208fed3c3900def03 --> performance testing pass

Test environment and result as below:

Ubuntu 18.04
Kernel: 4.15.0-65-generic
Compiler: gcc gcc (Ubuntu 7.4.0-1ubuntu1~18.04.1) 7.4.0
NIC: Broadcom Inc. brcm_57414 25000 Mbps
Target: x86_64-native-linuxapp-gcc
Fail/Total: 0/2

Detail performance results: 
+------------+---------+-------------------------------------+
| frame_size | txd/rxd | throughput difference from expected |
+============+=========+=====================================+
| 64         | 512     | 0.001                               |
+------------+---------+-------------------------------------+
| 64         | 2048    | 0                                   |
+------------+---------+-------------------------------------+

To view detailed results, visit:
https://lab.dpdk.org/results/dashboard/tarballs/12034/

UNH-IOL DPDK Community Lab

To manage your email subscriptions, visit: 
https://lab.dpdk.org/results/dashboard/preferences/subscriptions/

^ permalink raw reply	[flat|nested] 12+ messages in thread

* [dpdk-test-report] |SUCCESS| [GIT MASTER] e8a83681f458d95d197bd37208fed3c3900def03
@ 2020-10-18 11:14 dpdklab
  0 siblings, 0 replies; 12+ messages in thread
From: dpdklab @ 2020-10-18 11:14 UTC (permalink / raw)
  To: Ajit Khaparde, Test Report; +Cc: dpdk-test-reports

[-- Attachment #1: Type: text/plain, Size: 580 bytes --]

_Functional Testing PASS_

Branch: dpdk-next-eventdev

e8a83681f458d95d197bd37208fed3c3900def03 --> functional testing pass

Test environment and result as below:

Ubuntu 18.04
Kernel: 4.15.0-65-generic
Compiler: gcc gcc (Ubuntu 7.4.0-1ubuntu1~18.04.1) 7.4.0
NIC: Broadcom Inc. brcm_57414 25000 Mbps
Target: x86_64-native-linuxapp-gcc
Fail/Total: 0/3


To view detailed results, visit:
https://lab.dpdk.org/results/dashboard/tarballs/12034/

UNH-IOL DPDK Community Lab

To manage your email subscriptions, visit: 
https://lab.dpdk.org/results/dashboard/preferences/subscriptions/

^ permalink raw reply	[flat|nested] 12+ messages in thread

* [dpdk-test-report] |SUCCESS| [GIT MASTER] e8a83681f458d95d197bd37208fed3c3900def03
@ 2020-10-17 22:24 dpdklab
  0 siblings, 0 replies; 12+ messages in thread
From: dpdklab @ 2020-10-17 22:24 UTC (permalink / raw)
  To: Test Report; +Cc: dpdk-test-reports

[-- Attachment #1: Type: text/plain, Size: 1690 bytes --]

_Performance Testing PASS_

Branch: dpdk

e8a83681f458d95d197bd37208fed3c3900def03 --> performance testing pass

Test environment and result as below:

Ubuntu 18.04
Kernel: 4.15.0-generic
Compiler: gcc 7.4
NIC: Intel Corporation Ethernet Converged Network Adapter XL710-QDA2 40000 Mbps
Target: x86_64-native-linuxapp-gcc
Fail/Total: 0/2

Detail performance results: 
+------------+---------+-------------------------------------+
| frame_size | txd/rxd | throughput difference from expected |
+============+=========+=====================================+
| 64         | 512     | 2.616                               |
+------------+---------+-------------------------------------+
| 64         | 2048    | 1.702                               |
+------------+---------+-------------------------------------+

Ubuntu 18.04
Kernel: 4.15.0-generic
Compiler: gcc 7.4
NIC: Intel Corporation Ethernet Converged Network Adapter 82599ES 10000 Mbps
Target: x86_64-native-linuxapp-gcc
Fail/Total: 0/2

Detail performance results: 
+------------+---------+-------------------------------------+
| frame_size | txd/rxd | throughput difference from expected |
+============+=========+=====================================+
| 64         | 512     | 1.836                               |
+------------+---------+-------------------------------------+
| 64         | 2048    | 0.902                               |
+------------+---------+-------------------------------------+

To view detailed results, visit:
https://lab.dpdk.org/results/dashboard/tarballs/12032/

UNH-IOL DPDK Community Lab

To manage your email subscriptions, visit: 
https://lab.dpdk.org/results/dashboard/preferences/subscriptions/

^ permalink raw reply	[flat|nested] 12+ messages in thread

* [dpdk-test-report] |SUCCESS| [GIT MASTER] e8a83681f458d95d197bd37208fed3c3900def03
@ 2020-10-17 22:03 dpdklab
  0 siblings, 0 replies; 12+ messages in thread
From: dpdklab @ 2020-10-17 22:03 UTC (permalink / raw)
  To: Test Report; +Cc: dpdk-test-reports

[-- Attachment #1: Type: text/plain, Size: 1777 bytes --]

_Testing PASS_

Branch: dpdk

e8a83681f458d95d197bd37208fed3c3900def03 --> testing pass

Test environment and result as below:

+---------------------+--------------------+----------------+
|     Environment     | dpdk_meson_compile | dpdk_unit_test |
+=====================+====================+================+
| Windows Server 2019 | PASS               | SKIPPED        |
+---------------------+--------------------+----------------+
| FreeBSD 11.2        | PASS               | SKIPPED        |
+---------------------+--------------------+----------------+
| Fedora 31           | PASS               | SKIPPED        |
+---------------------+--------------------+----------------+
| CentOS 8            | PASS               | SKIPPED        |
+---------------------+--------------------+----------------+
| Ubuntu 18.04        | PASS               | PASS           |
+---------------------+--------------------+----------------+
| openSUSE Leap 15    | PASS               | SKIPPED        |
+---------------------+--------------------+----------------+
| Arch Linux          | PASS               | SKIPPED        |
+---------------------+--------------------+----------------+

Windows Server 2019
	Kernel: 10.0
	Compiler: clang 9.0

FreeBSD 11.2
	Kernel: 11.2
	Compiler: gcc 8.3

Fedora 31
	Kernel: 5.3.16
	Compiler: gcc 9.2.1

CentOS 8
	Kernel: 4.18.0.el8_0
	Compiler: gcc 8.3.1

Ubuntu 18.04
	Kernel: 4.15.0-generic
	Compiler: gcc 7.4

openSUSE Leap 15
	Kernel: 4.12.14
	Compiler: gcc 7.4.1

Arch Linux
	Kernel: latest
	Compiler: gcc latest

To view detailed results, visit:
https://lab.dpdk.org/results/dashboard/tarballs/12032/

UNH-IOL DPDK Community Lab

To manage your email subscriptions, visit: 
https://lab.dpdk.org/results/dashboard/preferences/subscriptions/

^ permalink raw reply	[flat|nested] 12+ messages in thread

* [dpdk-test-report] |SUCCESS| [GIT MASTER] e8a83681f458d95d197bd37208fed3c3900def03
@ 2020-10-17 22:02 dpdklab
  0 siblings, 0 replies; 12+ messages in thread
From: dpdklab @ 2020-10-17 22:02 UTC (permalink / raw)
  To: Test Report; +Cc: dpdk-test-reports

[-- Attachment #1: Type: text/plain, Size: 564 bytes --]

_Functional Testing PASS_

Branch: dpdk

e8a83681f458d95d197bd37208fed3c3900def03 --> functional testing pass

Test environment and result as below:

Ubuntu 18.04
Kernel: 4.15.0-generic
Compiler: gcc 7.4
NIC: Intel Corporation Ethernet Converged Network Adapter XL710-QDA2 40000 Mbps
Target: x86_64-native-linuxapp-gcc
Fail/Total: 0/4


To view detailed results, visit:
https://lab.dpdk.org/results/dashboard/tarballs/12032/

UNH-IOL DPDK Community Lab

To manage your email subscriptions, visit: 
https://lab.dpdk.org/results/dashboard/preferences/subscriptions/

^ permalink raw reply	[flat|nested] 12+ messages in thread

* [dpdk-test-report] |SUCCESS| [GIT MASTER] e8a83681f458d95d197bd37208fed3c3900def03
@ 2020-10-17 21:54 dpdklab
  0 siblings, 0 replies; 12+ messages in thread
From: dpdklab @ 2020-10-17 21:54 UTC (permalink / raw)
  To: Ajit Khaparde, Test Report; +Cc: dpdk-test-reports

[-- Attachment #1: Type: text/plain, Size: 1038 bytes --]

_Performance Testing PASS_

Branch: dpdk

e8a83681f458d95d197bd37208fed3c3900def03 --> performance testing pass

Test environment and result as below:

Ubuntu 18.04
Kernel: 4.15.0-65-generic
Compiler: gcc gcc (Ubuntu 7.4.0-1ubuntu1~18.04.1) 7.4.0
NIC: Broadcom Inc. brcm_57414 25000 Mbps
Target: x86_64-native-linuxapp-gcc
Fail/Total: 0/2

Detail performance results: 
+------------+---------+-------------------------------------+
| frame_size | txd/rxd | throughput difference from expected |
+============+=========+=====================================+
| 64         | 512     | -0.044                              |
+------------+---------+-------------------------------------+
| 64         | 2048    | -0.013                              |
+------------+---------+-------------------------------------+

To view detailed results, visit:
https://lab.dpdk.org/results/dashboard/tarballs/12032/

UNH-IOL DPDK Community Lab

To manage your email subscriptions, visit: 
https://lab.dpdk.org/results/dashboard/preferences/subscriptions/

^ permalink raw reply	[flat|nested] 12+ messages in thread

end of thread, back to index

Thread overview: 12+ messages (download: mbox.gz / follow: Atom feed)
-- links below jump to the message on this page --
2020-10-17 22:02 [dpdk-test-report] |SUCCESS| [GIT MASTER] e8a83681f458d95d197bd37208fed3c3900def03 dpdklab
  -- strict thread matches above, loose matches on Subject: below --
2020-10-18 16:10 dpdklab
2020-10-18 14:24 dpdklab
2020-10-18 11:47 dpdklab
2020-10-18 11:26 dpdklab
2020-10-18 11:21 dpdklab
2020-10-18 11:21 dpdklab
2020-10-18 11:14 dpdklab
2020-10-17 22:24 dpdklab
2020-10-17 22:03 dpdklab
2020-10-17 22:02 dpdklab
2020-10-17 21:54 dpdklab

automatic DPDK test reports

Archives are clonable:
	git clone --mirror http://inbox.dpdk.org/test-report/0 test-report/git/0.git

	# If you have public-inbox 1.1+ installed, you may
	# initialize and index your mirror using the following commands:
	public-inbox-init -V2 test-report test-report/ http://inbox.dpdk.org/test-report \
		test-report@dpdk.org
	public-inbox-index test-report


Newsgroup available over NNTP:
	nntp://inbox.dpdk.org/inbox.dpdk.test-report


AGPL code for this site: git clone https://public-inbox.org/ public-inbox