automatic DPDK test reports
 help / color / Atom feed
* [dpdk-test-report] |SUCCESS| pw81086-81085 [PATCH] [v2, 2/2] devtools: check Windows export files
@ 2020-10-17 23:41 dpdklab
  0 siblings, 0 replies; 6+ messages in thread
From: dpdklab @ 2020-10-17 23:41 UTC (permalink / raw)
  To: Ali Alnubani, Test Report; +Cc: dpdk-test-reports

[-- Attachment #1: Type: text/plain, Size: 3975 bytes --]

Test-Label: iol-mellanox-Performance
Test-Status: SUCCESS
http://dpdk.org/patch/81085

_Performance Testing PASS_

Submitter: David Marchand <david.marchand@redhat.com>
Date: Friday, October 16 2020 10:27:11 
DPDK git baseline: Repo:dpdk
  Branch: master
  CommitID:ed94631da7b49feb68a0a9d6c780a908745d9c00

81086-81085 --> performance testing pass

Test environment and result as below:

Ubuntu 18.04
Kernel: 4.15.0-generic
Compiler: gcc 7.4
NIC: Mellanox ConnectX-5 100000 Mbps
Target: x86_64-native-linuxapp-gcc
Fail/Total: 0/6

Detail performance results: 
+------------+---------+-------------------------------------+
| frame_size | txd/rxd | throughput difference from expected |
+============+=========+=====================================+
| 64         | 256     | -0.298                              |
+------------+---------+-------------------------------------+
| 128        | 256     | -0.167                              |
+------------+---------+-------------------------------------+
| 256        | 256     | 0.103                               |
+------------+---------+-------------------------------------+
| 512        | 256     | -0.095                              |
+------------+---------+-------------------------------------+
| 1024       | 256     | -0.089                              |
+------------+---------+-------------------------------------+
| 1518       | 256     | -0.010                              |
+------------+---------+-------------------------------------+

Ubuntu 18.04
Kernel: 4.15.0-generic
Compiler: gcc 7.4
NIC: Mellanox ConnectX-4 Lx 25000 Mbps
Target: x86_64-native-linuxapp-gcc
Fail/Total: 0/6

Detail performance results: 
+------------+---------+-------------------------------------+
| frame_size | txd/rxd | throughput difference from expected |
+============+=========+=====================================+
| 64         | 256     | -0.006                              |
+------------+---------+-------------------------------------+
| 128        | 256     | -0.150                              |
+------------+---------+-------------------------------------+
| 256        | 256     | 0                                   |
+------------+---------+-------------------------------------+
| 512        | 256     | -0.005                              |
+------------+---------+-------------------------------------+
| 1024       | 256     | -0.012                              |
+------------+---------+-------------------------------------+
| 1518       | 256     | -0.001                              |
+------------+---------+-------------------------------------+

Ubuntu 18.04
Kernel: 4.15.0-generic
Compiler: gcc 7.4
NIC: Mellanox ConnectX-4 Lx 40000 Mbps
Target: x86_64-native-linuxapp-gcc
Fail/Total: 0/6

Detail performance results: 
+------------+---------+-------------------------------------+
| frame_size | txd/rxd | throughput difference from expected |
+============+=========+=====================================+
| 64         | 256     | 0.057                               |
+------------+---------+-------------------------------------+
| 128        | 256     | -0.066                              |
+------------+---------+-------------------------------------+
| 256        | 256     | 0.306                               |
+------------+---------+-------------------------------------+
| 512        | 256     | -0.040                              |
+------------+---------+-------------------------------------+
| 1024       | 256     | 0.014                               |
+------------+---------+-------------------------------------+
| 1518       | 256     | 0                                   |
+------------+---------+-------------------------------------+

To view detailed results, visit:
https://lab.dpdk.org/results/dashboard/patchsets/13791/

UNH-IOL DPDK Community Lab

To manage your email subscriptions, visit: 
https://lab.dpdk.org/results/dashboard/preferences/subscriptions/

^ permalink raw reply	[flat|nested] 6+ messages in thread

* [dpdk-test-report] |SUCCESS| pw81086-81085 [PATCH] [v2, 2/2] devtools: check Windows export files
@ 2020-10-16 16:33 dpdklab
  0 siblings, 0 replies; 6+ messages in thread
From: dpdklab @ 2020-10-16 16:33 UTC (permalink / raw)
  To: Test Report; +Cc: dpdk-test-reports

[-- Attachment #1: Type: text/plain, Size: 2002 bytes --]

Test-Label: iol-testing
Test-Status: SUCCESS
http://dpdk.org/patch/81085

_Testing PASS_

Submitter: David Marchand <david.marchand@redhat.com>
Date: Friday, October 16 2020 10:27:11 
DPDK git baseline: Repo:dpdk
  Branch: master
  CommitID:ed94631da7b49feb68a0a9d6c780a908745d9c00

81086-81085 --> testing pass

Test environment and result as below:

+---------------------+--------------------+----------------+
|     Environment     | dpdk_meson_compile | dpdk_unit_test |
+=====================+====================+================+
| Windows Server 2019 | PASS               | SKIPPED        |
+---------------------+--------------------+----------------+
| Fedora 31           | PASS               | SKIPPED        |
+---------------------+--------------------+----------------+
| FreeBSD 11.2        | PASS               | SKIPPED        |
+---------------------+--------------------+----------------+
| Ubuntu 18.04        | PASS               | PASS           |
+---------------------+--------------------+----------------+
| CentOS 8            | PASS               | SKIPPED        |
+---------------------+--------------------+----------------+
| openSUSE Leap 15    | PASS               | SKIPPED        |
+---------------------+--------------------+----------------+
| Arch Linux          | PASS               | SKIPPED        |
+---------------------+--------------------+----------------+

Windows Server 2019
	Kernel: 10.0
	Compiler: clang 9.0

Fedora 31
	Kernel: 5.3.16
	Compiler: gcc 9.2.1

FreeBSD 11.2
	Kernel: 11.2
	Compiler: gcc 8.3

Ubuntu 18.04
	Kernel: 4.15.0-generic
	Compiler: gcc 7.4

CentOS 8
	Kernel: 4.18.0.el8_0
	Compiler: gcc 8.3.1

openSUSE Leap 15
	Kernel: 4.12.14
	Compiler: gcc 7.4.1

Arch Linux
	Kernel: latest
	Compiler: gcc latest

To view detailed results, visit:
https://lab.dpdk.org/results/dashboard/patchsets/13791/

UNH-IOL DPDK Community Lab

To manage your email subscriptions, visit: 
https://lab.dpdk.org/results/dashboard/preferences/subscriptions/

^ permalink raw reply	[flat|nested] 6+ messages in thread

* [dpdk-test-report] |SUCCESS| pw81086-81085 [PATCH] [v2, 2/2] devtools: check Windows export files
@ 2020-10-16 16:00 dpdklab
  0 siblings, 0 replies; 6+ messages in thread
From: dpdklab @ 2020-10-16 16:00 UTC (permalink / raw)
  To: Test Report; +Cc: dpdk-test-reports

[-- Attachment #1: Type: text/plain, Size: 1925 bytes --]

Test-Label: iol-intel-Performance
Test-Status: SUCCESS
http://dpdk.org/patch/81085

_Performance Testing PASS_

Submitter: David Marchand <david.marchand@redhat.com>
Date: Friday, October 16 2020 10:27:11 
DPDK git baseline: Repo:dpdk
  Branch: master
  CommitID:ed94631da7b49feb68a0a9d6c780a908745d9c00

81086-81085 --> performance testing pass

Test environment and result as below:

Ubuntu 18.04
Kernel: 4.15.0-generic
Compiler: gcc 7.4
NIC: Intel Corporation Ethernet Converged Network Adapter XL710-QDA2 40000 Mbps
Target: x86_64-native-linuxapp-gcc
Fail/Total: 0/2

Detail performance results: 
+------------+---------+-------------------------------------+
| frame_size | txd/rxd | throughput difference from expected |
+============+=========+=====================================+
| 64         | 512     | 2.590                               |
+------------+---------+-------------------------------------+
| 64         | 2048    | 1.689                               |
+------------+---------+-------------------------------------+

Ubuntu 18.04
Kernel: 4.15.0-generic
Compiler: gcc 7.4
NIC: Intel Corporation Ethernet Converged Network Adapter 82599ES 10000 Mbps
Target: x86_64-native-linuxapp-gcc
Fail/Total: 0/2

Detail performance results: 
+------------+---------+-------------------------------------+
| frame_size | txd/rxd | throughput difference from expected |
+============+=========+=====================================+
| 64         | 512     | 1.917                               |
+------------+---------+-------------------------------------+
| 64         | 2048    | 0.593                               |
+------------+---------+-------------------------------------+

To view detailed results, visit:
https://lab.dpdk.org/results/dashboard/patchsets/13791/

UNH-IOL DPDK Community Lab

To manage your email subscriptions, visit: 
https://lab.dpdk.org/results/dashboard/preferences/subscriptions/

^ permalink raw reply	[flat|nested] 6+ messages in thread

* [dpdk-test-report] |SUCCESS| pw81086-81085 [PATCH] [v2, 2/2] devtools: check Windows export files
@ 2020-10-16 13:09 dpdklab
  0 siblings, 0 replies; 6+ messages in thread
From: dpdklab @ 2020-10-16 13:09 UTC (permalink / raw)
  To: Test Report; +Cc: dpdk-test-reports

[-- Attachment #1: Type: text/plain, Size: 798 bytes --]

Test-Label: iol-intel-Functional
Test-Status: SUCCESS
http://dpdk.org/patch/81085

_Functional Testing PASS_

Submitter: David Marchand <david.marchand@redhat.com>
Date: Friday, October 16 2020 10:27:11 
DPDK git baseline: Repo:dpdk
  Branch: master
  CommitID:ed94631da7b49feb68a0a9d6c780a908745d9c00

81086-81085 --> functional testing pass

Test environment and result as below:

Ubuntu 18.04
Kernel: 4.15.0-generic
Compiler: gcc 7.4
NIC: Intel Corporation Ethernet Converged Network Adapter XL710-QDA2 40000 Mbps
Target: x86_64-native-linuxapp-gcc
Fail/Total: 0/4


To view detailed results, visit:
https://lab.dpdk.org/results/dashboard/patchsets/13791/

UNH-IOL DPDK Community Lab

To manage your email subscriptions, visit: 
https://lab.dpdk.org/results/dashboard/preferences/subscriptions/

^ permalink raw reply	[flat|nested] 6+ messages in thread

* [dpdk-test-report] |SUCCESS| pw81086-81085 [PATCH] [v2, 2/2] devtools: check Windows export files
@ 2020-10-16 12:04 dpdklab
  0 siblings, 0 replies; 6+ messages in thread
From: dpdklab @ 2020-10-16 12:04 UTC (permalink / raw)
  To: Ajit Khaparde, Test Report; +Cc: dpdk-test-reports

[-- Attachment #1: Type: text/plain, Size: 803 bytes --]

Test-Label: iol-broadcom-Functional
Test-Status: SUCCESS
http://dpdk.org/patch/81085

_Functional Testing PASS_

Submitter: David Marchand <david.marchand@redhat.com>
Date: Friday, October 16 2020 10:27:11 
DPDK git baseline: Repo:dpdk
  Branch: master
  CommitID:ed94631da7b49feb68a0a9d6c780a908745d9c00

81086-81085 --> functional testing pass

Test environment and result as below:

Ubuntu 18.04
Kernel: 4.15.0-65-generic
Compiler: gcc gcc (Ubuntu 7.4.0-1ubuntu1~18.04.1) 7.4.0
NIC: Broadcom Inc. brcm_57414 25000 Mbps
Target: x86_64-native-linuxapp-gcc
Fail/Total: 0/3


To view detailed results, visit:
https://lab.dpdk.org/results/dashboard/patchsets/13791/

UNH-IOL DPDK Community Lab

To manage your email subscriptions, visit: 
https://lab.dpdk.org/results/dashboard/preferences/subscriptions/

^ permalink raw reply	[flat|nested] 6+ messages in thread

* [dpdk-test-report] |SUCCESS| pw81086-81085 [PATCH] [v2, 2/2] devtools: check Windows export files
@ 2020-10-16 11:55 dpdklab
  0 siblings, 0 replies; 6+ messages in thread
From: dpdklab @ 2020-10-16 11:55 UTC (permalink / raw)
  To: Ajit Khaparde, Test Report; +Cc: dpdk-test-reports

[-- Attachment #1: Type: text/plain, Size: 1276 bytes --]

Test-Label: iol-broadcom-Performance
Test-Status: SUCCESS
http://dpdk.org/patch/81085

_Performance Testing PASS_

Submitter: David Marchand <david.marchand@redhat.com>
Date: Friday, October 16 2020 10:27:11 
DPDK git baseline: Repo:dpdk
  Branch: master
  CommitID:ed94631da7b49feb68a0a9d6c780a908745d9c00

81086-81085 --> performance testing pass

Test environment and result as below:

Ubuntu 18.04
Kernel: 4.15.0-65-generic
Compiler: gcc gcc (Ubuntu 7.4.0-1ubuntu1~18.04.1) 7.4.0
NIC: Broadcom Inc. brcm_57414 25000 Mbps
Target: x86_64-native-linuxapp-gcc
Fail/Total: 0/2

Detail performance results: 
+------------+---------+-------------------------------------+
| frame_size | txd/rxd | throughput difference from expected |
+============+=========+=====================================+
| 64         | 512     | -0.032                              |
+------------+---------+-------------------------------------+
| 64         | 2048    | -0.029                              |
+------------+---------+-------------------------------------+

To view detailed results, visit:
https://lab.dpdk.org/results/dashboard/patchsets/13791/

UNH-IOL DPDK Community Lab

To manage your email subscriptions, visit: 
https://lab.dpdk.org/results/dashboard/preferences/subscriptions/

^ permalink raw reply	[flat|nested] 6+ messages in thread

end of thread, back to index

Thread overview: 6+ messages (download: mbox.gz / follow: Atom feed)
-- links below jump to the message on this page --
2020-10-17 23:41 [dpdk-test-report] |SUCCESS| pw81086-81085 [PATCH] [v2, 2/2] devtools: check Windows export files dpdklab
  -- strict thread matches above, loose matches on Subject: below --
2020-10-16 16:33 dpdklab
2020-10-16 16:00 dpdklab
2020-10-16 13:09 dpdklab
2020-10-16 12:04 dpdklab
2020-10-16 11:55 dpdklab

automatic DPDK test reports

Archives are clonable:
	git clone --mirror http://inbox.dpdk.org/test-report/0 test-report/git/0.git

	# If you have public-inbox 1.1+ installed, you may
	# initialize and index your mirror using the following commands:
	public-inbox-init -V2 test-report test-report/ http://inbox.dpdk.org/test-report \
		test-report@dpdk.org
	public-inbox-index test-report


Newsgroup available over NNTP:
	nntp://inbox.dpdk.org/inbox.dpdk.test-report


AGPL code for this site: git clone https://public-inbox.org/ public-inbox