automatic DPDK test reports
 help / color / Atom feed
* [dpdk-test-report] |SUCCESS| pw81105-81106 [PATCH] [v8, 3/3] app/testpmd: add commands for tunnel offload API
@ 2020-10-18  1:11 dpdklab
  0 siblings, 0 replies; 6+ messages in thread
From: dpdklab @ 2020-10-18  1:11 UTC (permalink / raw)
  To: Ali Alnubani, Test Report; +Cc: dpdk-test-reports

[-- Attachment #1: Type: text/plain, Size: 3979 bytes --]

Test-Label: iol-mellanox-Performance
Test-Status: SUCCESS
http://dpdk.org/patch/81106

_Performance Testing PASS_

Submitter: Gregory Etelson <getelson@nvidia.com>
Date: Friday, October 16 2020 12:51:07 
DPDK git baseline: Repo:dpdk-next-net
  Branch: master
  CommitID:67438840ac9b48d1aec6369f41c610e4cf676d78

81105-81106 --> performance testing pass

Test environment and result as below:

Ubuntu 18.04
Kernel: 4.15.0-generic
Compiler: gcc 7.4
NIC: Mellanox ConnectX-5 100000 Mbps
Target: x86_64-native-linuxapp-gcc
Fail/Total: 0/6

Detail performance results: 
+------------+---------+-------------------------------------+
| frame_size | txd/rxd | throughput difference from expected |
+============+=========+=====================================+
| 64         | 256     | -0.104                              |
+------------+---------+-------------------------------------+
| 128        | 256     | -0.032                              |
+------------+---------+-------------------------------------+
| 256        | 256     | 0.122                               |
+------------+---------+-------------------------------------+
| 512        | 256     | -0.100                              |
+------------+---------+-------------------------------------+
| 1024       | 256     | 0.012                               |
+------------+---------+-------------------------------------+
| 1518       | 256     | -0.019                              |
+------------+---------+-------------------------------------+

Ubuntu 18.04
Kernel: 4.15.0-generic
Compiler: gcc 7.4
NIC: Mellanox ConnectX-4 Lx 25000 Mbps
Target: x86_64-native-linuxapp-gcc
Fail/Total: 0/6

Detail performance results: 
+------------+---------+-------------------------------------+
| frame_size | txd/rxd | throughput difference from expected |
+============+=========+=====================================+
| 64         | 256     | 0.054                               |
+------------+---------+-------------------------------------+
| 128        | 256     | -0.065                              |
+------------+---------+-------------------------------------+
| 256        | 256     | -0.088                              |
+------------+---------+-------------------------------------+
| 512        | 256     | -0.012                              |
+------------+---------+-------------------------------------+
| 1024       | 256     | -0.008                              |
+------------+---------+-------------------------------------+
| 1518       | 256     | 0.002                               |
+------------+---------+-------------------------------------+

Ubuntu 18.04
Kernel: 4.15.0-generic
Compiler: gcc 7.4
NIC: Mellanox ConnectX-4 Lx 40000 Mbps
Target: x86_64-native-linuxapp-gcc
Fail/Total: 0/6

Detail performance results: 
+------------+---------+-------------------------------------+
| frame_size | txd/rxd | throughput difference from expected |
+============+=========+=====================================+
| 64         | 256     | 0.110                               |
+------------+---------+-------------------------------------+
| 128        | 256     | 0.044                               |
+------------+---------+-------------------------------------+
| 256        | 256     | -0.178                              |
+------------+---------+-------------------------------------+
| 512        | 256     | -0.018                              |
+------------+---------+-------------------------------------+
| 1024       | 256     | 0.017                               |
+------------+---------+-------------------------------------+
| 1518       | 256     | 0.009                               |
+------------+---------+-------------------------------------+

To view detailed results, visit:
https://lab.dpdk.org/results/dashboard/patchsets/13798/

UNH-IOL DPDK Community Lab

To manage your email subscriptions, visit: 
https://lab.dpdk.org/results/dashboard/preferences/subscriptions/

^ permalink raw reply	[flat|nested] 6+ messages in thread

* [dpdk-test-report] |SUCCESS| pw81105-81106 [PATCH] [v8, 3/3] app/testpmd: add commands for tunnel offload API
@ 2020-10-16 17:25 dpdklab
  0 siblings, 0 replies; 6+ messages in thread
From: dpdklab @ 2020-10-16 17:25 UTC (permalink / raw)
  To: Test Report; +Cc: dpdk-test-reports

[-- Attachment #1: Type: text/plain, Size: 2006 bytes --]

Test-Label: iol-testing
Test-Status: SUCCESS
http://dpdk.org/patch/81106

_Testing PASS_

Submitter: Gregory Etelson <getelson@nvidia.com>
Date: Friday, October 16 2020 12:51:07 
DPDK git baseline: Repo:dpdk-next-net
  Branch: master
  CommitID:67438840ac9b48d1aec6369f41c610e4cf676d78

81105-81106 --> testing pass

Test environment and result as below:

+---------------------+--------------------+----------------+
|     Environment     | dpdk_meson_compile | dpdk_unit_test |
+=====================+====================+================+
| Windows Server 2019 | PASS               | SKIPPED        |
+---------------------+--------------------+----------------+
| FreeBSD 11.2        | PASS               | SKIPPED        |
+---------------------+--------------------+----------------+
| Ubuntu 18.04        | PASS               | PASS           |
+---------------------+--------------------+----------------+
| CentOS 8            | PASS               | SKIPPED        |
+---------------------+--------------------+----------------+
| openSUSE Leap 15    | PASS               | SKIPPED        |
+---------------------+--------------------+----------------+
| Arch Linux          | PASS               | SKIPPED        |
+---------------------+--------------------+----------------+
| Fedora 31           | PASS               | SKIPPED        |
+---------------------+--------------------+----------------+

Windows Server 2019
	Kernel: 10.0
	Compiler: clang 9.0

FreeBSD 11.2
	Kernel: 11.2
	Compiler: gcc 8.3

Ubuntu 18.04
	Kernel: 4.15.0-generic
	Compiler: gcc 7.4

CentOS 8
	Kernel: 4.18.0.el8_0
	Compiler: gcc 8.3.1

openSUSE Leap 15
	Kernel: 4.12.14
	Compiler: gcc 7.4.1

Arch Linux
	Kernel: latest
	Compiler: gcc latest

Fedora 31
	Kernel: 5.3.16
	Compiler: gcc 9.2.1

To view detailed results, visit:
https://lab.dpdk.org/results/dashboard/patchsets/13798/

UNH-IOL DPDK Community Lab

To manage your email subscriptions, visit: 
https://lab.dpdk.org/results/dashboard/preferences/subscriptions/

^ permalink raw reply	[flat|nested] 6+ messages in thread

* [dpdk-test-report] |SUCCESS| pw81105-81106 [PATCH] [v8, 3/3] app/testpmd: add commands for tunnel offload API
@ 2020-10-16 16:57 dpdklab
  0 siblings, 0 replies; 6+ messages in thread
From: dpdklab @ 2020-10-16 16:57 UTC (permalink / raw)
  To: Test Report; +Cc: dpdk-test-reports

[-- Attachment #1: Type: text/plain, Size: 1929 bytes --]

Test-Label: iol-intel-Performance
Test-Status: SUCCESS
http://dpdk.org/patch/81106

_Performance Testing PASS_

Submitter: Gregory Etelson <getelson@nvidia.com>
Date: Friday, October 16 2020 12:51:07 
DPDK git baseline: Repo:dpdk-next-net
  Branch: master
  CommitID:67438840ac9b48d1aec6369f41c610e4cf676d78

81105-81106 --> performance testing pass

Test environment and result as below:

Ubuntu 18.04
Kernel: 4.15.0-generic
Compiler: gcc 7.4
NIC: Intel Corporation Ethernet Converged Network Adapter XL710-QDA2 40000 Mbps
Target: x86_64-native-linuxapp-gcc
Fail/Total: 0/2

Detail performance results: 
+------------+---------+-------------------------------------+
| frame_size | txd/rxd | throughput difference from expected |
+============+=========+=====================================+
| 64         | 512     | 2.481                               |
+------------+---------+-------------------------------------+
| 64         | 2048    | 1.451                               |
+------------+---------+-------------------------------------+

Ubuntu 18.04
Kernel: 4.15.0-generic
Compiler: gcc 7.4
NIC: Intel Corporation Ethernet Converged Network Adapter 82599ES 10000 Mbps
Target: x86_64-native-linuxapp-gcc
Fail/Total: 0/2

Detail performance results: 
+------------+---------+-------------------------------------+
| frame_size | txd/rxd | throughput difference from expected |
+============+=========+=====================================+
| 64         | 512     | 1.366                               |
+------------+---------+-------------------------------------+
| 64         | 2048    | 0.617                               |
+------------+---------+-------------------------------------+

To view detailed results, visit:
https://lab.dpdk.org/results/dashboard/patchsets/13798/

UNH-IOL DPDK Community Lab

To manage your email subscriptions, visit: 
https://lab.dpdk.org/results/dashboard/preferences/subscriptions/

^ permalink raw reply	[flat|nested] 6+ messages in thread

* [dpdk-test-report] |SUCCESS| pw81105-81106 [PATCH] [v8, 3/3] app/testpmd: add commands for tunnel offload API
@ 2020-10-16 14:08 dpdklab
  0 siblings, 0 replies; 6+ messages in thread
From: dpdklab @ 2020-10-16 14:08 UTC (permalink / raw)
  To: Test Report; +Cc: dpdk-test-reports

[-- Attachment #1: Type: text/plain, Size: 802 bytes --]

Test-Label: iol-intel-Functional
Test-Status: SUCCESS
http://dpdk.org/patch/81106

_Functional Testing PASS_

Submitter: Gregory Etelson <getelson@nvidia.com>
Date: Friday, October 16 2020 12:51:07 
DPDK git baseline: Repo:dpdk-next-net
  Branch: master
  CommitID:67438840ac9b48d1aec6369f41c610e4cf676d78

81105-81106 --> functional testing pass

Test environment and result as below:

Ubuntu 18.04
Kernel: 4.15.0-generic
Compiler: gcc 7.4
NIC: Intel Corporation Ethernet Converged Network Adapter XL710-QDA2 40000 Mbps
Target: x86_64-native-linuxapp-gcc
Fail/Total: 0/4


To view detailed results, visit:
https://lab.dpdk.org/results/dashboard/patchsets/13798/

UNH-IOL DPDK Community Lab

To manage your email subscriptions, visit: 
https://lab.dpdk.org/results/dashboard/preferences/subscriptions/

^ permalink raw reply	[flat|nested] 6+ messages in thread

* [dpdk-test-report] |SUCCESS| pw81105-81106 [PATCH] [v8, 3/3] app/testpmd: add commands for tunnel offload API
@ 2020-10-16 13:41 dpdklab
  0 siblings, 0 replies; 6+ messages in thread
From: dpdklab @ 2020-10-16 13:41 UTC (permalink / raw)
  To: Ajit Khaparde, Test Report; +Cc: dpdk-test-reports

[-- Attachment #1: Type: text/plain, Size: 807 bytes --]

Test-Label: iol-broadcom-Functional
Test-Status: SUCCESS
http://dpdk.org/patch/81106

_Functional Testing PASS_

Submitter: Gregory Etelson <getelson@nvidia.com>
Date: Friday, October 16 2020 12:51:07 
DPDK git baseline: Repo:dpdk-next-net
  Branch: master
  CommitID:67438840ac9b48d1aec6369f41c610e4cf676d78

81105-81106 --> functional testing pass

Test environment and result as below:

Ubuntu 18.04
Kernel: 4.15.0-65-generic
Compiler: gcc gcc (Ubuntu 7.4.0-1ubuntu1~18.04.1) 7.4.0
NIC: Broadcom Inc. brcm_57414 25000 Mbps
Target: x86_64-native-linuxapp-gcc
Fail/Total: 0/3


To view detailed results, visit:
https://lab.dpdk.org/results/dashboard/patchsets/13798/

UNH-IOL DPDK Community Lab

To manage your email subscriptions, visit: 
https://lab.dpdk.org/results/dashboard/preferences/subscriptions/

^ permalink raw reply	[flat|nested] 6+ messages in thread

* [dpdk-test-report] |SUCCESS| pw81105-81106 [PATCH] [v8, 3/3] app/testpmd: add commands for tunnel offload API
@ 2020-10-16 13:33 dpdklab
  0 siblings, 0 replies; 6+ messages in thread
From: dpdklab @ 2020-10-16 13:33 UTC (permalink / raw)
  To: Ajit Khaparde, Test Report; +Cc: dpdk-test-reports

[-- Attachment #1: Type: text/plain, Size: 1280 bytes --]

Test-Label: iol-broadcom-Performance
Test-Status: SUCCESS
http://dpdk.org/patch/81106

_Performance Testing PASS_

Submitter: Gregory Etelson <getelson@nvidia.com>
Date: Friday, October 16 2020 12:51:07 
DPDK git baseline: Repo:dpdk-next-net
  Branch: master
  CommitID:67438840ac9b48d1aec6369f41c610e4cf676d78

81105-81106 --> performance testing pass

Test environment and result as below:

Ubuntu 18.04
Kernel: 4.15.0-65-generic
Compiler: gcc gcc (Ubuntu 7.4.0-1ubuntu1~18.04.1) 7.4.0
NIC: Broadcom Inc. brcm_57414 25000 Mbps
Target: x86_64-native-linuxapp-gcc
Fail/Total: 0/2

Detail performance results: 
+------------+---------+-------------------------------------+
| frame_size | txd/rxd | throughput difference from expected |
+============+=========+=====================================+
| 64         | 512     | 0.009                               |
+------------+---------+-------------------------------------+
| 64         | 2048    | -0.001                              |
+------------+---------+-------------------------------------+

To view detailed results, visit:
https://lab.dpdk.org/results/dashboard/patchsets/13798/

UNH-IOL DPDK Community Lab

To manage your email subscriptions, visit: 
https://lab.dpdk.org/results/dashboard/preferences/subscriptions/

^ permalink raw reply	[flat|nested] 6+ messages in thread

end of thread, back to index

Thread overview: 6+ messages (download: mbox.gz / follow: Atom feed)
-- links below jump to the message on this page --
2020-10-18  1:11 [dpdk-test-report] |SUCCESS| pw81105-81106 [PATCH] [v8, 3/3] app/testpmd: add commands for tunnel offload API dpdklab
  -- strict thread matches above, loose matches on Subject: below --
2020-10-16 17:25 dpdklab
2020-10-16 16:57 dpdklab
2020-10-16 14:08 dpdklab
2020-10-16 13:41 dpdklab
2020-10-16 13:33 dpdklab

automatic DPDK test reports

Archives are clonable:
	git clone --mirror http://inbox.dpdk.org/test-report/0 test-report/git/0.git

	# If you have public-inbox 1.1+ installed, you may
	# initialize and index your mirror using the following commands:
	public-inbox-init -V2 test-report test-report/ http://inbox.dpdk.org/test-report \
		test-report@dpdk.org
	public-inbox-index test-report


Newsgroup available over NNTP:
	nntp://inbox.dpdk.org/inbox.dpdk.test-report


AGPL code for this site: git clone https://public-inbox.org/ public-inbox