Test-Label: checkpatch Test-Status: SUCCESS http://dpdk.org/patch/81820 _coding style OK_
[-- Attachment #1: Type: text/plain, Size: 1278 bytes --] Test-Label: iol-broadcom-Performance Test-Status: SUCCESS http://dpdk.org/patch/81820 _Performance Testing PASS_ Submitter: Lance Richardson <lance.richardson@broadcom.com> Date: Thursday, October 22 2020 18:45:10 DPDK git baseline: Repo:dpdk Branch: master CommitID:4669252e0421aaf06ff86d5339f970ebe72cbf22 81820 --> performance testing pass Test environment and result as below: Ubuntu 18.04 Kernel: 4.15.0-65-generic Compiler: gcc gcc (Ubuntu 7.4.0-1ubuntu1~18.04.1) 7.4.0 NIC: Broadcom Inc. brcm_57414 25000 Mbps Target: x86_64-native-linuxapp-gcc Fail/Total: 0/2 Detail performance results: +------------+---------+-------------------------------------+ | frame_size | txd/rxd | throughput difference from expected | +============+=========+=====================================+ | 64 | 512 | 0.002 | +------------+---------+-------------------------------------+ | 64 | 2048 | -0.009 | +------------+---------+-------------------------------------+ To view detailed results, visit: https://lab.dpdk.org/results/dashboard/patchsets/13930/ UNH-IOL DPDK Community Lab To manage your email subscriptions, visit: https://lab.dpdk.org/results/dashboard/preferences/subscriptions/
[-- Attachment #1: Type: text/plain, Size: 805 bytes --] Test-Label: iol-broadcom-Functional Test-Status: SUCCESS http://dpdk.org/patch/81820 _Functional Testing PASS_ Submitter: Lance Richardson <lance.richardson@broadcom.com> Date: Thursday, October 22 2020 18:45:10 DPDK git baseline: Repo:dpdk Branch: master CommitID:4669252e0421aaf06ff86d5339f970ebe72cbf22 81820 --> functional testing pass Test environment and result as below: Ubuntu 18.04 Kernel: 4.15.0-65-generic Compiler: gcc gcc (Ubuntu 7.4.0-1ubuntu1~18.04.1) 7.4.0 NIC: Broadcom Inc. brcm_57414 25000 Mbps Target: x86_64-native-linuxapp-gcc Fail/Total: 0/3 To view detailed results, visit: https://lab.dpdk.org/results/dashboard/patchsets/13930/ UNH-IOL DPDK Community Lab To manage your email subscriptions, visit: https://lab.dpdk.org/results/dashboard/preferences/subscriptions/
[-- Attachment #1: Type: text/plain, Size: 800 bytes --] Test-Label: iol-intel-Functional Test-Status: SUCCESS http://dpdk.org/patch/81820 _Functional Testing PASS_ Submitter: Lance Richardson <lance.richardson@broadcom.com> Date: Thursday, October 22 2020 18:45:10 DPDK git baseline: Repo:dpdk Branch: master CommitID:4669252e0421aaf06ff86d5339f970ebe72cbf22 81820 --> functional testing pass Test environment and result as below: Ubuntu 18.04 Kernel: 4.15.0-generic Compiler: gcc 7.4 NIC: Intel Corporation Ethernet Converged Network Adapter XL710-QDA2 40000 Mbps Target: x86_64-native-linuxapp-gcc Fail/Total: 0/3 To view detailed results, visit: https://lab.dpdk.org/results/dashboard/patchsets/13930/ UNH-IOL DPDK Community Lab To manage your email subscriptions, visit: https://lab.dpdk.org/results/dashboard/preferences/subscriptions/
[-- Attachment #1: Type: text/plain, Size: 1927 bytes --] Test-Label: iol-intel-Performance Test-Status: SUCCESS http://dpdk.org/patch/81820 _Performance Testing PASS_ Submitter: Lance Richardson <lance.richardson@broadcom.com> Date: Thursday, October 22 2020 18:45:10 DPDK git baseline: Repo:dpdk Branch: master CommitID:4669252e0421aaf06ff86d5339f970ebe72cbf22 81820 --> performance testing pass Test environment and result as below: Ubuntu 18.04 Kernel: 4.15.0-generic Compiler: gcc 7.4 NIC: Intel Corporation Ethernet Converged Network Adapter XL710-QDA2 40000 Mbps Target: x86_64-native-linuxapp-gcc Fail/Total: 0/2 Detail performance results: +------------+---------+-------------------------------------+ | frame_size | txd/rxd | throughput difference from expected | +============+=========+=====================================+ | 64 | 512 | 2.638 | +------------+---------+-------------------------------------+ | 64 | 2048 | 1.593 | +------------+---------+-------------------------------------+ Ubuntu 18.04 Kernel: 4.15.0-generic Compiler: gcc 7.4 NIC: Intel Corporation Ethernet Converged Network Adapter 82599ES 10000 Mbps Target: x86_64-native-linuxapp-gcc Fail/Total: 0/2 Detail performance results: +------------+---------+-------------------------------------+ | frame_size | txd/rxd | throughput difference from expected | +============+=========+=====================================+ | 64 | 512 | 1.754 | +------------+---------+-------------------------------------+ | 64 | 2048 | 1.073 | +------------+---------+-------------------------------------+ To view detailed results, visit: https://lab.dpdk.org/results/dashboard/patchsets/13930/ UNH-IOL DPDK Community Lab To manage your email subscriptions, visit: https://lab.dpdk.org/results/dashboard/preferences/subscriptions/
[-- Attachment #1: Type: text/plain, Size: 2004 bytes --] Test-Label: iol-testing Test-Status: SUCCESS http://dpdk.org/patch/81820 _Testing PASS_ Submitter: Lance Richardson <lance.richardson@broadcom.com> Date: Thursday, October 22 2020 18:45:10 DPDK git baseline: Repo:dpdk Branch: master CommitID:4669252e0421aaf06ff86d5339f970ebe72cbf22 81820 --> testing pass Test environment and result as below: +---------------------+--------------------+----------------+ | Environment | dpdk_meson_compile | dpdk_unit_test | +=====================+====================+================+ | Windows Server 2019 | PASS | SKIPPED | +---------------------+--------------------+----------------+ | FreeBSD 11.2 | PASS | SKIPPED | +---------------------+--------------------+----------------+ | Ubuntu 18.04 | PASS | PASS | +---------------------+--------------------+----------------+ | Fedora 31 | PASS | SKIPPED | +---------------------+--------------------+----------------+ | CentOS 8 | PASS | SKIPPED | +---------------------+--------------------+----------------+ | openSUSE Leap 15 | PASS | SKIPPED | +---------------------+--------------------+----------------+ | Arch Linux | PASS | SKIPPED | +---------------------+--------------------+----------------+ Windows Server 2019 Kernel: 10.0 Compiler: clang 9.0 FreeBSD 11.2 Kernel: 11.2 Compiler: gcc 8.3 Ubuntu 18.04 Kernel: 4.15.0-generic Compiler: gcc 7.4 Fedora 31 Kernel: 5.3.16 Compiler: gcc 9.2.1 CentOS 8 Kernel: 4.18.0.el8_0 Compiler: gcc 8.3.1 openSUSE Leap 15 Kernel: 4.12.14 Compiler: gcc 7.4.1 Arch Linux Kernel: latest Compiler: gcc latest To view detailed results, visit: https://lab.dpdk.org/results/dashboard/patchsets/13930/ UNH-IOL DPDK Community Lab To manage your email subscriptions, visit: https://lab.dpdk.org/results/dashboard/preferences/subscriptions/
[-- Attachment #1: Type: text/plain, Size: 3977 bytes --] Test-Label: iol-mellanox-Performance Test-Status: SUCCESS http://dpdk.org/patch/81820 _Performance Testing PASS_ Submitter: Lance Richardson <lance.richardson@broadcom.com> Date: Thursday, October 22 2020 18:45:10 DPDK git baseline: Repo:dpdk Branch: master CommitID:4669252e0421aaf06ff86d5339f970ebe72cbf22 81820 --> performance testing pass Test environment and result as below: Ubuntu 18.04 Kernel: 4.15.0-generic Compiler: gcc 7.4 NIC: Mellanox ConnectX-5 100000 Mbps Target: x86_64-native-linuxapp-gcc Fail/Total: 0/6 Detail performance results: +------------+---------+-------------------------------------+ | frame_size | txd/rxd | throughput difference from expected | +============+=========+=====================================+ | 64 | 256 | 0.107 | +------------+---------+-------------------------------------+ | 128 | 256 | 0.016 | +------------+---------+-------------------------------------+ | 256 | 256 | 0.004 | +------------+---------+-------------------------------------+ | 512 | 256 | 0.023 | +------------+---------+-------------------------------------+ | 1024 | 256 | 0.012 | +------------+---------+-------------------------------------+ | 1518 | 256 | 0.015 | +------------+---------+-------------------------------------+ Ubuntu 18.04 Kernel: 4.15.0-generic Compiler: gcc 7.4 NIC: Mellanox ConnectX-4 Lx 25000 Mbps Target: x86_64-native-linuxapp-gcc Fail/Total: 0/6 Detail performance results: +------------+---------+-------------------------------------+ | frame_size | txd/rxd | throughput difference from expected | +============+=========+=====================================+ | 64 | 256 | -0.032 | +------------+---------+-------------------------------------+ | 128 | 256 | 0.097 | +------------+---------+-------------------------------------+ | 256 | 256 | 0.212 | +------------+---------+-------------------------------------+ | 512 | 256 | 0.002 | +------------+---------+-------------------------------------+ | 1024 | 256 | -0.005 | +------------+---------+-------------------------------------+ | 1518 | 256 | -0.008 | +------------+---------+-------------------------------------+ Ubuntu 18.04 Kernel: 4.15.0-generic Compiler: gcc 7.4 NIC: Mellanox ConnectX-4 Lx 40000 Mbps Target: x86_64-native-linuxapp-gcc Fail/Total: 0/6 Detail performance results: +------------+---------+-------------------------------------+ | frame_size | txd/rxd | throughput difference from expected | +============+=========+=====================================+ | 64 | 256 | -0.120 | +------------+---------+-------------------------------------+ | 128 | 256 | -0.132 | +------------+---------+-------------------------------------+ | 256 | 256 | 0.321 | +------------+---------+-------------------------------------+ | 512 | 256 | 0.003 | +------------+---------+-------------------------------------+ | 1024 | 256 | 0.019 | +------------+---------+-------------------------------------+ | 1518 | 256 | 0 | +------------+---------+-------------------------------------+ To view detailed results, visit: https://lab.dpdk.org/results/dashboard/patchsets/13930/ UNH-IOL DPDK Community Lab To manage your email subscriptions, visit: https://lab.dpdk.org/results/dashboard/preferences/subscriptions/