* [dpdk-test-report] |SUCCESS| pw82533 [PATCH] net/mlx5: fix incorrect group value of sample suffix flow
@ 2020-10-28 8:47 dpdklab
0 siblings, 0 replies; 5+ messages in thread
From: dpdklab @ 2020-10-28 8:47 UTC (permalink / raw)
To: Test Report; +Cc: dpdk-test-reports
[-- Attachment #1: Type: text/plain, Size: 1713 bytes --]
Test-Label: iol-testing
Test-Status: SUCCESS
http://dpdk.org/patch/82533
_Testing PASS_
Submitter: Jiawei Wang <jiaweiw@nvidia.com>
Date: Wednesday, October 28 2020 07:41:39
DPDK git baseline: Repo:dpdk-next-net-mlx
Branch: master
CommitID:8c287f8ed6d549428d9979316f7179bf0b4e0f90
82533 --> testing pass
Test environment and result as below:
+---------------------+--------------------+
| Environment | dpdk_meson_compile |
+=====================+====================+
| Windows Server 2019 | PASS |
+---------------------+--------------------+
| FreeBSD 11.2 | PASS |
+---------------------+--------------------+
| Ubuntu 18.04 | PASS |
+---------------------+--------------------+
| CentOS 8 | PASS |
+---------------------+--------------------+
| Fedora 31 | PASS |
+---------------------+--------------------+
| openSUSE Leap 15 | PASS |
+---------------------+--------------------+
| Arch Linux | PASS |
+---------------------+--------------------+
Windows Server 2019
Kernel: 10.0
Compiler: clang 9.0
FreeBSD 11.2
Kernel: 11.2
Compiler: gcc 8.3
Ubuntu 18.04
Kernel: 4.15.0-generic
Compiler: gcc 7.4
CentOS 8
Kernel: 4.18.0.el8_0
Compiler: gcc 8.3.1
Fedora 31
Kernel: 5.3.16
Compiler: gcc 9.2.1
openSUSE Leap 15
Kernel: 4.12.14
Compiler: gcc 7.4.1
Arch Linux
Kernel: latest
Compiler: gcc latest
To view detailed results, visit:
https://lab.dpdk.org/results/dashboard/patchsets/14090/
UNH-IOL DPDK Community Lab
To manage your email subscriptions, visit:
https://lab.dpdk.org/results/dashboard/preferences/subscriptions/
^ permalink raw reply [flat|nested] 5+ messages in thread
* [dpdk-test-report] |SUCCESS| pw82533 [PATCH] net/mlx5: fix incorrect group value of sample suffix flow
@ 2020-10-29 10:02 dpdklab
0 siblings, 0 replies; 5+ messages in thread
From: dpdklab @ 2020-10-29 10:02 UTC (permalink / raw)
To: Ali Alnubani, Test Report; +Cc: dpdk-test-reports
[-- Attachment #1: Type: text/plain, Size: 3975 bytes --]
Test-Label: iol-mellanox-Performance
Test-Status: SUCCESS
http://dpdk.org/patch/82533
_Performance Testing PASS_
Submitter: Jiawei Wang <jiaweiw@nvidia.com>
Date: Wednesday, October 28 2020 07:41:39
DPDK git baseline: Repo:dpdk-next-net-mlx
Branch: master
CommitID:8c287f8ed6d549428d9979316f7179bf0b4e0f90
82533 --> performance testing pass
Test environment and result as below:
Ubuntu 18.04
Kernel: 4.15.0-generic
Compiler: gcc 7.4
NIC: Mellanox ConnectX-5 100000 Mbps
Target: x86_64-native-linuxapp-gcc
Fail/Total: 0/6
Detail performance results:
+------------+---------+-------------------------------------+
| frame_size | txd/rxd | throughput difference from expected |
+============+=========+=====================================+
| 64 | 256 | 0.545 |
+------------+---------+-------------------------------------+
| 128 | 256 | 0.120 |
+------------+---------+-------------------------------------+
| 256 | 256 | 0.012 |
+------------+---------+-------------------------------------+
| 512 | 256 | -0.020 |
+------------+---------+-------------------------------------+
| 1024 | 256 | -0.017 |
+------------+---------+-------------------------------------+
| 1518 | 256 | 0.024 |
+------------+---------+-------------------------------------+
Ubuntu 18.04
Kernel: 4.15.0-generic
Compiler: gcc 7.4
NIC: Mellanox ConnectX-4 Lx 25000 Mbps
Target: x86_64-native-linuxapp-gcc
Fail/Total: 0/6
Detail performance results:
+------------+---------+-------------------------------------+
| frame_size | txd/rxd | throughput difference from expected |
+============+=========+=====================================+
| 64 | 256 | 0.052 |
+------------+---------+-------------------------------------+
| 128 | 256 | -0.265 |
+------------+---------+-------------------------------------+
| 256 | 256 | 0.004 |
+------------+---------+-------------------------------------+
| 512 | 256 | 0.008 |
+------------+---------+-------------------------------------+
| 1024 | 256 | -0.015 |
+------------+---------+-------------------------------------+
| 1518 | 256 | -0.004 |
+------------+---------+-------------------------------------+
Ubuntu 18.04
Kernel: 4.15.0-generic
Compiler: gcc 7.4
NIC: Mellanox ConnectX-4 Lx 40000 Mbps
Target: x86_64-native-linuxapp-gcc
Fail/Total: 0/6
Detail performance results:
+------------+---------+-------------------------------------+
| frame_size | txd/rxd | throughput difference from expected |
+============+=========+=====================================+
| 64 | 256 | 0.282 |
+------------+---------+-------------------------------------+
| 128 | 256 | 0.277 |
+------------+---------+-------------------------------------+
| 256 | 256 | 0.018 |
+------------+---------+-------------------------------------+
| 512 | 256 | -0.007 |
+------------+---------+-------------------------------------+
| 1024 | 256 | 0.001 |
+------------+---------+-------------------------------------+
| 1518 | 256 | -0.005 |
+------------+---------+-------------------------------------+
To view detailed results, visit:
https://lab.dpdk.org/results/dashboard/patchsets/14090/
UNH-IOL DPDK Community Lab
To manage your email subscriptions, visit:
https://lab.dpdk.org/results/dashboard/preferences/subscriptions/
^ permalink raw reply [flat|nested] 5+ messages in thread
[parent not found: <1603870899-330286-1-git-send-email-jiaweiw@nvidia.com>]
* [dpdk-test-report] |SUCCESS| pw82533 [PATCH] net/mlx5: fix incorrect group value of sample suffix flow
@ 2020-10-28 10:34 dpdklab
0 siblings, 0 replies; 5+ messages in thread
From: dpdklab @ 2020-10-28 10:34 UTC (permalink / raw)
To: Test Report; +Cc: dpdk-test-reports
[-- Attachment #1: Type: text/plain, Size: 1925 bytes --]
Test-Label: iol-intel-Performance
Test-Status: SUCCESS
http://dpdk.org/patch/82533
_Performance Testing PASS_
Submitter: Jiawei Wang <jiaweiw@nvidia.com>
Date: Wednesday, October 28 2020 07:41:39
DPDK git baseline: Repo:dpdk-next-net-mlx
Branch: master
CommitID:8c287f8ed6d549428d9979316f7179bf0b4e0f90
82533 --> performance testing pass
Test environment and result as below:
Ubuntu 18.04
Kernel: 4.15.0-generic
Compiler: gcc 7.4
NIC: Intel Corporation Ethernet Converged Network Adapter XL710-QDA2 40000 Mbps
Target: x86_64-native-linuxapp-gcc
Fail/Total: 0/2
Detail performance results:
+------------+---------+-------------------------------------+
| frame_size | txd/rxd | throughput difference from expected |
+============+=========+=====================================+
| 64 | 512 | 2.739 |
+------------+---------+-------------------------------------+
| 64 | 2048 | 1.375 |
+------------+---------+-------------------------------------+
Ubuntu 18.04
Kernel: 4.15.0-generic
Compiler: gcc 7.4
NIC: Intel Corporation Ethernet Converged Network Adapter 82599ES 10000 Mbps
Target: x86_64-native-linuxapp-gcc
Fail/Total: 0/2
Detail performance results:
+------------+---------+-------------------------------------+
| frame_size | txd/rxd | throughput difference from expected |
+============+=========+=====================================+
| 64 | 512 | 1.820 |
+------------+---------+-------------------------------------+
| 64 | 2048 | 0.887 |
+------------+---------+-------------------------------------+
To view detailed results, visit:
https://lab.dpdk.org/results/dashboard/patchsets/14090/
UNH-IOL DPDK Community Lab
To manage your email subscriptions, visit:
https://lab.dpdk.org/results/dashboard/preferences/subscriptions/
^ permalink raw reply [flat|nested] 5+ messages in thread
* [dpdk-test-report] |SUCCESS| pw82533 [PATCH] net/mlx5: fix incorrect group value of sample suffix flow
@ 2020-10-28 8:35 dpdklab
0 siblings, 0 replies; 5+ messages in thread
From: dpdklab @ 2020-10-28 8:35 UTC (permalink / raw)
To: Test Report; +Cc: dpdk-test-reports
[-- Attachment #1: Type: text/plain, Size: 798 bytes --]
Test-Label: iol-intel-Functional
Test-Status: SUCCESS
http://dpdk.org/patch/82533
_Functional Testing PASS_
Submitter: Jiawei Wang <jiaweiw@nvidia.com>
Date: Wednesday, October 28 2020 07:41:39
DPDK git baseline: Repo:dpdk-next-net-mlx
Branch: master
CommitID:8c287f8ed6d549428d9979316f7179bf0b4e0f90
82533 --> functional testing pass
Test environment and result as below:
Ubuntu 18.04
Kernel: 4.15.0-generic
Compiler: gcc 7.4
NIC: Intel Corporation Ethernet Converged Network Adapter XL710-QDA2 40000 Mbps
Target: x86_64-native-linuxapp-gcc
Fail/Total: 0/3
To view detailed results, visit:
https://lab.dpdk.org/results/dashboard/patchsets/14090/
UNH-IOL DPDK Community Lab
To manage your email subscriptions, visit:
https://lab.dpdk.org/results/dashboard/preferences/subscriptions/
^ permalink raw reply [flat|nested] 5+ messages in thread
end of thread, other threads:[~2020-10-29 10:02 UTC | newest]
Thread overview: 5+ messages (download: mbox.gz / follow: Atom feed)
-- links below jump to the message on this page --
2020-10-28 8:47 [dpdk-test-report] |SUCCESS| pw82533 [PATCH] net/mlx5: fix incorrect group value of sample suffix flow dpdklab
-- strict thread matches above, loose matches on Subject: below --
2020-10-29 10:02 dpdklab
[not found] <1603870899-330286-1-git-send-email-jiaweiw@nvidia.com>
2020-10-28 12:26 ` checkpatch
2020-10-28 10:34 dpdklab
2020-10-28 8:35 dpdklab
This is a public inbox, see mirroring instructions
for how to clone and mirror all data and code used for this inbox;
as well as URLs for NNTP newsgroup(s).