* [dpdk-test-report] |SUCCESS| pw82973 [PATCH] [v2] examples/fips_validation: fix resource leak on failure
@ 2020-10-30 18:24 dpdklab
0 siblings, 0 replies; 7+ messages in thread
From: dpdklab @ 2020-10-30 18:24 UTC (permalink / raw)
To: Test Report; +Cc: dpdk-test-reports
[-- Attachment #1: Type: text/plain, Size: 969 bytes --]
Test-Label: iol-intel-Functional
Test-Status: SUCCESS
http://dpdk.org/patch/82973
_Functional Testing PASS_
Submitter: Ciara Power <ciara.power@intel.com>
Date: Friday, October 30 2020 17:36:40
DPDK git baseline: Repo:dpdk
Branch: master
CommitID:25a7908bde2d1e5ddd00aab223162436dfa7e561
82973 --> functional testing pass
Test environment and result as below:
Ubuntu 18.04
Kernel: 4.15.0-generic
Compiler: gcc 7.4
NIC: Intel Corporation Ethernet Converged Network Adapter XL710-QDA2 40000 Mbps
Target: x86_64-native-linuxapp-gcc
Fail/Total: 0/3
Ubuntu 18.04
Kernel: 4.15.0-generic
Compiler: gcc 7.4
NIC: Intel Corporation Ethernet Converged Network Adapter 82599ES 10000 Mbps
Target: x86_64-native-linuxapp-gcc
Fail/Total: 0/7
To view detailed results, visit:
https://lab.dpdk.org/results/dashboard/patchsets/14175/
UNH-IOL DPDK Community Lab
To manage your email subscriptions, visit:
https://lab.dpdk.org/results/dashboard/preferences/subscriptions/
^ permalink raw reply [flat|nested] 7+ messages in thread
* [dpdk-test-report] |SUCCESS| pw82973 [PATCH] [v2] examples/fips_validation: fix resource leak on failure
@ 2020-11-02 21:01 dpdklab
0 siblings, 0 replies; 7+ messages in thread
From: dpdklab @ 2020-11-02 21:01 UTC (permalink / raw)
To: Test Report; +Cc: dpdk-test-reports
[-- Attachment #1: Type: text/plain, Size: 1989 bytes --]
Test-Label: iol-testing
Test-Status: SUCCESS
http://dpdk.org/patch/82973
_Testing PASS_
Submitter: Ciara Power <ciara.power@intel.com>
Date: Friday, October 30 2020 17:36:40
DPDK git baseline: Repo:dpdk
Branch: master
CommitID:25a7908bde2d1e5ddd00aab223162436dfa7e561
82973 --> testing pass
Test environment and result as below:
+---------------------+--------------------+----------------+
| Environment | dpdk_meson_compile | dpdk_unit_test |
+=====================+====================+================+
| Windows Server 2019 | PASS | SKIPPED |
+---------------------+--------------------+----------------+
| FreeBSD 11.2 | PASS | SKIPPED |
+---------------------+--------------------+----------------+
| Fedora 31 | PASS | SKIPPED |
+---------------------+--------------------+----------------+
| CentOS 8 | PASS | SKIPPED |
+---------------------+--------------------+----------------+
| openSUSE Leap 15 | PASS | SKIPPED |
+---------------------+--------------------+----------------+
| Ubuntu 18.04 | PASS | PASS |
+---------------------+--------------------+----------------+
| Arch Linux | PASS | SKIPPED |
+---------------------+--------------------+----------------+
Windows Server 2019
Kernel: 10.0
Compiler: clang 9.0
FreeBSD 11.2
Kernel: 11.2
Compiler: gcc 8.3
Fedora 31
Kernel: 5.3.16
Compiler: gcc 9.2.1
CentOS 8
Kernel: 4.18.0.el8_0
Compiler: gcc 8.3.1
openSUSE Leap 15
Kernel: 4.12.14
Compiler: gcc 7.4.1
Ubuntu 18.04
Kernel: 4.15.0-generic
Compiler: gcc 7.4
Arch Linux
Kernel: latest
Compiler: gcc latest
To view detailed results, visit:
https://lab.dpdk.org/results/dashboard/patchsets/14175/
UNH-IOL DPDK Community Lab
To manage your email subscriptions, visit:
https://lab.dpdk.org/results/dashboard/preferences/subscriptions/
^ permalink raw reply [flat|nested] 7+ messages in thread
* [dpdk-test-report] |SUCCESS| pw82973 [PATCH] [v2] examples/fips_validation: fix resource leak on failure
@ 2020-10-31 14:42 dpdklab
0 siblings, 0 replies; 7+ messages in thread
From: dpdklab @ 2020-10-31 14:42 UTC (permalink / raw)
To: Ali Alnubani, Test Report; +Cc: dpdk-test-reports
[-- Attachment #1: Type: text/plain, Size: 3962 bytes --]
Test-Label: iol-mellanox-Performance
Test-Status: SUCCESS
http://dpdk.org/patch/82973
_Performance Testing PASS_
Submitter: Ciara Power <ciara.power@intel.com>
Date: Friday, October 30 2020 17:36:40
DPDK git baseline: Repo:dpdk
Branch: master
CommitID:25a7908bde2d1e5ddd00aab223162436dfa7e561
82973 --> performance testing pass
Test environment and result as below:
Ubuntu 18.04
Kernel: 4.15.0-generic
Compiler: gcc 7.4
NIC: Mellanox ConnectX-5 100000 Mbps
Target: x86_64-native-linuxapp-gcc
Fail/Total: 0/6
Detail performance results:
+------------+---------+-------------------------------------+
| frame_size | txd/rxd | throughput difference from expected |
+============+=========+=====================================+
| 64 | 256 | 0.139 |
+------------+---------+-------------------------------------+
| 128 | 256 | -0.071 |
+------------+---------+-------------------------------------+
| 256 | 256 | -0.024 |
+------------+---------+-------------------------------------+
| 512 | 256 | 0.188 |
+------------+---------+-------------------------------------+
| 1024 | 256 | -0.096 |
+------------+---------+-------------------------------------+
| 1518 | 256 | -0.032 |
+------------+---------+-------------------------------------+
Ubuntu 18.04
Kernel: 4.15.0-generic
Compiler: gcc 7.4
NIC: Mellanox ConnectX-4 Lx 25000 Mbps
Target: x86_64-native-linuxapp-gcc
Fail/Total: 0/6
Detail performance results:
+------------+---------+-------------------------------------+
| frame_size | txd/rxd | throughput difference from expected |
+============+=========+=====================================+
| 64 | 256 | -0.068 |
+------------+---------+-------------------------------------+
| 128 | 256 | -0.003 |
+------------+---------+-------------------------------------+
| 256 | 256 | 0.205 |
+------------+---------+-------------------------------------+
| 512 | 256 | 0.039 |
+------------+---------+-------------------------------------+
| 1024 | 256 | -0.022 |
+------------+---------+-------------------------------------+
| 1518 | 256 | -0.004 |
+------------+---------+-------------------------------------+
Ubuntu 18.04
Kernel: 4.15.0-generic
Compiler: gcc 7.4
NIC: Mellanox ConnectX-4 Lx 40000 Mbps
Target: x86_64-native-linuxapp-gcc
Fail/Total: 0/6
Detail performance results:
+------------+---------+-------------------------------------+
| frame_size | txd/rxd | throughput difference from expected |
+============+=========+=====================================+
| 64 | 256 | 0.365 |
+------------+---------+-------------------------------------+
| 128 | 256 | -0.114 |
+------------+---------+-------------------------------------+
| 256 | 256 | -0.093 |
+------------+---------+-------------------------------------+
| 512 | 256 | 0.002 |
+------------+---------+-------------------------------------+
| 1024 | 256 | 0.020 |
+------------+---------+-------------------------------------+
| 1518 | 256 | 0.002 |
+------------+---------+-------------------------------------+
To view detailed results, visit:
https://lab.dpdk.org/results/dashboard/patchsets/14175/
UNH-IOL DPDK Community Lab
To manage your email subscriptions, visit:
https://lab.dpdk.org/results/dashboard/preferences/subscriptions/
^ permalink raw reply [flat|nested] 7+ messages in thread
* [dpdk-test-report] |SUCCESS| pw82973 [PATCH] [v2] examples/fips_validation: fix resource leak on failure
@ 2020-10-30 18:32 dpdklab
0 siblings, 0 replies; 7+ messages in thread
From: dpdklab @ 2020-10-30 18:32 UTC (permalink / raw)
To: Test Report; +Cc: dpdk-test-reports
[-- Attachment #1: Type: text/plain, Size: 1912 bytes --]
Test-Label: iol-intel-Performance
Test-Status: SUCCESS
http://dpdk.org/patch/82973
_Performance Testing PASS_
Submitter: Ciara Power <ciara.power@intel.com>
Date: Friday, October 30 2020 17:36:40
DPDK git baseline: Repo:dpdk
Branch: master
CommitID:25a7908bde2d1e5ddd00aab223162436dfa7e561
82973 --> performance testing pass
Test environment and result as below:
Ubuntu 18.04
Kernel: 4.15.0-generic
Compiler: gcc 7.4
NIC: Intel Corporation Ethernet Converged Network Adapter XL710-QDA2 40000 Mbps
Target: x86_64-native-linuxapp-gcc
Fail/Total: 0/2
Detail performance results:
+------------+---------+-------------------------------------+
| frame_size | txd/rxd | throughput difference from expected |
+============+=========+=====================================+
| 64 | 512 | 2.963 |
+------------+---------+-------------------------------------+
| 64 | 2048 | 1.501 |
+------------+---------+-------------------------------------+
Ubuntu 18.04
Kernel: 4.15.0-generic
Compiler: gcc 7.4
NIC: Intel Corporation Ethernet Converged Network Adapter 82599ES 10000 Mbps
Target: x86_64-native-linuxapp-gcc
Fail/Total: 0/2
Detail performance results:
+------------+---------+-------------------------------------+
| frame_size | txd/rxd | throughput difference from expected |
+============+=========+=====================================+
| 64 | 512 | 1.818 |
+------------+---------+-------------------------------------+
| 64 | 2048 | 1.220 |
+------------+---------+-------------------------------------+
To view detailed results, visit:
https://lab.dpdk.org/results/dashboard/patchsets/14175/
UNH-IOL DPDK Community Lab
To manage your email subscriptions, visit:
https://lab.dpdk.org/results/dashboard/preferences/subscriptions/
^ permalink raw reply [flat|nested] 7+ messages in thread
* [dpdk-test-report] |SUCCESS| pw82973 [PATCH] [v2] examples/fips_validation: fix resource leak on failure
@ 2020-10-30 18:07 dpdklab
0 siblings, 0 replies; 7+ messages in thread
From: dpdklab @ 2020-10-30 18:07 UTC (permalink / raw)
To: Ajit Khaparde, Test Report; +Cc: dpdk-test-reports
[-- Attachment #1: Type: text/plain, Size: 790 bytes --]
Test-Label: iol-broadcom-Functional
Test-Status: SUCCESS
http://dpdk.org/patch/82973
_Functional Testing PASS_
Submitter: Ciara Power <ciara.power@intel.com>
Date: Friday, October 30 2020 17:36:40
DPDK git baseline: Repo:dpdk
Branch: master
CommitID:25a7908bde2d1e5ddd00aab223162436dfa7e561
82973 --> functional testing pass
Test environment and result as below:
Ubuntu 18.04
Kernel: 4.15.0-65-generic
Compiler: gcc gcc (Ubuntu 7.4.0-1ubuntu1~18.04.1) 7.4.0
NIC: Broadcom Inc. brcm_57414 25000 Mbps
Target: x86_64-native-linuxapp-gcc
Fail/Total: 0/3
To view detailed results, visit:
https://lab.dpdk.org/results/dashboard/patchsets/14175/
UNH-IOL DPDK Community Lab
To manage your email subscriptions, visit:
https://lab.dpdk.org/results/dashboard/preferences/subscriptions/
^ permalink raw reply [flat|nested] 7+ messages in thread
* [dpdk-test-report] |SUCCESS| pw82973 [PATCH] [v2] examples/fips_validation: fix resource leak on failure
@ 2020-10-30 17:58 dpdklab
0 siblings, 0 replies; 7+ messages in thread
From: dpdklab @ 2020-10-30 17:58 UTC (permalink / raw)
To: Ajit Khaparde, Test Report; +Cc: dpdk-test-reports
[-- Attachment #1: Type: text/plain, Size: 1263 bytes --]
Test-Label: iol-broadcom-Performance
Test-Status: SUCCESS
http://dpdk.org/patch/82973
_Performance Testing PASS_
Submitter: Ciara Power <ciara.power@intel.com>
Date: Friday, October 30 2020 17:36:40
DPDK git baseline: Repo:dpdk
Branch: master
CommitID:25a7908bde2d1e5ddd00aab223162436dfa7e561
82973 --> performance testing pass
Test environment and result as below:
Ubuntu 18.04
Kernel: 4.15.0-65-generic
Compiler: gcc gcc (Ubuntu 7.4.0-1ubuntu1~18.04.1) 7.4.0
NIC: Broadcom Inc. brcm_57414 25000 Mbps
Target: x86_64-native-linuxapp-gcc
Fail/Total: 0/2
Detail performance results:
+------------+---------+-------------------------------------+
| frame_size | txd/rxd | throughput difference from expected |
+============+=========+=====================================+
| 64 | 512 | -0.004 |
+------------+---------+-------------------------------------+
| 64 | 2048 | -0.044 |
+------------+---------+-------------------------------------+
To view detailed results, visit:
https://lab.dpdk.org/results/dashboard/patchsets/14175/
UNH-IOL DPDK Community Lab
To manage your email subscriptions, visit:
https://lab.dpdk.org/results/dashboard/preferences/subscriptions/
^ permalink raw reply [flat|nested] 7+ messages in thread
* [dpdk-test-report] |SUCCESS| pw82973 [PATCH v2] examples/fips_validation: fix resource leak on failure
[not found] <20201030173641.374525-1-ciara.power@intel.com>
@ 2020-10-30 17:37 ` checkpatch
0 siblings, 0 replies; 7+ messages in thread
From: checkpatch @ 2020-10-30 17:37 UTC (permalink / raw)
To: test-report
Test-Label: checkpatch
Test-Status: SUCCESS
http://dpdk.org/patch/82973
_coding style OK_
^ permalink raw reply [flat|nested] 7+ messages in thread
end of thread, other threads:[~2020-11-02 21:02 UTC | newest]
Thread overview: 7+ messages (download: mbox.gz / follow: Atom feed)
-- links below jump to the message on this page --
2020-10-30 18:24 [dpdk-test-report] |SUCCESS| pw82973 [PATCH] [v2] examples/fips_validation: fix resource leak on failure dpdklab
-- strict thread matches above, loose matches on Subject: below --
2020-11-02 21:01 dpdklab
2020-10-31 14:42 dpdklab
2020-10-30 18:32 dpdklab
2020-10-30 18:07 dpdklab
2020-10-30 17:58 dpdklab
[not found] <20201030173641.374525-1-ciara.power@intel.com>
2020-10-30 17:37 ` [dpdk-test-report] |SUCCESS| pw82973 [PATCH v2] " checkpatch
This is a public inbox, see mirroring instructions
for how to clone and mirror all data and code used for this inbox;
as well as URLs for NNTP newsgroup(s).