* [dpdk-test-report] |SUCCESS| pw82828-82831 [PATCH] [4/4] test/lpm: avoid code duplication in rcu qsbr perf
@ 2020-10-30 21:37 dpdklab
0 siblings, 0 replies; 12+ messages in thread
From: dpdklab @ 2020-10-30 21:37 UTC (permalink / raw)
To: Ali Alnubani, Test Report; +Cc: dpdk-test-reports
[-- Attachment #1: Type: text/plain, Size: 3976 bytes --]
Test-Label: iol-mellanox-Performance
Test-Status: SUCCESS
http://dpdk.org/patch/82831
_Performance Testing PASS_
Submitter: Dharmik Thakkar <dharmik.thakkar@arm.com>
Date: Thursday, October 29 2020 15:36:34
DPDK git baseline: Repo:dpdk
Branch: master
CommitID:eda44ced0ec14677de6944c76955621c6182b2df
82828-82831 --> performance testing pass
Test environment and result as below:
Ubuntu 18.04
Kernel: 4.15.0-generic
Compiler: gcc 7.4
NIC: Mellanox ConnectX-5 100000 Mbps
Target: x86_64-native-linuxapp-gcc
Fail/Total: 0/6
Detail performance results:
+------------+---------+-------------------------------------+
| frame_size | txd/rxd | throughput difference from expected |
+============+=========+=====================================+
| 64 | 256 | -0.025 |
+------------+---------+-------------------------------------+
| 128 | 256 | -0.113 |
+------------+---------+-------------------------------------+
| 256 | 256 | 0.020 |
+------------+---------+-------------------------------------+
| 512 | 256 | 0.143 |
+------------+---------+-------------------------------------+
| 1024 | 256 | 0.015 |
+------------+---------+-------------------------------------+
| 1518 | 256 | -0.015 |
+------------+---------+-------------------------------------+
Ubuntu 18.04
Kernel: 4.15.0-generic
Compiler: gcc 7.4
NIC: Mellanox ConnectX-4 Lx 25000 Mbps
Target: x86_64-native-linuxapp-gcc
Fail/Total: 0/6
Detail performance results:
+------------+---------+-------------------------------------+
| frame_size | txd/rxd | throughput difference from expected |
+============+=========+=====================================+
| 64 | 256 | -0.113 |
+------------+---------+-------------------------------------+
| 128 | 256 | -0.038 |
+------------+---------+-------------------------------------+
| 256 | 256 | 0.339 |
+------------+---------+-------------------------------------+
| 512 | 256 | 0.048 |
+------------+---------+-------------------------------------+
| 1024 | 256 | 0.010 |
+------------+---------+-------------------------------------+
| 1518 | 256 | 0 |
+------------+---------+-------------------------------------+
Ubuntu 18.04
Kernel: 4.15.0-generic
Compiler: gcc 7.4
NIC: Mellanox ConnectX-4 Lx 40000 Mbps
Target: x86_64-native-linuxapp-gcc
Fail/Total: 0/6
Detail performance results:
+------------+---------+-------------------------------------+
| frame_size | txd/rxd | throughput difference from expected |
+============+=========+=====================================+
| 64 | 256 | 0.095 |
+------------+---------+-------------------------------------+
| 128 | 256 | -0.201 |
+------------+---------+-------------------------------------+
| 256 | 256 | -0.285 |
+------------+---------+-------------------------------------+
| 512 | 256 | -0.041 |
+------------+---------+-------------------------------------+
| 1024 | 256 | -0.001 |
+------------+---------+-------------------------------------+
| 1518 | 256 | 0.004 |
+------------+---------+-------------------------------------+
To view detailed results, visit:
https://lab.dpdk.org/results/dashboard/patchsets/14143/
UNH-IOL DPDK Community Lab
To manage your email subscriptions, visit:
https://lab.dpdk.org/results/dashboard/preferences/subscriptions/
^ permalink raw reply [flat|nested] 12+ messages in thread
* [dpdk-test-report] |SUCCESS| pw82828-82831 [PATCH] [4/4] test/lpm: avoid code duplication in rcu qsbr perf
@ 2020-10-30 22:26 dpdklab
0 siblings, 0 replies; 12+ messages in thread
From: dpdklab @ 2020-10-30 22:26 UTC (permalink / raw)
To: Ali Alnubani, Test Report; +Cc: dpdk-test-reports
[-- Attachment #1: Type: text/plain, Size: 3976 bytes --]
Test-Label: iol-mellanox-Performance
Test-Status: SUCCESS
http://dpdk.org/patch/82831
_Performance Testing PASS_
Submitter: Dharmik Thakkar <dharmik.thakkar@arm.com>
Date: Thursday, October 29 2020 15:36:34
DPDK git baseline: Repo:dpdk
Branch: master
CommitID:eda44ced0ec14677de6944c76955621c6182b2df
82828-82831 --> performance testing pass
Test environment and result as below:
Ubuntu 18.04
Kernel: 4.15.0-generic
Compiler: gcc 7.4
NIC: Mellanox ConnectX-5 100000 Mbps
Target: x86_64-native-linuxapp-gcc
Fail/Total: 0/6
Detail performance results:
+------------+---------+-------------------------------------+
| frame_size | txd/rxd | throughput difference from expected |
+============+=========+=====================================+
| 64 | 256 | -0.102 |
+------------+---------+-------------------------------------+
| 128 | 256 | -0.027 |
+------------+---------+-------------------------------------+
| 256 | 256 | 0.101 |
+------------+---------+-------------------------------------+
| 512 | 256 | -0.067 |
+------------+---------+-------------------------------------+
| 1024 | 256 | 0.071 |
+------------+---------+-------------------------------------+
| 1518 | 256 | 0 |
+------------+---------+-------------------------------------+
Ubuntu 18.04
Kernel: 4.15.0-generic
Compiler: gcc 7.4
NIC: Mellanox ConnectX-4 Lx 25000 Mbps
Target: x86_64-native-linuxapp-gcc
Fail/Total: 0/6
Detail performance results:
+------------+---------+-------------------------------------+
| frame_size | txd/rxd | throughput difference from expected |
+============+=========+=====================================+
| 64 | 256 | -0.093 |
+------------+---------+-------------------------------------+
| 128 | 256 | -0.127 |
+------------+---------+-------------------------------------+
| 256 | 256 | -0.111 |
+------------+---------+-------------------------------------+
| 512 | 256 | -0.025 |
+------------+---------+-------------------------------------+
| 1024 | 256 | 0.011 |
+------------+---------+-------------------------------------+
| 1518 | 256 | 0.008 |
+------------+---------+-------------------------------------+
Ubuntu 18.04
Kernel: 4.15.0-generic
Compiler: gcc 7.4
NIC: Mellanox ConnectX-4 Lx 40000 Mbps
Target: x86_64-native-linuxapp-gcc
Fail/Total: 0/6
Detail performance results:
+------------+---------+-------------------------------------+
| frame_size | txd/rxd | throughput difference from expected |
+============+=========+=====================================+
| 64 | 256 | 0.255 |
+------------+---------+-------------------------------------+
| 128 | 256 | -0.074 |
+------------+---------+-------------------------------------+
| 256 | 256 | 0.108 |
+------------+---------+-------------------------------------+
| 512 | 256 | -0.055 |
+------------+---------+-------------------------------------+
| 1024 | 256 | -0.031 |
+------------+---------+-------------------------------------+
| 1518 | 256 | -0.002 |
+------------+---------+-------------------------------------+
To view detailed results, visit:
https://lab.dpdk.org/results/dashboard/patchsets/14143/
UNH-IOL DPDK Community Lab
To manage your email subscriptions, visit:
https://lab.dpdk.org/results/dashboard/preferences/subscriptions/
^ permalink raw reply [flat|nested] 12+ messages in thread
* [dpdk-test-report] |SUCCESS| pw82828-82831 [PATCH] [4/4] test/lpm: avoid code duplication in rcu qsbr perf
@ 2020-10-29 19:18 dpdklab
0 siblings, 0 replies; 12+ messages in thread
From: dpdklab @ 2020-10-29 19:18 UTC (permalink / raw)
To: Test Report; +Cc: dpdk-test-reports
[-- Attachment #1: Type: text/plain, Size: 1926 bytes --]
Test-Label: iol-intel-Performance
Test-Status: SUCCESS
http://dpdk.org/patch/82831
_Performance Testing PASS_
Submitter: Dharmik Thakkar <dharmik.thakkar@arm.com>
Date: Thursday, October 29 2020 15:36:34
DPDK git baseline: Repo:dpdk
Branch: master
CommitID:eda44ced0ec14677de6944c76955621c6182b2df
82828-82831 --> performance testing pass
Test environment and result as below:
Ubuntu 18.04
Kernel: 4.15.0-generic
Compiler: gcc 7.4
NIC: Intel Corporation Ethernet Converged Network Adapter XL710-QDA2 40000 Mbps
Target: x86_64-native-linuxapp-gcc
Fail/Total: 0/2
Detail performance results:
+------------+---------+-------------------------------------+
| frame_size | txd/rxd | throughput difference from expected |
+============+=========+=====================================+
| 64 | 512 | 2.841 |
+------------+---------+-------------------------------------+
| 64 | 2048 | 1.553 |
+------------+---------+-------------------------------------+
Ubuntu 18.04
Kernel: 4.15.0-generic
Compiler: gcc 7.4
NIC: Intel Corporation Ethernet Converged Network Adapter 82599ES 10000 Mbps
Target: x86_64-native-linuxapp-gcc
Fail/Total: 0/2
Detail performance results:
+------------+---------+-------------------------------------+
| frame_size | txd/rxd | throughput difference from expected |
+============+=========+=====================================+
| 64 | 512 | 46.195 |
+------------+---------+-------------------------------------+
| 64 | 2048 | 35.628 |
+------------+---------+-------------------------------------+
To view detailed results, visit:
https://lab.dpdk.org/results/dashboard/patchsets/14143/
UNH-IOL DPDK Community Lab
To manage your email subscriptions, visit:
https://lab.dpdk.org/results/dashboard/preferences/subscriptions/
^ permalink raw reply [flat|nested] 12+ messages in thread
* [dpdk-test-report] |SUCCESS| pw82828-82831 [PATCH] [4/4] test/lpm: avoid code duplication in rcu qsbr perf
@ 2020-10-29 17:52 dpdklab
0 siblings, 0 replies; 12+ messages in thread
From: dpdklab @ 2020-10-29 17:52 UTC (permalink / raw)
To: Test Report; +Cc: dpdk-test-reports
[-- Attachment #1: Type: text/plain, Size: 1567 bytes --]
Test-Label: iol-testing
Test-Status: SUCCESS
http://dpdk.org/patch/82831
_Testing PASS_
Submitter: Dharmik Thakkar <dharmik.thakkar@arm.com>
Date: Thursday, October 29 2020 15:36:34
DPDK git baseline: Repo:dpdk
Branch: master
CommitID:eda44ced0ec14677de6944c76955621c6182b2df
82828-82831 --> testing pass
Test environment and result as below:
+---------------------+--------------------+
| Environment | dpdk_meson_compile |
+=====================+====================+
| Windows Server 2019 | PASS |
+---------------------+--------------------+
| FreeBSD 11.2 | PASS |
+---------------------+--------------------+
| CentOS 8 | PASS |
+---------------------+--------------------+
| Fedora 31 | PASS |
+---------------------+--------------------+
| openSUSE Leap 15 | PASS |
+---------------------+--------------------+
| Arch Linux | PASS |
+---------------------+--------------------+
Windows Server 2019
Kernel: 10.0
Compiler: clang 9.0
FreeBSD 11.2
Kernel: 11.2
Compiler: gcc 8.3
CentOS 8
Kernel: 4.18.0.el8_0
Compiler: gcc 8.3.1
Fedora 31
Kernel: 5.3.16
Compiler: gcc 9.2.1
openSUSE Leap 15
Kernel: 4.12.14
Compiler: gcc 7.4.1
Arch Linux
Kernel: latest
Compiler: gcc latest
To view detailed results, visit:
https://lab.dpdk.org/results/dashboard/patchsets/14143/
UNH-IOL DPDK Community Lab
To manage your email subscriptions, visit:
https://lab.dpdk.org/results/dashboard/preferences/subscriptions/
^ permalink raw reply [flat|nested] 12+ messages in thread
* [dpdk-test-report] |SUCCESS| pw82828-82831 [PATCH] [4/4] test/lpm: avoid code duplication in rcu qsbr perf
@ 2020-10-29 17:08 dpdklab
0 siblings, 0 replies; 12+ messages in thread
From: dpdklab @ 2020-10-29 17:08 UTC (permalink / raw)
To: Test Report; +Cc: dpdk-test-reports
[-- Attachment #1: Type: text/plain, Size: 1714 bytes --]
Test-Label: iol-testing
Test-Status: SUCCESS
http://dpdk.org/patch/82831
_Testing PASS_
Submitter: Dharmik Thakkar <dharmik.thakkar@arm.com>
Date: Thursday, October 29 2020 15:36:34
DPDK git baseline: Repo:dpdk
Branch: master
CommitID:eda44ced0ec14677de6944c76955621c6182b2df
82828-82831 --> testing pass
Test environment and result as below:
+---------------------+--------------------+
| Environment | dpdk_meson_compile |
+=====================+====================+
| Windows Server 2019 | PASS |
+---------------------+--------------------+
| FreeBSD 11.2 | PASS |
+---------------------+--------------------+
| CentOS 8 | PASS |
+---------------------+--------------------+
| Fedora 31 | PASS |
+---------------------+--------------------+
| openSUSE Leap 15 | PASS |
+---------------------+--------------------+
| Arch Linux | PASS |
+---------------------+--------------------+
| Ubuntu 18.04 | PASS |
+---------------------+--------------------+
Windows Server 2019
Kernel: 10.0
Compiler: clang 9.0
FreeBSD 11.2
Kernel: 11.2
Compiler: gcc 8.3
CentOS 8
Kernel: 4.18.0.el8_0
Compiler: gcc 8.3.1
Fedora 31
Kernel: 5.3.16
Compiler: gcc 9.2.1
openSUSE Leap 15
Kernel: 4.12.14
Compiler: gcc 7.4.1
Arch Linux
Kernel: latest
Compiler: gcc latest
Ubuntu 18.04
Kernel: 4.15.0-generic
Compiler: gcc 7.4
To view detailed results, visit:
https://lab.dpdk.org/results/dashboard/patchsets/14143/
UNH-IOL DPDK Community Lab
To manage your email subscriptions, visit:
https://lab.dpdk.org/results/dashboard/preferences/subscriptions/
^ permalink raw reply [flat|nested] 12+ messages in thread
* [dpdk-test-report] |SUCCESS| pw82828-82831 [PATCH] [4/4] test/lpm: avoid code duplication in rcu qsbr perf
@ 2020-10-29 17:06 dpdklab
0 siblings, 0 replies; 12+ messages in thread
From: dpdklab @ 2020-10-29 17:06 UTC (permalink / raw)
To: Test Report; +Cc: dpdk-test-reports
[-- Attachment #1: Type: text/plain, Size: 799 bytes --]
Test-Label: iol-intel-Functional
Test-Status: SUCCESS
http://dpdk.org/patch/82831
_Functional Testing PASS_
Submitter: Dharmik Thakkar <dharmik.thakkar@arm.com>
Date: Thursday, October 29 2020 15:36:34
DPDK git baseline: Repo:dpdk
Branch: master
CommitID:eda44ced0ec14677de6944c76955621c6182b2df
82828-82831 --> functional testing pass
Test environment and result as below:
Ubuntu 18.04
Kernel: 4.15.0-generic
Compiler: gcc 7.4
NIC: Intel Corporation Ethernet Converged Network Adapter XL710-QDA2 40000 Mbps
Target: x86_64-native-linuxapp-gcc
Fail/Total: 0/3
To view detailed results, visit:
https://lab.dpdk.org/results/dashboard/patchsets/14143/
UNH-IOL DPDK Community Lab
To manage your email subscriptions, visit:
https://lab.dpdk.org/results/dashboard/preferences/subscriptions/
^ permalink raw reply [flat|nested] 12+ messages in thread
* [dpdk-test-report] |SUCCESS| pw82828-82831 [PATCH] [4/4] test/lpm: avoid code duplication in rcu qsbr perf
@ 2020-10-29 17:05 dpdklab
0 siblings, 0 replies; 12+ messages in thread
From: dpdklab @ 2020-10-29 17:05 UTC (permalink / raw)
To: Test Report; +Cc: dpdk-test-reports
[-- Attachment #1: Type: text/plain, Size: 1926 bytes --]
Test-Label: iol-intel-Performance
Test-Status: SUCCESS
http://dpdk.org/patch/82831
_Performance Testing PASS_
Submitter: Dharmik Thakkar <dharmik.thakkar@arm.com>
Date: Thursday, October 29 2020 15:36:34
DPDK git baseline: Repo:dpdk
Branch: master
CommitID:eda44ced0ec14677de6944c76955621c6182b2df
82828-82831 --> performance testing pass
Test environment and result as below:
Ubuntu 18.04
Kernel: 4.15.0-generic
Compiler: gcc 7.4
NIC: Intel Corporation Ethernet Converged Network Adapter XL710-QDA2 40000 Mbps
Target: x86_64-native-linuxapp-gcc
Fail/Total: 0/2
Detail performance results:
+------------+---------+-------------------------------------+
| frame_size | txd/rxd | throughput difference from expected |
+============+=========+=====================================+
| 64 | 512 | 2.735 |
+------------+---------+-------------------------------------+
| 64 | 2048 | 1.699 |
+------------+---------+-------------------------------------+
Ubuntu 18.04
Kernel: 4.15.0-generic
Compiler: gcc 7.4
NIC: Intel Corporation Ethernet Converged Network Adapter 82599ES 10000 Mbps
Target: x86_64-native-linuxapp-gcc
Fail/Total: 0/2
Detail performance results:
+------------+---------+-------------------------------------+
| frame_size | txd/rxd | throughput difference from expected |
+============+=========+=====================================+
| 64 | 512 | 1.987 |
+------------+---------+-------------------------------------+
| 64 | 2048 | 1.016 |
+------------+---------+-------------------------------------+
To view detailed results, visit:
https://lab.dpdk.org/results/dashboard/patchsets/14143/
UNH-IOL DPDK Community Lab
To manage your email subscriptions, visit:
https://lab.dpdk.org/results/dashboard/preferences/subscriptions/
^ permalink raw reply [flat|nested] 12+ messages in thread
* [dpdk-test-report] |SUCCESS| pw82828-82831 [PATCH] [4/4] test/lpm: avoid code duplication in rcu qsbr perf
@ 2020-10-29 17:03 dpdklab
0 siblings, 0 replies; 12+ messages in thread
From: dpdklab @ 2020-10-29 17:03 UTC (permalink / raw)
To: Ajit Khaparde, Test Report; +Cc: dpdk-test-reports
[-- Attachment #1: Type: text/plain, Size: 804 bytes --]
Test-Label: iol-broadcom-Functional
Test-Status: SUCCESS
http://dpdk.org/patch/82831
_Functional Testing PASS_
Submitter: Dharmik Thakkar <dharmik.thakkar@arm.com>
Date: Thursday, October 29 2020 15:36:34
DPDK git baseline: Repo:dpdk
Branch: master
CommitID:eda44ced0ec14677de6944c76955621c6182b2df
82828-82831 --> functional testing pass
Test environment and result as below:
Ubuntu 18.04
Kernel: 4.15.0-65-generic
Compiler: gcc gcc (Ubuntu 7.4.0-1ubuntu1~18.04.1) 7.4.0
NIC: Broadcom Inc. brcm_57414 25000 Mbps
Target: x86_64-native-linuxapp-gcc
Fail/Total: 0/3
To view detailed results, visit:
https://lab.dpdk.org/results/dashboard/patchsets/14143/
UNH-IOL DPDK Community Lab
To manage your email subscriptions, visit:
https://lab.dpdk.org/results/dashboard/preferences/subscriptions/
^ permalink raw reply [flat|nested] 12+ messages in thread
* [dpdk-test-report] |SUCCESS| pw82828-82831 [PATCH] [4/4] test/lpm: avoid code duplication in rcu qsbr perf
@ 2020-10-29 16:54 dpdklab
0 siblings, 0 replies; 12+ messages in thread
From: dpdklab @ 2020-10-29 16:54 UTC (permalink / raw)
To: Ajit Khaparde, Test Report; +Cc: dpdk-test-reports
[-- Attachment #1: Type: text/plain, Size: 1277 bytes --]
Test-Label: iol-broadcom-Performance
Test-Status: SUCCESS
http://dpdk.org/patch/82831
_Performance Testing PASS_
Submitter: Dharmik Thakkar <dharmik.thakkar@arm.com>
Date: Thursday, October 29 2020 15:36:34
DPDK git baseline: Repo:dpdk
Branch: master
CommitID:eda44ced0ec14677de6944c76955621c6182b2df
82828-82831 --> performance testing pass
Test environment and result as below:
Ubuntu 18.04
Kernel: 4.15.0-65-generic
Compiler: gcc gcc (Ubuntu 7.4.0-1ubuntu1~18.04.1) 7.4.0
NIC: Broadcom Inc. brcm_57414 25000 Mbps
Target: x86_64-native-linuxapp-gcc
Fail/Total: 0/2
Detail performance results:
+------------+---------+-------------------------------------+
| frame_size | txd/rxd | throughput difference from expected |
+============+=========+=====================================+
| 64 | 512 | -0.087 |
+------------+---------+-------------------------------------+
| 64 | 2048 | -0.021 |
+------------+---------+-------------------------------------+
To view detailed results, visit:
https://lab.dpdk.org/results/dashboard/patchsets/14143/
UNH-IOL DPDK Community Lab
To manage your email subscriptions, visit:
https://lab.dpdk.org/results/dashboard/preferences/subscriptions/
^ permalink raw reply [flat|nested] 12+ messages in thread
* [dpdk-test-report] |SUCCESS| pw82828-82831 [PATCH] [4/4] test/lpm: avoid code duplication in rcu qsbr perf
@ 2020-10-29 16:47 dpdklab
0 siblings, 0 replies; 12+ messages in thread
From: dpdklab @ 2020-10-29 16:47 UTC (permalink / raw)
To: Ajit Khaparde, Test Report; +Cc: dpdk-test-reports
[-- Attachment #1: Type: text/plain, Size: 804 bytes --]
Test-Label: iol-broadcom-Functional
Test-Status: SUCCESS
http://dpdk.org/patch/82831
_Functional Testing PASS_
Submitter: Dharmik Thakkar <dharmik.thakkar@arm.com>
Date: Thursday, October 29 2020 15:36:34
DPDK git baseline: Repo:dpdk
Branch: master
CommitID:eda44ced0ec14677de6944c76955621c6182b2df
82828-82831 --> functional testing pass
Test environment and result as below:
Ubuntu 18.04
Kernel: 4.15.0-65-generic
Compiler: gcc gcc (Ubuntu 7.4.0-1ubuntu1~18.04.1) 7.4.0
NIC: Broadcom Inc. brcm_57414 25000 Mbps
Target: x86_64-native-linuxapp-gcc
Fail/Total: 0/3
To view detailed results, visit:
https://lab.dpdk.org/results/dashboard/patchsets/14143/
UNH-IOL DPDK Community Lab
To manage your email subscriptions, visit:
https://lab.dpdk.org/results/dashboard/preferences/subscriptions/
^ permalink raw reply [flat|nested] 12+ messages in thread
* [dpdk-test-report] |SUCCESS| pw82828-82831 [PATCH] [4/4] test/lpm: avoid code duplication in rcu qsbr perf
@ 2020-10-29 16:42 dpdklab
0 siblings, 0 replies; 12+ messages in thread
From: dpdklab @ 2020-10-29 16:42 UTC (permalink / raw)
To: Test Report; +Cc: dpdk-test-reports
[-- Attachment #1: Type: text/plain, Size: 799 bytes --]
Test-Label: iol-intel-Functional
Test-Status: SUCCESS
http://dpdk.org/patch/82831
_Functional Testing PASS_
Submitter: Dharmik Thakkar <dharmik.thakkar@arm.com>
Date: Thursday, October 29 2020 15:36:34
DPDK git baseline: Repo:dpdk
Branch: master
CommitID:eda44ced0ec14677de6944c76955621c6182b2df
82828-82831 --> functional testing pass
Test environment and result as below:
Ubuntu 18.04
Kernel: 4.15.0-generic
Compiler: gcc 7.4
NIC: Intel Corporation Ethernet Converged Network Adapter XL710-QDA2 40000 Mbps
Target: x86_64-native-linuxapp-gcc
Fail/Total: 0/3
To view detailed results, visit:
https://lab.dpdk.org/results/dashboard/patchsets/14143/
UNH-IOL DPDK Community Lab
To manage your email subscriptions, visit:
https://lab.dpdk.org/results/dashboard/preferences/subscriptions/
^ permalink raw reply [flat|nested] 12+ messages in thread
* [dpdk-test-report] |SUCCESS| pw82828-82831 [PATCH] [4/4] test/lpm: avoid code duplication in rcu qsbr perf
@ 2020-10-29 16:36 dpdklab
0 siblings, 0 replies; 12+ messages in thread
From: dpdklab @ 2020-10-29 16:36 UTC (permalink / raw)
To: Ajit Khaparde, Test Report; +Cc: dpdk-test-reports
[-- Attachment #1: Type: text/plain, Size: 1277 bytes --]
Test-Label: iol-broadcom-Performance
Test-Status: SUCCESS
http://dpdk.org/patch/82831
_Performance Testing PASS_
Submitter: Dharmik Thakkar <dharmik.thakkar@arm.com>
Date: Thursday, October 29 2020 15:36:34
DPDK git baseline: Repo:dpdk
Branch: master
CommitID:eda44ced0ec14677de6944c76955621c6182b2df
82828-82831 --> performance testing pass
Test environment and result as below:
Ubuntu 18.04
Kernel: 4.15.0-65-generic
Compiler: gcc gcc (Ubuntu 7.4.0-1ubuntu1~18.04.1) 7.4.0
NIC: Broadcom Inc. brcm_57414 25000 Mbps
Target: x86_64-native-linuxapp-gcc
Fail/Total: 0/2
Detail performance results:
+------------+---------+-------------------------------------+
| frame_size | txd/rxd | throughput difference from expected |
+============+=========+=====================================+
| 64 | 512 | 0 |
+------------+---------+-------------------------------------+
| 64 | 2048 | 0.008 |
+------------+---------+-------------------------------------+
To view detailed results, visit:
https://lab.dpdk.org/results/dashboard/patchsets/14143/
UNH-IOL DPDK Community Lab
To manage your email subscriptions, visit:
https://lab.dpdk.org/results/dashboard/preferences/subscriptions/
^ permalink raw reply [flat|nested] 12+ messages in thread
end of thread, other threads:[~2020-10-30 22:27 UTC | newest]
Thread overview: 12+ messages (download: mbox.gz / follow: Atom feed)
-- links below jump to the message on this page --
2020-10-30 21:37 [dpdk-test-report] |SUCCESS| pw82828-82831 [PATCH] [4/4] test/lpm: avoid code duplication in rcu qsbr perf dpdklab
-- strict thread matches above, loose matches on Subject: below --
2020-10-30 22:26 dpdklab
2020-10-29 19:18 dpdklab
2020-10-29 17:52 dpdklab
2020-10-29 17:08 dpdklab
2020-10-29 17:06 dpdklab
2020-10-29 17:05 dpdklab
2020-10-29 17:03 dpdklab
2020-10-29 16:54 dpdklab
2020-10-29 16:47 dpdklab
2020-10-29 16:42 dpdklab
2020-10-29 16:36 dpdklab
This is a public inbox, see mirroring instructions
for how to clone and mirror all data and code used for this inbox;
as well as URLs for NNTP newsgroup(s).