* [dpdk-test-report] |SUCCESS| [GIT MASTER] 8a8e0ebab8386d08bbd196b5e49364a0afe0eeb0
@ 2020-11-03 20:10 dpdklab
0 siblings, 0 replies; 3+ messages in thread
From: dpdklab @ 2020-11-03 20:10 UTC (permalink / raw)
To: Test Report; +Cc: dpdk-test-reports
[-- Attachment #1: Type: text/plain, Size: 1786 bytes --]
_Testing PASS_
Branch: dpdk-next-net
8a8e0ebab8386d08bbd196b5e49364a0afe0eeb0 --> testing pass
Test environment and result as below:
+---------------------+--------------------+----------------+
| Environment | dpdk_meson_compile | dpdk_unit_test |
+=====================+====================+================+
| Windows Server 2019 | PASS | SKIPPED |
+---------------------+--------------------+----------------+
| FreeBSD 11.2 | PASS | SKIPPED |
+---------------------+--------------------+----------------+
| Fedora 31 | PASS | SKIPPED |
+---------------------+--------------------+----------------+
| Ubuntu 18.04 | PASS | PASS |
+---------------------+--------------------+----------------+
| CentOS 8 | PASS | SKIPPED |
+---------------------+--------------------+----------------+
| openSUSE Leap 15 | PASS | SKIPPED |
+---------------------+--------------------+----------------+
| Arch Linux | PASS | SKIPPED |
+---------------------+--------------------+----------------+
Windows Server 2019
Kernel: 10.0
Compiler: clang 9.0
FreeBSD 11.2
Kernel: 11.2
Compiler: gcc 8.3
Fedora 31
Kernel: 5.3.16
Compiler: gcc 9.2.1
Ubuntu 18.04
Kernel: 4.15.0-generic
Compiler: gcc 7.5
CentOS 8
Kernel: 4.18.0.el8_0
Compiler: gcc 8.3.1
openSUSE Leap 15
Kernel: 4.12.14
Compiler: gcc 7.4.1
Arch Linux
Kernel: latest
Compiler: gcc latest
To view detailed results, visit:
https://lab.dpdk.org/results/dashboard/tarballs/12418/
UNH-IOL DPDK Community Lab
To manage your email subscriptions, visit:
https://lab.dpdk.org/results/dashboard/preferences/subscriptions/
^ permalink raw reply [flat|nested] 3+ messages in thread
* [dpdk-test-report] |SUCCESS| [GIT MASTER] 8a8e0ebab8386d08bbd196b5e49364a0afe0eeb0
@ 2020-11-03 20:35 dpdklab
0 siblings, 0 replies; 3+ messages in thread
From: dpdklab @ 2020-11-03 20:35 UTC (permalink / raw)
To: Ali Alnubani, Test Report; +Cc: dpdk-test-reports
[-- Attachment #1: Type: text/plain, Size: 3746 bytes --]
_Performance Testing PASS_
Branch: dpdk-next-net
8a8e0ebab8386d08bbd196b5e49364a0afe0eeb0 --> performance testing pass
Test environment and result as below:
Ubuntu 18.04
Kernel: 4.15.0-generic
Compiler: gcc 7.4
NIC: Mellanox ConnectX-5 100000 Mbps
Target: x86_64-native-linuxapp-gcc
Fail/Total: 0/6
Detail performance results:
+------------+---------+-------------------------------------+
| frame_size | txd/rxd | throughput difference from expected |
+============+=========+=====================================+
| 64 | 256 | 0.206 |
+------------+---------+-------------------------------------+
| 128 | 256 | -0.091 |
+------------+---------+-------------------------------------+
| 256 | 256 | -0.127 |
+------------+---------+-------------------------------------+
| 512 | 256 | -0.184 |
+------------+---------+-------------------------------------+
| 1024 | 256 | -0.215 |
+------------+---------+-------------------------------------+
| 1518 | 256 | 0.025 |
+------------+---------+-------------------------------------+
Ubuntu 18.04
Kernel: 4.15.0-generic
Compiler: gcc 7.4
NIC: Mellanox ConnectX-4 Lx 25000 Mbps
Target: x86_64-native-linuxapp-gcc
Fail/Total: 0/6
Detail performance results:
+------------+---------+-------------------------------------+
| frame_size | txd/rxd | throughput difference from expected |
+============+=========+=====================================+
| 64 | 256 | -0.389 |
+------------+---------+-------------------------------------+
| 128 | 256 | 0.119 |
+------------+---------+-------------------------------------+
| 256 | 256 | -0.170 |
+------------+---------+-------------------------------------+
| 512 | 256 | 0.013 |
+------------+---------+-------------------------------------+
| 1024 | 256 | -0.024 |
+------------+---------+-------------------------------------+
| 1518 | 256 | 0.010 |
+------------+---------+-------------------------------------+
Ubuntu 18.04
Kernel: 4.15.0-generic
Compiler: gcc 7.4
NIC: Mellanox ConnectX-4 Lx 40000 Mbps
Target: x86_64-native-linuxapp-gcc
Fail/Total: 0/6
Detail performance results:
+------------+---------+-------------------------------------+
| frame_size | txd/rxd | throughput difference from expected |
+============+=========+=====================================+
| 64 | 256 | -0.265 |
+------------+---------+-------------------------------------+
| 128 | 256 | -0.331 |
+------------+---------+-------------------------------------+
| 256 | 256 | 0.215 |
+------------+---------+-------------------------------------+
| 512 | 256 | -0.027 |
+------------+---------+-------------------------------------+
| 1024 | 256 | -0.003 |
+------------+---------+-------------------------------------+
| 1518 | 256 | -0.012 |
+------------+---------+-------------------------------------+
To view detailed results, visit:
https://lab.dpdk.org/results/dashboard/tarballs/12418/
UNH-IOL DPDK Community Lab
To manage your email subscriptions, visit:
https://lab.dpdk.org/results/dashboard/preferences/subscriptions/
^ permalink raw reply [flat|nested] 3+ messages in thread
* [dpdk-test-report] |SUCCESS| [GIT MASTER] 8a8e0ebab8386d08bbd196b5e49364a0afe0eeb0
@ 2020-11-03 19:52 dpdklab
0 siblings, 0 replies; 3+ messages in thread
From: dpdklab @ 2020-11-03 19:52 UTC (permalink / raw)
To: Test Report; +Cc: dpdk-test-reports
[-- Attachment #1: Type: text/plain, Size: 1699 bytes --]
_Performance Testing PASS_
Branch: dpdk-next-net
8a8e0ebab8386d08bbd196b5e49364a0afe0eeb0 --> performance testing pass
Test environment and result as below:
Ubuntu 18.04
Kernel: 4.15.0-generic
Compiler: gcc 7.4
NIC: Intel Corporation Ethernet Converged Network Adapter XL710-QDA2 40000 Mbps
Target: x86_64-native-linuxapp-gcc
Fail/Total: 0/2
Detail performance results:
+------------+---------+-------------------------------------+
| frame_size | txd/rxd | throughput difference from expected |
+============+=========+=====================================+
| 64 | 512 | 2.695 |
+------------+---------+-------------------------------------+
| 64 | 2048 | 1.625 |
+------------+---------+-------------------------------------+
Ubuntu 18.04
Kernel: 4.15.0-generic
Compiler: gcc 7.4
NIC: Intel Corporation Ethernet Converged Network Adapter 82599ES 10000 Mbps
Target: x86_64-native-linuxapp-gcc
Fail/Total: 0/2
Detail performance results:
+------------+---------+-------------------------------------+
| frame_size | txd/rxd | throughput difference from expected |
+============+=========+=====================================+
| 64 | 512 | 1.782 |
+------------+---------+-------------------------------------+
| 64 | 2048 | 1.164 |
+------------+---------+-------------------------------------+
To view detailed results, visit:
https://lab.dpdk.org/results/dashboard/tarballs/12418/
UNH-IOL DPDK Community Lab
To manage your email subscriptions, visit:
https://lab.dpdk.org/results/dashboard/preferences/subscriptions/
^ permalink raw reply [flat|nested] 3+ messages in thread
end of thread, other threads:[~2020-11-03 20:35 UTC | newest]
Thread overview: 3+ messages (download: mbox.gz / follow: Atom feed)
-- links below jump to the message on this page --
2020-11-03 20:10 [dpdk-test-report] |SUCCESS| [GIT MASTER] 8a8e0ebab8386d08bbd196b5e49364a0afe0eeb0 dpdklab
-- strict thread matches above, loose matches on Subject: below --
2020-11-03 20:35 dpdklab
2020-11-03 19:52 dpdklab
This is a public inbox, see mirroring instructions
for how to clone and mirror all data and code used for this inbox;
as well as URLs for NNTP newsgroup(s).