* [dpdk-test-report] |SUCCESS| pw83706 [PATCH] [v2] gro: fix an error when packet is IPv6
@ 2020-11-06 6:12 dpdklab
0 siblings, 0 replies; 4+ messages in thread
From: dpdklab @ 2020-11-06 6:12 UTC (permalink / raw)
To: Test Report; +Cc: dpdk-test-reports
[-- Attachment #1: Type: text/plain, Size: 1255 bytes --]
Test-Label: iol-intel-Performance
Test-Status: SUCCESS
http://dpdk.org/patch/83706
_Performance Testing PASS_
Submitter: yang_y_yi <yang_y_yi@163.com>
Date: Thursday, November 05 2020 02:54:44
DPDK git baseline: Repo:dpdk
Branch: master
CommitID:d47e1d6426f3857f4945549c108cedef9317b194
83706 --> performance testing pass
Test environment and result as below:
Ubuntu 18.04
Kernel: 4.15.0-generic
Compiler: gcc 7.4
NIC: Intel Corporation Ethernet Converged Network Adapter XL710-QDA2 40000 Mbps
Target: x86_64-native-linuxapp-gcc
Fail/Total: 0/2
Detail performance results:
+------------+---------+-------------------------------------+
| frame_size | txd/rxd | throughput difference from expected |
+============+=========+=====================================+
| 64 | 512 | 2.674 |
+------------+---------+-------------------------------------+
| 64 | 2048 | 1.763 |
+------------+---------+-------------------------------------+
To view detailed results, visit:
https://lab.dpdk.org/results/dashboard/patchsets/14313/
UNH-IOL DPDK Community Lab
To manage your email subscriptions, visit:
https://lab.dpdk.org/results/dashboard/preferences/subscriptions/
^ permalink raw reply [flat|nested] 4+ messages in thread
* [dpdk-test-report] |SUCCESS| pw83706 [PATCH] [v2] gro: fix an error when packet is IPv6
@ 2020-11-06 23:52 dpdklab
0 siblings, 0 replies; 4+ messages in thread
From: dpdklab @ 2020-11-06 23:52 UTC (permalink / raw)
To: Ali Alnubani, Test Report; +Cc: dpdk-test-reports
[-- Attachment #1: Type: text/plain, Size: 3959 bytes --]
Test-Label: iol-mellanox-Performance
Test-Status: SUCCESS
http://dpdk.org/patch/83706
_Performance Testing PASS_
Submitter: yang_y_yi <yang_y_yi@163.com>
Date: Thursday, November 05 2020 02:54:44
DPDK git baseline: Repo:dpdk
Branch: master
CommitID:d47e1d6426f3857f4945549c108cedef9317b194
83706 --> performance testing pass
Test environment and result as below:
Ubuntu 18.04
Kernel: 4.15.0-generic
Compiler: gcc 7.4
NIC: Mellanox ConnectX-5 100000 Mbps
Target: x86_64-native-linuxapp-gcc
Fail/Total: 0/6
Detail performance results:
+------------+---------+-------------------------------------+
| frame_size | txd/rxd | throughput difference from expected |
+============+=========+=====================================+
| 64 | 256 | -0.037 |
+------------+---------+-------------------------------------+
| 128 | 256 | 0.069 |
+------------+---------+-------------------------------------+
| 256 | 256 | -0.093 |
+------------+---------+-------------------------------------+
| 512 | 256 | 0.063 |
+------------+---------+-------------------------------------+
| 1024 | 256 | -0.202 |
+------------+---------+-------------------------------------+
| 1518 | 256 | 0.008 |
+------------+---------+-------------------------------------+
Ubuntu 18.04
Kernel: 4.15.0-generic
Compiler: gcc 7.4
NIC: Mellanox ConnectX-4 Lx 25000 Mbps
Target: x86_64-native-linuxapp-gcc
Fail/Total: 0/6
Detail performance results:
+------------+---------+-------------------------------------+
| frame_size | txd/rxd | throughput difference from expected |
+============+=========+=====================================+
| 64 | 256 | -0.182 |
+------------+---------+-------------------------------------+
| 128 | 256 | 0.033 |
+------------+---------+-------------------------------------+
| 256 | 256 | 0.045 |
+------------+---------+-------------------------------------+
| 512 | 256 | 0.013 |
+------------+---------+-------------------------------------+
| 1024 | 256 | 0.006 |
+------------+---------+-------------------------------------+
| 1518 | 256 | -0.007 |
+------------+---------+-------------------------------------+
Ubuntu 18.04
Kernel: 4.15.0-generic
Compiler: gcc 7.4
NIC: Mellanox ConnectX-4 Lx 40000 Mbps
Target: x86_64-native-linuxapp-gcc
Fail/Total: 0/6
Detail performance results:
+------------+---------+-------------------------------------+
| frame_size | txd/rxd | throughput difference from expected |
+============+=========+=====================================+
| 64 | 256 | -0.049 |
+------------+---------+-------------------------------------+
| 128 | 256 | -0.233 |
+------------+---------+-------------------------------------+
| 256 | 256 | -0.325 |
+------------+---------+-------------------------------------+
| 512 | 256 | 0.041 |
+------------+---------+-------------------------------------+
| 1024 | 256 | -0.031 |
+------------+---------+-------------------------------------+
| 1518 | 256 | -0.011 |
+------------+---------+-------------------------------------+
To view detailed results, visit:
https://lab.dpdk.org/results/dashboard/patchsets/14313/
UNH-IOL DPDK Community Lab
To manage your email subscriptions, visit:
https://lab.dpdk.org/results/dashboard/preferences/subscriptions/
^ permalink raw reply [flat|nested] 4+ messages in thread
* [dpdk-test-report] |SUCCESS| pw83706 [PATCH] [v2] gro: fix an error when packet is IPv6
@ 2020-11-06 3:16 dpdklab
0 siblings, 0 replies; 4+ messages in thread
From: dpdklab @ 2020-11-06 3:16 UTC (permalink / raw)
To: Test Report; +Cc: dpdk-test-reports
[-- Attachment #1: Type: text/plain, Size: 1986 bytes --]
Test-Label: iol-testing
Test-Status: SUCCESS
http://dpdk.org/patch/83706
_Testing PASS_
Submitter: yang_y_yi <yang_y_yi@163.com>
Date: Thursday, November 05 2020 02:54:44
DPDK git baseline: Repo:dpdk
Branch: master
CommitID:d47e1d6426f3857f4945549c108cedef9317b194
83706 --> testing pass
Test environment and result as below:
+---------------------+--------------------+----------------+
| Environment | dpdk_meson_compile | dpdk_unit_test |
+=====================+====================+================+
| Windows Server 2019 | PASS | SKIPPED |
+---------------------+--------------------+----------------+
| FreeBSD 11.2 | PASS | SKIPPED |
+---------------------+--------------------+----------------+
| CentOS 8 | PASS | SKIPPED |
+---------------------+--------------------+----------------+
| Fedora 31 | PASS | SKIPPED |
+---------------------+--------------------+----------------+
| openSUSE Leap 15 | PASS | SKIPPED |
+---------------------+--------------------+----------------+
| Arch Linux | PASS | SKIPPED |
+---------------------+--------------------+----------------+
| Ubuntu 18.04 | PASS | PASS |
+---------------------+--------------------+----------------+
Windows Server 2019
Kernel: 10.0
Compiler: clang 9.0
FreeBSD 11.2
Kernel: 11.2
Compiler: gcc 8.3
CentOS 8
Kernel: 4.18.0.el8_0
Compiler: gcc 8.3.1
Fedora 31
Kernel: 5.3.16
Compiler: gcc 9.2.1
openSUSE Leap 15
Kernel: 4.12.14
Compiler: gcc 7.4.1
Arch Linux
Kernel: latest
Compiler: gcc latest
Ubuntu 18.04
Kernel: 4.15.0-generic
Compiler: gcc 7.5
To view detailed results, visit:
https://lab.dpdk.org/results/dashboard/patchsets/14313/
UNH-IOL DPDK Community Lab
To manage your email subscriptions, visit:
https://lab.dpdk.org/results/dashboard/preferences/subscriptions/
^ permalink raw reply [flat|nested] 4+ messages in thread
* [dpdk-test-report] |SUCCESS| pw83706 [PATCH v2] gro: fix an error when packet is IPv6
[not found] <20201105025444.140140-1-yang_y_yi@163.com>
@ 2020-11-05 2:56 ` checkpatch
0 siblings, 0 replies; 4+ messages in thread
From: checkpatch @ 2020-11-05 2:56 UTC (permalink / raw)
To: test-report
Test-Label: checkpatch
Test-Status: SUCCESS
http://dpdk.org/patch/83706
_coding style OK_
^ permalink raw reply [flat|nested] 4+ messages in thread
end of thread, other threads:[~2020-11-06 23:52 UTC | newest]
Thread overview: 4+ messages (download: mbox.gz / follow: Atom feed)
-- links below jump to the message on this page --
2020-11-06 6:12 [dpdk-test-report] |SUCCESS| pw83706 [PATCH] [v2] gro: fix an error when packet is IPv6 dpdklab
-- strict thread matches above, loose matches on Subject: below --
2020-11-06 23:52 dpdklab
2020-11-06 3:16 dpdklab
[not found] <20201105025444.140140-1-yang_y_yi@163.com>
2020-11-05 2:56 ` [dpdk-test-report] |SUCCESS| pw83706 [PATCH v2] " checkpatch
This is a public inbox, see mirroring instructions
for how to clone and mirror all data and code used for this inbox;
as well as URLs for NNTP newsgroup(s).