* [dpdk-test-report] |SUCCESS| pw83822 [PATCH] Made i40 header CPP compatible using extern "C". Library headers work directly in cpp code. Linking errors thrown due to the absence of this change in i40e pmd header does not help in resolving the problem. I needed this header directly to use DDP feature
@ 2020-11-08 1:05 dpdklab
0 siblings, 0 replies; 6+ messages in thread
From: dpdklab @ 2020-11-08 1:05 UTC (permalink / raw)
To: Ali Alnubani, Test Report; +Cc: dpdk-test-reports
[-- Attachment #1: Type: text/plain, Size: 3966 bytes --]
Test-Label: iol-mellanox-Performance
Test-Status: SUCCESS
http://dpdk.org/patch/83822
_Performance Testing PASS_
Submitter: Prateek Agarwal <pratekag@gmail.com>
Date: Saturday, November 07 2020 09:00:38
DPDK git baseline: Repo:dpdk
Branch: master
CommitID:a8adac0bc098dad9ca7f7977b6204b29669244e8
83822 --> performance testing pass
Test environment and result as below:
Ubuntu 18.04
Kernel: 4.15.0-generic
Compiler: gcc 7.4
NIC: Mellanox ConnectX-5 100000 Mbps
Target: x86_64-native-linuxapp-gcc
Fail/Total: 0/6
Detail performance results:
+------------+---------+-------------------------------------+
| frame_size | txd/rxd | throughput difference from expected |
+============+=========+=====================================+
| 64 | 256 | -0.056 |
+------------+---------+-------------------------------------+
| 128 | 256 | 0.032 |
+------------+---------+-------------------------------------+
| 256 | 256 | 0.080 |
+------------+---------+-------------------------------------+
| 512 | 256 | 0.054 |
+------------+---------+-------------------------------------+
| 1024 | 256 | 0.163 |
+------------+---------+-------------------------------------+
| 1518 | 256 | -0.018 |
+------------+---------+-------------------------------------+
Ubuntu 18.04
Kernel: 4.15.0-generic
Compiler: gcc 7.4
NIC: Mellanox ConnectX-4 Lx 25000 Mbps
Target: x86_64-native-linuxapp-gcc
Fail/Total: 0/6
Detail performance results:
+------------+---------+-------------------------------------+
| frame_size | txd/rxd | throughput difference from expected |
+============+=========+=====================================+
| 64 | 256 | -0.042 |
+------------+---------+-------------------------------------+
| 128 | 256 | 0.062 |
+------------+---------+-------------------------------------+
| 256 | 256 | -0.181 |
+------------+---------+-------------------------------------+
| 512 | 256 | 0.099 |
+------------+---------+-------------------------------------+
| 1024 | 256 | -0.013 |
+------------+---------+-------------------------------------+
| 1518 | 256 | -0.005 |
+------------+---------+-------------------------------------+
Ubuntu 18.04
Kernel: 4.15.0-generic
Compiler: gcc 7.4
NIC: Mellanox ConnectX-4 Lx 40000 Mbps
Target: x86_64-native-linuxapp-gcc
Fail/Total: 0/6
Detail performance results:
+------------+---------+-------------------------------------+
| frame_size | txd/rxd | throughput difference from expected |
+============+=========+=====================================+
| 64 | 256 | 0.056 |
+------------+---------+-------------------------------------+
| 128 | 256 | 0.178 |
+------------+---------+-------------------------------------+
| 256 | 256 | -0.627 |
+------------+---------+-------------------------------------+
| 512 | 256 | 0.058 |
+------------+---------+-------------------------------------+
| 1024 | 256 | 0.009 |
+------------+---------+-------------------------------------+
| 1518 | 256 | -0.006 |
+------------+---------+-------------------------------------+
To view detailed results, visit:
https://lab.dpdk.org/results/dashboard/patchsets/14358/
UNH-IOL DPDK Community Lab
To manage your email subscriptions, visit:
https://lab.dpdk.org/results/dashboard/preferences/subscriptions/
^ permalink raw reply [flat|nested] 6+ messages in thread
* [dpdk-test-report] |SUCCESS| pw83822 [PATCH] Made i40 header CPP compatible using extern "C". Library headers work directly in cpp code. Linking errors thrown due to the absence of this change in i40e pmd header does not help in resolving the problem. I needed this header directly to use DDP feature
@ 2020-11-07 21:19 dpdklab
0 siblings, 0 replies; 6+ messages in thread
From: dpdklab @ 2020-11-07 21:19 UTC (permalink / raw)
To: Test Report; +Cc: dpdk-test-reports
[-- Attachment #1: Type: text/plain, Size: 1262 bytes --]
Test-Label: iol-intel-Performance
Test-Status: SUCCESS
http://dpdk.org/patch/83822
_Performance Testing PASS_
Submitter: Prateek Agarwal <pratekag@gmail.com>
Date: Saturday, November 07 2020 09:00:38
DPDK git baseline: Repo:dpdk
Branch: master
CommitID:a8adac0bc098dad9ca7f7977b6204b29669244e8
83822 --> performance testing pass
Test environment and result as below:
Ubuntu 18.04
Kernel: 4.15.0-generic
Compiler: gcc 7.4
NIC: Intel Corporation Ethernet Converged Network Adapter XL710-QDA2 40000 Mbps
Target: x86_64-native-linuxapp-gcc
Fail/Total: 0/2
Detail performance results:
+------------+---------+-------------------------------------+
| frame_size | txd/rxd | throughput difference from expected |
+============+=========+=====================================+
| 64 | 512 | 2.745 |
+------------+---------+-------------------------------------+
| 64 | 2048 | 1.504 |
+------------+---------+-------------------------------------+
To view detailed results, visit:
https://lab.dpdk.org/results/dashboard/patchsets/14358/
UNH-IOL DPDK Community Lab
To manage your email subscriptions, visit:
https://lab.dpdk.org/results/dashboard/preferences/subscriptions/
^ permalink raw reply [flat|nested] 6+ messages in thread
* [dpdk-test-report] |SUCCESS| pw83822 [PATCH] Made i40 header CPP compatible using extern "C". Library headers work directly in cpp code. Linking errors thrown due to the absence of this change in i40e pmd header does not help in resolving the problem. I needed this header directly to use DDP feature
@ 2020-11-07 21:13 dpdklab
0 siblings, 0 replies; 6+ messages in thread
From: dpdklab @ 2020-11-07 21:13 UTC (permalink / raw)
To: Test Report; +Cc: dpdk-test-reports
[-- Attachment #1: Type: text/plain, Size: 1993 bytes --]
Test-Label: iol-testing
Test-Status: SUCCESS
http://dpdk.org/patch/83822
_Testing PASS_
Submitter: Prateek Agarwal <pratekag@gmail.com>
Date: Saturday, November 07 2020 09:00:38
DPDK git baseline: Repo:dpdk
Branch: master
CommitID:a8adac0bc098dad9ca7f7977b6204b29669244e8
83822 --> testing pass
Test environment and result as below:
+---------------------+--------------------+----------------+
| Environment | dpdk_meson_compile | dpdk_unit_test |
+=====================+====================+================+
| Windows Server 2019 | PASS | SKIPPED |
+---------------------+--------------------+----------------+
| FreeBSD 11.2 | PASS | SKIPPED |
+---------------------+--------------------+----------------+
| Ubuntu 18.04 | PASS | PASS |
+---------------------+--------------------+----------------+
| CentOS 8 | PASS | SKIPPED |
+---------------------+--------------------+----------------+
| Fedora 31 | PASS | SKIPPED |
+---------------------+--------------------+----------------+
| openSUSE Leap 15 | PASS | SKIPPED |
+---------------------+--------------------+----------------+
| Arch Linux | PASS | SKIPPED |
+---------------------+--------------------+----------------+
Windows Server 2019
Kernel: 10.0
Compiler: clang 9.0
FreeBSD 11.2
Kernel: 11.2
Compiler: gcc 8.3
Ubuntu 18.04
Kernel: 4.15.0-generic
Compiler: gcc 7.5
CentOS 8
Kernel: 4.18.0.el8_0
Compiler: gcc 8.3.1
Fedora 31
Kernel: 5.3.16
Compiler: gcc 9.2.1
openSUSE Leap 15
Kernel: 4.12.14
Compiler: gcc 7.4.1
Arch Linux
Kernel: latest
Compiler: gcc latest
To view detailed results, visit:
https://lab.dpdk.org/results/dashboard/patchsets/14358/
UNH-IOL DPDK Community Lab
To manage your email subscriptions, visit:
https://lab.dpdk.org/results/dashboard/preferences/subscriptions/
^ permalink raw reply [flat|nested] 6+ messages in thread
* [dpdk-test-report] |SUCCESS| pw83822 [PATCH] Made i40 header CPP compatible using extern "C". Library headers work directly in cpp code. Linking errors thrown due to the absence of this change in i40e pmd header does not help in resolving the problem. I needed this header directly to use DDP feature
@ 2020-11-07 21:10 dpdklab
0 siblings, 0 replies; 6+ messages in thread
From: dpdklab @ 2020-11-07 21:10 UTC (permalink / raw)
To: Ajit Khaparde, Test Report; +Cc: dpdk-test-reports
[-- Attachment #1: Type: text/plain, Size: 1267 bytes --]
Test-Label: iol-broadcom-Performance
Test-Status: SUCCESS
http://dpdk.org/patch/83822
_Performance Testing PASS_
Submitter: Prateek Agarwal <pratekag@gmail.com>
Date: Saturday, November 07 2020 09:00:38
DPDK git baseline: Repo:dpdk
Branch: master
CommitID:a8adac0bc098dad9ca7f7977b6204b29669244e8
83822 --> performance testing pass
Test environment and result as below:
Ubuntu 18.04
Kernel: 4.15.0-65-generic
Compiler: gcc gcc (Ubuntu 7.4.0-1ubuntu1~18.04.1) 7.4.0
NIC: Broadcom Inc. brcm_57414 25000 Mbps
Target: x86_64-native-linuxapp-gcc
Fail/Total: 0/2
Detail performance results:
+------------+---------+-------------------------------------+
| frame_size | txd/rxd | throughput difference from expected |
+============+=========+=====================================+
| 64 | 512 | 0.100 |
+------------+---------+-------------------------------------+
| 64 | 2048 | -0.065 |
+------------+---------+-------------------------------------+
To view detailed results, visit:
https://lab.dpdk.org/results/dashboard/patchsets/14358/
UNH-IOL DPDK Community Lab
To manage your email subscriptions, visit:
https://lab.dpdk.org/results/dashboard/preferences/subscriptions/
^ permalink raw reply [flat|nested] 6+ messages in thread
* [dpdk-test-report] |SUCCESS| pw83822 [PATCH] Made i40 header CPP compatible using extern "C". Library headers work directly in cpp code. Linking errors thrown due to the absence of this change in i40e pmd header does not help in resolving the problem. I needed this header directly to use DDP feature
@ 2020-11-07 21:07 dpdklab
0 siblings, 0 replies; 6+ messages in thread
From: dpdklab @ 2020-11-07 21:07 UTC (permalink / raw)
To: Test Report; +Cc: dpdk-test-reports
[-- Attachment #1: Type: text/plain, Size: 789 bytes --]
Test-Label: iol-intel-Functional
Test-Status: SUCCESS
http://dpdk.org/patch/83822
_Functional Testing PASS_
Submitter: Prateek Agarwal <pratekag@gmail.com>
Date: Saturday, November 07 2020 09:00:38
DPDK git baseline: Repo:dpdk
Branch: master
CommitID:a8adac0bc098dad9ca7f7977b6204b29669244e8
83822 --> functional testing pass
Test environment and result as below:
Ubuntu 18.04
Kernel: 4.15.0-generic
Compiler: gcc 7.4
NIC: Intel Corporation Ethernet Converged Network Adapter XL710-QDA2 40000 Mbps
Target: x86_64-native-linuxapp-gcc
Fail/Total: 0/3
To view detailed results, visit:
https://lab.dpdk.org/results/dashboard/patchsets/14358/
UNH-IOL DPDK Community Lab
To manage your email subscriptions, visit:
https://lab.dpdk.org/results/dashboard/preferences/subscriptions/
^ permalink raw reply [flat|nested] 6+ messages in thread
* [dpdk-test-report] |SUCCESS| pw83822 [PATCH] Made i40 header CPP compatible using extern "C". Library headers work directly in cpp code. Linking errors thrown due to the absence of this change in i40e pmd header does not help in resolving the problem. I needed this header directly to use DDP feature
@ 2020-11-07 21:04 dpdklab
0 siblings, 0 replies; 6+ messages in thread
From: dpdklab @ 2020-11-07 21:04 UTC (permalink / raw)
To: Ajit Khaparde, Test Report; +Cc: dpdk-test-reports
[-- Attachment #1: Type: text/plain, Size: 794 bytes --]
Test-Label: iol-broadcom-Functional
Test-Status: SUCCESS
http://dpdk.org/patch/83822
_Functional Testing PASS_
Submitter: Prateek Agarwal <pratekag@gmail.com>
Date: Saturday, November 07 2020 09:00:38
DPDK git baseline: Repo:dpdk
Branch: master
CommitID:a8adac0bc098dad9ca7f7977b6204b29669244e8
83822 --> functional testing pass
Test environment and result as below:
Ubuntu 18.04
Kernel: 4.15.0-65-generic
Compiler: gcc gcc (Ubuntu 7.4.0-1ubuntu1~18.04.1) 7.4.0
NIC: Broadcom Inc. brcm_57414 25000 Mbps
Target: x86_64-native-linuxapp-gcc
Fail/Total: 0/3
To view detailed results, visit:
https://lab.dpdk.org/results/dashboard/patchsets/14358/
UNH-IOL DPDK Community Lab
To manage your email subscriptions, visit:
https://lab.dpdk.org/results/dashboard/preferences/subscriptions/
^ permalink raw reply [flat|nested] 6+ messages in thread
end of thread, other threads:[~2020-11-08 1:05 UTC | newest]
Thread overview: 6+ messages (download: mbox.gz / follow: Atom feed)
-- links below jump to the message on this page --
2020-11-08 1:05 [dpdk-test-report] |SUCCESS| pw83822 [PATCH] Made i40 header CPP compatible using extern "C". Library headers work directly in cpp code. Linking errors thrown due to the absence of this change in i40e pmd header does not help in resolving the problem. I needed this header directly to use DDP feature dpdklab
-- strict thread matches above, loose matches on Subject: below --
2020-11-07 21:19 dpdklab
2020-11-07 21:13 dpdklab
2020-11-07 21:10 dpdklab
2020-11-07 21:07 dpdklab
2020-11-07 21:04 dpdklab
This is a public inbox, see mirroring instructions
for how to clone and mirror all data and code used for this inbox;
as well as URLs for NNTP newsgroup(s).