* [dpdk-test-report] |SUCCESS| [GIT MASTER] 643b2740a7e3dd53b27a94804a8165a16baf0861
@ 2020-11-09 16:11 dpdklab
0 siblings, 0 replies; 6+ messages in thread
From: dpdklab @ 2020-11-09 16:11 UTC (permalink / raw)
To: Test Report; +Cc: dpdk-test-reports
[-- Attachment #1: Type: text/plain, Size: 1790 bytes --]
_Testing PASS_
Branch: dpdk-next-net-mlx
643b2740a7e3dd53b27a94804a8165a16baf0861 --> testing pass
Test environment and result as below:
+---------------------+--------------------+----------------+
| Environment | dpdk_meson_compile | dpdk_unit_test |
+=====================+====================+================+
| Windows Server 2019 | PASS | SKIPPED |
+---------------------+--------------------+----------------+
| FreeBSD 11.2 | PASS | SKIPPED |
+---------------------+--------------------+----------------+
| Fedora 31 | PASS | SKIPPED |
+---------------------+--------------------+----------------+
| Ubuntu 18.04 | PASS | PASS |
+---------------------+--------------------+----------------+
| CentOS 8 | PASS | SKIPPED |
+---------------------+--------------------+----------------+
| openSUSE Leap 15 | PASS | SKIPPED |
+---------------------+--------------------+----------------+
| Arch Linux | PASS | SKIPPED |
+---------------------+--------------------+----------------+
Windows Server 2019
Kernel: 10.0
Compiler: clang 9.0
FreeBSD 11.2
Kernel: 11.2
Compiler: gcc 8.3
Fedora 31
Kernel: 5.3.16
Compiler: gcc 9.2.1
Ubuntu 18.04
Kernel: 4.15.0-generic
Compiler: gcc 7.5
CentOS 8
Kernel: 4.18.0.el8_0
Compiler: gcc 8.3.1
openSUSE Leap 15
Kernel: 4.12.14
Compiler: gcc 7.4.1
Arch Linux
Kernel: latest
Compiler: gcc latest
To view detailed results, visit:
https://lab.dpdk.org/results/dashboard/tarballs/12517/
UNH-IOL DPDK Community Lab
To manage your email subscriptions, visit:
https://lab.dpdk.org/results/dashboard/preferences/subscriptions/
^ permalink raw reply [flat|nested] 6+ messages in thread
* [dpdk-test-report] |SUCCESS| [GIT MASTER] 643b2740a7e3dd53b27a94804a8165a16baf0861
@ 2020-11-09 21:26 dpdklab
0 siblings, 0 replies; 6+ messages in thread
From: dpdklab @ 2020-11-09 21:26 UTC (permalink / raw)
To: Ali Alnubani, Test Report; +Cc: dpdk-test-reports
[-- Attachment #1: Type: text/plain, Size: 3750 bytes --]
_Performance Testing PASS_
Branch: dpdk-next-net-mlx
643b2740a7e3dd53b27a94804a8165a16baf0861 --> performance testing pass
Test environment and result as below:
Ubuntu 18.04
Kernel: 4.15.0-generic
Compiler: gcc 7.4
NIC: Mellanox ConnectX-5 100000 Mbps
Target: x86_64-native-linuxapp-gcc
Fail/Total: 0/6
Detail performance results:
+------------+---------+-------------------------------------+
| frame_size | txd/rxd | throughput difference from expected |
+============+=========+=====================================+
| 64 | 256 | 0.079 |
+------------+---------+-------------------------------------+
| 128 | 256 | 0.002 |
+------------+---------+-------------------------------------+
| 256 | 256 | -0.005 |
+------------+---------+-------------------------------------+
| 512 | 256 | 0.103 |
+------------+---------+-------------------------------------+
| 1024 | 256 | -0.019 |
+------------+---------+-------------------------------------+
| 1518 | 256 | -0.018 |
+------------+---------+-------------------------------------+
Ubuntu 18.04
Kernel: 4.15.0-generic
Compiler: gcc 7.4
NIC: Mellanox ConnectX-4 Lx 25000 Mbps
Target: x86_64-native-linuxapp-gcc
Fail/Total: 0/6
Detail performance results:
+------------+---------+-------------------------------------+
| frame_size | txd/rxd | throughput difference from expected |
+============+=========+=====================================+
| 64 | 256 | 0.301 |
+------------+---------+-------------------------------------+
| 128 | 256 | 0.160 |
+------------+---------+-------------------------------------+
| 256 | 256 | -0.274 |
+------------+---------+-------------------------------------+
| 512 | 256 | 0.002 |
+------------+---------+-------------------------------------+
| 1024 | 256 | -0.017 |
+------------+---------+-------------------------------------+
| 1518 | 256 | -0.009 |
+------------+---------+-------------------------------------+
Ubuntu 18.04
Kernel: 4.15.0-generic
Compiler: gcc 7.4
NIC: Mellanox ConnectX-4 Lx 40000 Mbps
Target: x86_64-native-linuxapp-gcc
Fail/Total: 0/6
Detail performance results:
+------------+---------+-------------------------------------+
| frame_size | txd/rxd | throughput difference from expected |
+============+=========+=====================================+
| 64 | 256 | 0.068 |
+------------+---------+-------------------------------------+
| 128 | 256 | 0.163 |
+------------+---------+-------------------------------------+
| 256 | 256 | -0.662 |
+------------+---------+-------------------------------------+
| 512 | 256 | 0.016 |
+------------+---------+-------------------------------------+
| 1024 | 256 | -0.001 |
+------------+---------+-------------------------------------+
| 1518 | 256 | -0.004 |
+------------+---------+-------------------------------------+
To view detailed results, visit:
https://lab.dpdk.org/results/dashboard/tarballs/12517/
UNH-IOL DPDK Community Lab
To manage your email subscriptions, visit:
https://lab.dpdk.org/results/dashboard/preferences/subscriptions/
^ permalink raw reply [flat|nested] 6+ messages in thread
* [dpdk-test-report] |SUCCESS| [GIT MASTER] 643b2740a7e3dd53b27a94804a8165a16baf0861
@ 2020-11-09 16:32 dpdklab
0 siblings, 0 replies; 6+ messages in thread
From: dpdklab @ 2020-11-09 16:32 UTC (permalink / raw)
To: Test Report; +Cc: dpdk-test-reports
[-- Attachment #1: Type: text/plain, Size: 1049 bytes --]
_Performance Testing PASS_
Branch: dpdk-next-net-mlx
643b2740a7e3dd53b27a94804a8165a16baf0861 --> performance testing pass
Test environment and result as below:
Ubuntu 18.04
Kernel: 4.15.0-generic
Compiler: gcc 7.4
NIC: Intel Corporation Ethernet Converged Network Adapter XL710-QDA2 40000 Mbps
Target: x86_64-native-linuxapp-gcc
Fail/Total: 0/2
Detail performance results:
+------------+---------+-------------------------------------+
| frame_size | txd/rxd | throughput difference from expected |
+============+=========+=====================================+
| 64 | 512 | 2.672 |
+------------+---------+-------------------------------------+
| 64 | 2048 | 1.632 |
+------------+---------+-------------------------------------+
To view detailed results, visit:
https://lab.dpdk.org/results/dashboard/tarballs/12517/
UNH-IOL DPDK Community Lab
To manage your email subscriptions, visit:
https://lab.dpdk.org/results/dashboard/preferences/subscriptions/
^ permalink raw reply [flat|nested] 6+ messages in thread
* [dpdk-test-report] |SUCCESS| [GIT MASTER] 643b2740a7e3dd53b27a94804a8165a16baf0861
@ 2020-11-09 16:20 dpdklab
0 siblings, 0 replies; 6+ messages in thread
From: dpdklab @ 2020-11-09 16:20 UTC (permalink / raw)
To: Test Report; +Cc: dpdk-test-reports
[-- Attachment #1: Type: text/plain, Size: 577 bytes --]
_Functional Testing PASS_
Branch: dpdk-next-net-mlx
643b2740a7e3dd53b27a94804a8165a16baf0861 --> functional testing pass
Test environment and result as below:
Ubuntu 18.04
Kernel: 4.15.0-generic
Compiler: gcc 7.4
NIC: Intel Corporation Ethernet Converged Network Adapter XL710-QDA2 40000 Mbps
Target: x86_64-native-linuxapp-gcc
Fail/Total: 0/3
To view detailed results, visit:
https://lab.dpdk.org/results/dashboard/tarballs/12517/
UNH-IOL DPDK Community Lab
To manage your email subscriptions, visit:
https://lab.dpdk.org/results/dashboard/preferences/subscriptions/
^ permalink raw reply [flat|nested] 6+ messages in thread
* [dpdk-test-report] |SUCCESS| [GIT MASTER] 643b2740a7e3dd53b27a94804a8165a16baf0861
@ 2020-11-09 15:51 dpdklab
0 siblings, 0 replies; 6+ messages in thread
From: dpdklab @ 2020-11-09 15:51 UTC (permalink / raw)
To: Ajit Khaparde, Test Report; +Cc: dpdk-test-reports
[-- Attachment #1: Type: text/plain, Size: 1051 bytes --]
_Performance Testing PASS_
Branch: dpdk-next-net-mlx
643b2740a7e3dd53b27a94804a8165a16baf0861 --> performance testing pass
Test environment and result as below:
Ubuntu 18.04
Kernel: 4.15.0-65-generic
Compiler: gcc gcc (Ubuntu 7.4.0-1ubuntu1~18.04.1) 7.4.0
NIC: Broadcom Inc. brcm_57414 25000 Mbps
Target: x86_64-native-linuxapp-gcc
Fail/Total: 0/2
Detail performance results:
+------------+---------+-------------------------------------+
| frame_size | txd/rxd | throughput difference from expected |
+============+=========+=====================================+
| 64 | 512 | 0.089 |
+------------+---------+-------------------------------------+
| 64 | 2048 | -0.069 |
+------------+---------+-------------------------------------+
To view detailed results, visit:
https://lab.dpdk.org/results/dashboard/tarballs/12517/
UNH-IOL DPDK Community Lab
To manage your email subscriptions, visit:
https://lab.dpdk.org/results/dashboard/preferences/subscriptions/
^ permalink raw reply [flat|nested] 6+ messages in thread
* [dpdk-test-report] |SUCCESS| [GIT MASTER] 643b2740a7e3dd53b27a94804a8165a16baf0861
@ 2020-11-09 15:46 dpdklab
0 siblings, 0 replies; 6+ messages in thread
From: dpdklab @ 2020-11-09 15:46 UTC (permalink / raw)
To: Ajit Khaparde, Test Report; +Cc: dpdk-test-reports
[-- Attachment #1: Type: text/plain, Size: 579 bytes --]
_Functional Testing PASS_
Branch: dpdk-next-net-mlx
643b2740a7e3dd53b27a94804a8165a16baf0861 --> functional testing pass
Test environment and result as below:
Ubuntu 18.04
Kernel: 4.15.0-65-generic
Compiler: gcc gcc (Ubuntu 7.4.0-1ubuntu1~18.04.1) 7.4.0
NIC: Broadcom Inc. brcm_57414 25000 Mbps
Target: x86_64-native-linuxapp-gcc
Fail/Total: 0/3
To view detailed results, visit:
https://lab.dpdk.org/results/dashboard/tarballs/12517/
UNH-IOL DPDK Community Lab
To manage your email subscriptions, visit:
https://lab.dpdk.org/results/dashboard/preferences/subscriptions/
^ permalink raw reply [flat|nested] 6+ messages in thread
end of thread, other threads:[~2020-11-09 21:26 UTC | newest]
Thread overview: 6+ messages (download: mbox.gz / follow: Atom feed)
-- links below jump to the message on this page --
2020-11-09 16:11 [dpdk-test-report] |SUCCESS| [GIT MASTER] 643b2740a7e3dd53b27a94804a8165a16baf0861 dpdklab
-- strict thread matches above, loose matches on Subject: below --
2020-11-09 21:26 dpdklab
2020-11-09 16:32 dpdklab
2020-11-09 16:20 dpdklab
2020-11-09 15:51 dpdklab
2020-11-09 15:46 dpdklab
This is a public inbox, see mirroring instructions
for how to clone and mirror all data and code used for this inbox;
as well as URLs for NNTP newsgroup(s).