* [dpdk-test-report] |SUCCESS| pw83884 [PATCH] [v2] app/test: fix to prevent zcd gcc compile error
@ 2020-11-11 16:15 dpdklab
0 siblings, 0 replies; 8+ messages in thread
From: dpdklab @ 2020-11-11 16:15 UTC (permalink / raw)
To: Test Report; +Cc: dpdk-test-reports
[-- Attachment #1: Type: text/plain, Size: 971 bytes --]
Test-Label: iol-intel-Functional
Test-Status: SUCCESS
http://dpdk.org/patch/83884
_Functional Testing PASS_
Submitter: Conor Walsh <conor.walsh@intel.com>
Date: Tuesday, November 10 2020 11:03:13
DPDK git baseline: Repo:dpdk
Branch: master
CommitID:a8adac0bc098dad9ca7f7977b6204b29669244e8
83884 --> functional testing pass
Test environment and result as below:
Ubuntu 18.04
Kernel: 4.15.0-generic
Compiler: gcc 7.4
NIC: Intel Corporation Ethernet Converged Network Adapter XL710-QDA2 40000 Mbps
Target: x86_64-native-linuxapp-gcc
Fail/Total: 0/3
Ubuntu 18.04
Kernel: 4.15.0-generic
Compiler: gcc 7.4
NIC: Intel Corporation Ethernet Converged Network Adapter 82599ES 10000 Mbps
Target: x86_64-native-linuxapp-gcc
Fail/Total: 0/5
To view detailed results, visit:
https://lab.dpdk.org/results/dashboard/patchsets/14395/
UNH-IOL DPDK Community Lab
To manage your email subscriptions, visit:
https://lab.dpdk.org/results/dashboard/preferences/subscriptions/
^ permalink raw reply [flat|nested] 8+ messages in thread
* [dpdk-test-report] |SUCCESS| pw83884 [PATCH] [v2] app/test: fix to prevent zcd gcc compile error
@ 2020-11-11 14:41 dpdklab
0 siblings, 0 replies; 8+ messages in thread
From: dpdklab @ 2020-11-11 14:41 UTC (permalink / raw)
To: Test Report; +Cc: dpdk-test-reports
[-- Attachment #1: Type: text/plain, Size: 971 bytes --]
Test-Label: iol-intel-Functional
Test-Status: SUCCESS
http://dpdk.org/patch/83884
_Functional Testing PASS_
Submitter: Conor Walsh <conor.walsh@intel.com>
Date: Tuesday, November 10 2020 11:03:13
DPDK git baseline: Repo:dpdk
Branch: master
CommitID:a8adac0bc098dad9ca7f7977b6204b29669244e8
83884 --> functional testing pass
Test environment and result as below:
Ubuntu 18.04
Kernel: 4.15.0-generic
Compiler: gcc 7.4
NIC: Intel Corporation Ethernet Converged Network Adapter XL710-QDA2 40000 Mbps
Target: x86_64-native-linuxapp-gcc
Fail/Total: 0/3
Ubuntu 18.04
Kernel: 4.15.0-generic
Compiler: gcc 7.4
NIC: Intel Corporation Ethernet Converged Network Adapter 82599ES 10000 Mbps
Target: x86_64-native-linuxapp-gcc
Fail/Total: 0/5
To view detailed results, visit:
https://lab.dpdk.org/results/dashboard/patchsets/14395/
UNH-IOL DPDK Community Lab
To manage your email subscriptions, visit:
https://lab.dpdk.org/results/dashboard/preferences/subscriptions/
^ permalink raw reply [flat|nested] 8+ messages in thread
* [dpdk-test-report] |SUCCESS| pw83884 [PATCH] [v2] app/test: fix to prevent zcd gcc compile error
@ 2020-11-10 12:43 dpdklab
0 siblings, 0 replies; 8+ messages in thread
From: dpdklab @ 2020-11-10 12:43 UTC (permalink / raw)
To: Ali Alnubani, Test Report; +Cc: dpdk-test-reports
[-- Attachment #1: Type: text/plain, Size: 3964 bytes --]
Test-Label: iol-mellanox-Performance
Test-Status: SUCCESS
http://dpdk.org/patch/83884
_Performance Testing PASS_
Submitter: Conor Walsh <conor.walsh@intel.com>
Date: Tuesday, November 10 2020 11:03:13
DPDK git baseline: Repo:dpdk
Branch: master
CommitID:a8adac0bc098dad9ca7f7977b6204b29669244e8
83884 --> performance testing pass
Test environment and result as below:
Ubuntu 18.04
Kernel: 4.15.0-generic
Compiler: gcc 7.4
NIC: Mellanox ConnectX-5 100000 Mbps
Target: x86_64-native-linuxapp-gcc
Fail/Total: 0/6
Detail performance results:
+------------+---------+-------------------------------------+
| frame_size | txd/rxd | throughput difference from expected |
+============+=========+=====================================+
| 64 | 256 | 0.056 |
+------------+---------+-------------------------------------+
| 128 | 256 | -0.155 |
+------------+---------+-------------------------------------+
| 256 | 256 | 0.098 |
+------------+---------+-------------------------------------+
| 512 | 256 | -0.033 |
+------------+---------+-------------------------------------+
| 1024 | 256 | 0.041 |
+------------+---------+-------------------------------------+
| 1518 | 256 | -0.031 |
+------------+---------+-------------------------------------+
Ubuntu 18.04
Kernel: 4.15.0-generic
Compiler: gcc 7.4
NIC: Mellanox ConnectX-4 Lx 25000 Mbps
Target: x86_64-native-linuxapp-gcc
Fail/Total: 0/6
Detail performance results:
+------------+---------+-------------------------------------+
| frame_size | txd/rxd | throughput difference from expected |
+============+=========+=====================================+
| 64 | 256 | 0.138 |
+------------+---------+-------------------------------------+
| 128 | 256 | 0.090 |
+------------+---------+-------------------------------------+
| 256 | 256 | -0.119 |
+------------+---------+-------------------------------------+
| 512 | 256 | 0.072 |
+------------+---------+-------------------------------------+
| 1024 | 256 | -0.003 |
+------------+---------+-------------------------------------+
| 1518 | 256 | -0.005 |
+------------+---------+-------------------------------------+
Ubuntu 18.04
Kernel: 4.15.0-generic
Compiler: gcc 7.4
NIC: Mellanox ConnectX-4 Lx 40000 Mbps
Target: x86_64-native-linuxapp-gcc
Fail/Total: 0/6
Detail performance results:
+------------+---------+-------------------------------------+
| frame_size | txd/rxd | throughput difference from expected |
+============+=========+=====================================+
| 64 | 256 | 0.068 |
+------------+---------+-------------------------------------+
| 128 | 256 | 0.173 |
+------------+---------+-------------------------------------+
| 256 | 256 | -0.478 |
+------------+---------+-------------------------------------+
| 512 | 256 | 0.021 |
+------------+---------+-------------------------------------+
| 1024 | 256 | -0.007 |
+------------+---------+-------------------------------------+
| 1518 | 256 | 0.006 |
+------------+---------+-------------------------------------+
To view detailed results, visit:
https://lab.dpdk.org/results/dashboard/patchsets/14395/
UNH-IOL DPDK Community Lab
To manage your email subscriptions, visit:
https://lab.dpdk.org/results/dashboard/preferences/subscriptions/
^ permalink raw reply [flat|nested] 8+ messages in thread
* [dpdk-test-report] |SUCCESS| pw83884 [PATCH] [v2] app/test: fix to prevent zcd gcc compile error
@ 2020-11-10 12:18 dpdklab
0 siblings, 0 replies; 8+ messages in thread
From: dpdklab @ 2020-11-10 12:18 UTC (permalink / raw)
To: Test Report; +Cc: dpdk-test-reports
[-- Attachment #1: Type: text/plain, Size: 1260 bytes --]
Test-Label: iol-intel-Performance
Test-Status: SUCCESS
http://dpdk.org/patch/83884
_Performance Testing PASS_
Submitter: Conor Walsh <conor.walsh@intel.com>
Date: Tuesday, November 10 2020 11:03:13
DPDK git baseline: Repo:dpdk
Branch: master
CommitID:a8adac0bc098dad9ca7f7977b6204b29669244e8
83884 --> performance testing pass
Test environment and result as below:
Ubuntu 18.04
Kernel: 4.15.0-generic
Compiler: gcc 7.4
NIC: Intel Corporation Ethernet Converged Network Adapter XL710-QDA2 40000 Mbps
Target: x86_64-native-linuxapp-gcc
Fail/Total: 0/2
Detail performance results:
+------------+---------+-------------------------------------+
| frame_size | txd/rxd | throughput difference from expected |
+============+=========+=====================================+
| 64 | 512 | 2.780 |
+------------+---------+-------------------------------------+
| 64 | 2048 | 1.712 |
+------------+---------+-------------------------------------+
To view detailed results, visit:
https://lab.dpdk.org/results/dashboard/patchsets/14395/
UNH-IOL DPDK Community Lab
To manage your email subscriptions, visit:
https://lab.dpdk.org/results/dashboard/preferences/subscriptions/
^ permalink raw reply [flat|nested] 8+ messages in thread
* [dpdk-test-report] |SUCCESS| pw83884 [PATCH] [v2] app/test: fix to prevent zcd gcc compile error
@ 2020-11-10 12:15 dpdklab
0 siblings, 0 replies; 8+ messages in thread
From: dpdklab @ 2020-11-10 12:15 UTC (permalink / raw)
To: Test Report; +Cc: dpdk-test-reports
[-- Attachment #1: Type: text/plain, Size: 1991 bytes --]
Test-Label: iol-testing
Test-Status: SUCCESS
http://dpdk.org/patch/83884
_Testing PASS_
Submitter: Conor Walsh <conor.walsh@intel.com>
Date: Tuesday, November 10 2020 11:03:13
DPDK git baseline: Repo:dpdk
Branch: master
CommitID:a8adac0bc098dad9ca7f7977b6204b29669244e8
83884 --> testing pass
Test environment and result as below:
+---------------------+--------------------+----------------+
| Environment | dpdk_meson_compile | dpdk_unit_test |
+=====================+====================+================+
| Windows Server 2019 | PASS | SKIPPED |
+---------------------+--------------------+----------------+
| Ubuntu 18.04 | PASS | PASS |
+---------------------+--------------------+----------------+
| FreeBSD 11.2 | PASS | SKIPPED |
+---------------------+--------------------+----------------+
| CentOS 8 | PASS | SKIPPED |
+---------------------+--------------------+----------------+
| Fedora 31 | PASS | SKIPPED |
+---------------------+--------------------+----------------+
| openSUSE Leap 15 | PASS | SKIPPED |
+---------------------+--------------------+----------------+
| Arch Linux | PASS | SKIPPED |
+---------------------+--------------------+----------------+
Windows Server 2019
Kernel: 10.0
Compiler: clang 9.0
Ubuntu 18.04
Kernel: 4.15.0-generic
Compiler: gcc 7.5
FreeBSD 11.2
Kernel: 11.2
Compiler: gcc 8.3
CentOS 8
Kernel: 4.18.0.el8_0
Compiler: gcc 8.3.1
Fedora 31
Kernel: 5.3.16
Compiler: gcc 9.2.1
openSUSE Leap 15
Kernel: 4.12.14
Compiler: gcc 7.4.1
Arch Linux
Kernel: latest
Compiler: gcc latest
To view detailed results, visit:
https://lab.dpdk.org/results/dashboard/patchsets/14395/
UNH-IOL DPDK Community Lab
To manage your email subscriptions, visit:
https://lab.dpdk.org/results/dashboard/preferences/subscriptions/
^ permalink raw reply [flat|nested] 8+ messages in thread
* [dpdk-test-report] |SUCCESS| pw83884 [PATCH] [v2] app/test: fix to prevent zcd gcc compile error
@ 2020-11-10 12:08 dpdklab
0 siblings, 0 replies; 8+ messages in thread
From: dpdklab @ 2020-11-10 12:08 UTC (permalink / raw)
To: Ajit Khaparde, Test Report; +Cc: dpdk-test-reports
[-- Attachment #1: Type: text/plain, Size: 792 bytes --]
Test-Label: iol-broadcom-Functional
Test-Status: SUCCESS
http://dpdk.org/patch/83884
_Functional Testing PASS_
Submitter: Conor Walsh <conor.walsh@intel.com>
Date: Tuesday, November 10 2020 11:03:13
DPDK git baseline: Repo:dpdk
Branch: master
CommitID:a8adac0bc098dad9ca7f7977b6204b29669244e8
83884 --> functional testing pass
Test environment and result as below:
Ubuntu 18.04
Kernel: 4.15.0-65-generic
Compiler: gcc gcc (Ubuntu 7.4.0-1ubuntu1~18.04.1) 7.4.0
NIC: Broadcom Inc. brcm_57414 25000 Mbps
Target: x86_64-native-linuxapp-gcc
Fail/Total: 0/3
To view detailed results, visit:
https://lab.dpdk.org/results/dashboard/patchsets/14395/
UNH-IOL DPDK Community Lab
To manage your email subscriptions, visit:
https://lab.dpdk.org/results/dashboard/preferences/subscriptions/
^ permalink raw reply [flat|nested] 8+ messages in thread
* [dpdk-test-report] |SUCCESS| pw83884 [PATCH] [v2] app/test: fix to prevent zcd gcc compile error
@ 2020-11-10 12:00 dpdklab
0 siblings, 0 replies; 8+ messages in thread
From: dpdklab @ 2020-11-10 12:00 UTC (permalink / raw)
To: Ajit Khaparde, Test Report; +Cc: dpdk-test-reports
[-- Attachment #1: Type: text/plain, Size: 1265 bytes --]
Test-Label: iol-broadcom-Performance
Test-Status: SUCCESS
http://dpdk.org/patch/83884
_Performance Testing PASS_
Submitter: Conor Walsh <conor.walsh@intel.com>
Date: Tuesday, November 10 2020 11:03:13
DPDK git baseline: Repo:dpdk
Branch: master
CommitID:a8adac0bc098dad9ca7f7977b6204b29669244e8
83884 --> performance testing pass
Test environment and result as below:
Ubuntu 18.04
Kernel: 4.15.0-65-generic
Compiler: gcc gcc (Ubuntu 7.4.0-1ubuntu1~18.04.1) 7.4.0
NIC: Broadcom Inc. brcm_57414 25000 Mbps
Target: x86_64-native-linuxapp-gcc
Fail/Total: 0/2
Detail performance results:
+------------+---------+-------------------------------------+
| frame_size | txd/rxd | throughput difference from expected |
+============+=========+=====================================+
| 64 | 512 | 0.142 |
+------------+---------+-------------------------------------+
| 64 | 2048 | -0.092 |
+------------+---------+-------------------------------------+
To view detailed results, visit:
https://lab.dpdk.org/results/dashboard/patchsets/14395/
UNH-IOL DPDK Community Lab
To manage your email subscriptions, visit:
https://lab.dpdk.org/results/dashboard/preferences/subscriptions/
^ permalink raw reply [flat|nested] 8+ messages in thread
[parent not found: <20201110110313.1924365-1-conor.walsh@intel.com>]
end of thread, other threads:[~2020-11-11 16:15 UTC | newest]
Thread overview: 8+ messages (download: mbox.gz / follow: Atom feed)
-- links below jump to the message on this page --
2020-11-11 16:15 [dpdk-test-report] |SUCCESS| pw83884 [PATCH] [v2] app/test: fix to prevent zcd gcc compile error dpdklab
-- strict thread matches above, loose matches on Subject: below --
2020-11-11 14:41 dpdklab
2020-11-10 12:43 dpdklab
2020-11-10 12:18 dpdklab
2020-11-10 12:15 dpdklab
2020-11-10 12:08 dpdklab
2020-11-10 12:00 dpdklab
[not found] <20201110110313.1924365-1-conor.walsh@intel.com>
2020-11-10 11:04 ` [dpdk-test-report] |SUCCESS| pw83884 [PATCH v2] " checkpatch
This is a public inbox, see mirroring instructions
for how to clone and mirror all data and code used for this inbox;
as well as URLs for NNTP newsgroup(s).