* [dpdk-test-report] |SUCCESS| pw84076 [PATCH] app/eventdev: fix segfault with incorrect timer adadpters
@ 2020-11-12 18:39 dpdklab
0 siblings, 0 replies; 6+ messages in thread
From: dpdklab @ 2020-11-12 18:39 UTC (permalink / raw)
To: Test Report; +Cc: dpdk-test-reports
[-- Attachment #1: Type: text/plain, Size: 2011 bytes --]
Test-Label: iol-testing
Test-Status: SUCCESS
http://dpdk.org/patch/84076
_Testing PASS_
Submitter: Pavan Nikhilesh Bhagavatula <pbhagavatula@marvell.com>
Date: Thursday, November 12 2020 17:43:29
DPDK git baseline: Repo:dpdk
Branch: master
CommitID:a8adac0bc098dad9ca7f7977b6204b29669244e8
84076 --> testing pass
Test environment and result as below:
+---------------------+--------------------+----------------+
| Environment | dpdk_meson_compile | dpdk_unit_test |
+=====================+====================+================+
| Windows Server 2019 | PASS | SKIPPED |
+---------------------+--------------------+----------------+
| FreeBSD 11.2 | PASS | SKIPPED |
+---------------------+--------------------+----------------+
| CentOS 8 | PASS | SKIPPED |
+---------------------+--------------------+----------------+
| Ubuntu 18.04 | PASS | PASS |
+---------------------+--------------------+----------------+
| openSUSE Leap 15 | PASS | SKIPPED |
+---------------------+--------------------+----------------+
| Fedora 31 | PASS | SKIPPED |
+---------------------+--------------------+----------------+
| Arch Linux | PASS | SKIPPED |
+---------------------+--------------------+----------------+
Windows Server 2019
Kernel: 10.0
Compiler: clang 9.0
FreeBSD 11.2
Kernel: 11.2
Compiler: gcc 8.3
CentOS 8
Kernel: 4.18.0.el8_0
Compiler: gcc 8.3.1
Ubuntu 18.04
Kernel: 4.15.0-generic
Compiler: gcc 7.5
openSUSE Leap 15
Kernel: 4.12.14
Compiler: gcc 7.4.1
Fedora 31
Kernel: 5.3.16
Compiler: gcc 9.2.1
Arch Linux
Kernel: latest
Compiler: gcc latest
To view detailed results, visit:
https://lab.dpdk.org/results/dashboard/patchsets/14466/
UNH-IOL DPDK Community Lab
To manage your email subscriptions, visit:
https://lab.dpdk.org/results/dashboard/preferences/subscriptions/
^ permalink raw reply [flat|nested] 6+ messages in thread
* [dpdk-test-report] |SUCCESS| pw84076 [PATCH] app/eventdev: fix segfault with incorrect timer adadpters
@ 2020-11-12 23:35 dpdklab
0 siblings, 0 replies; 6+ messages in thread
From: dpdklab @ 2020-11-12 23:35 UTC (permalink / raw)
To: Ali Alnubani, Test Report; +Cc: dpdk-test-reports
[-- Attachment #1: Type: text/plain, Size: 3984 bytes --]
Test-Label: iol-mellanox-Performance
Test-Status: SUCCESS
http://dpdk.org/patch/84076
_Performance Testing PASS_
Submitter: Pavan Nikhilesh Bhagavatula <pbhagavatula@marvell.com>
Date: Thursday, November 12 2020 17:43:29
DPDK git baseline: Repo:dpdk
Branch: master
CommitID:a8adac0bc098dad9ca7f7977b6204b29669244e8
84076 --> performance testing pass
Test environment and result as below:
Ubuntu 18.04
Kernel: 4.15.0-generic
Compiler: gcc 7.4
NIC: Mellanox ConnectX-5 100000 Mbps
Target: x86_64-native-linuxapp-gcc
Fail/Total: 0/6
Detail performance results:
+------------+---------+-------------------------------------+
| frame_size | txd/rxd | throughput difference from expected |
+============+=========+=====================================+
| 64 | 256 | -0.105 |
+------------+---------+-------------------------------------+
| 128 | 256 | -0.001 |
+------------+---------+-------------------------------------+
| 256 | 256 | 0.146 |
+------------+---------+-------------------------------------+
| 512 | 256 | -0.032 |
+------------+---------+-------------------------------------+
| 1024 | 256 | 0.114 |
+------------+---------+-------------------------------------+
| 1518 | 256 | -0.028 |
+------------+---------+-------------------------------------+
Ubuntu 18.04
Kernel: 4.15.0-generic
Compiler: gcc 7.4
NIC: Mellanox ConnectX-4 Lx 25000 Mbps
Target: x86_64-native-linuxapp-gcc
Fail/Total: 0/6
Detail performance results:
+------------+---------+-------------------------------------+
| frame_size | txd/rxd | throughput difference from expected |
+============+=========+=====================================+
| 64 | 256 | 0.153 |
+------------+---------+-------------------------------------+
| 128 | 256 | -0.129 |
+------------+---------+-------------------------------------+
| 256 | 256 | 0.035 |
+------------+---------+-------------------------------------+
| 512 | 256 | 0.089 |
+------------+---------+-------------------------------------+
| 1024 | 256 | -0.015 |
+------------+---------+-------------------------------------+
| 1518 | 256 | -0.011 |
+------------+---------+-------------------------------------+
Ubuntu 18.04
Kernel: 4.15.0-generic
Compiler: gcc 7.4
NIC: Mellanox ConnectX-4 Lx 40000 Mbps
Target: x86_64-native-linuxapp-gcc
Fail/Total: 0/6
Detail performance results:
+------------+---------+-------------------------------------+
| frame_size | txd/rxd | throughput difference from expected |
+============+=========+=====================================+
| 64 | 256 | -0.123 |
+------------+---------+-------------------------------------+
| 128 | 256 | 0.199 |
+------------+---------+-------------------------------------+
| 256 | 256 | -0.463 |
+------------+---------+-------------------------------------+
| 512 | 256 | 0.001 |
+------------+---------+-------------------------------------+
| 1024 | 256 | 0.012 |
+------------+---------+-------------------------------------+
| 1518 | 256 | 0.014 |
+------------+---------+-------------------------------------+
To view detailed results, visit:
https://lab.dpdk.org/results/dashboard/patchsets/14466/
UNH-IOL DPDK Community Lab
To manage your email subscriptions, visit:
https://lab.dpdk.org/results/dashboard/preferences/subscriptions/
^ permalink raw reply [flat|nested] 6+ messages in thread
* [dpdk-test-report] |SUCCESS| pw84076 [PATCH] app/eventdev: fix segfault with incorrect timer adadpters
@ 2020-11-12 18:59 dpdklab
0 siblings, 0 replies; 6+ messages in thread
From: dpdklab @ 2020-11-12 18:59 UTC (permalink / raw)
To: Test Report; +Cc: dpdk-test-reports
[-- Attachment #1: Type: text/plain, Size: 1934 bytes --]
Test-Label: iol-intel-Performance
Test-Status: SUCCESS
http://dpdk.org/patch/84076
_Performance Testing PASS_
Submitter: Pavan Nikhilesh Bhagavatula <pbhagavatula@marvell.com>
Date: Thursday, November 12 2020 17:43:29
DPDK git baseline: Repo:dpdk
Branch: master
CommitID:a8adac0bc098dad9ca7f7977b6204b29669244e8
84076 --> performance testing pass
Test environment and result as below:
Ubuntu 18.04
Kernel: 4.15.0-generic
Compiler: gcc 7.4
NIC: Intel Corporation Ethernet Converged Network Adapter XL710-QDA2 40000 Mbps
Target: x86_64-native-linuxapp-gcc
Fail/Total: 0/2
Detail performance results:
+------------+---------+-------------------------------------+
| frame_size | txd/rxd | throughput difference from expected |
+============+=========+=====================================+
| 64 | 512 | 2.776 |
+------------+---------+-------------------------------------+
| 64 | 2048 | 1.664 |
+------------+---------+-------------------------------------+
Ubuntu 18.04
Kernel: 4.15.0-generic
Compiler: gcc 7.4
NIC: Intel Corporation Ethernet Converged Network Adapter 82599ES 10000 Mbps
Target: x86_64-native-linuxapp-gcc
Fail/Total: 0/2
Detail performance results:
+------------+---------+-------------------------------------+
| frame_size | txd/rxd | throughput difference from expected |
+============+=========+=====================================+
| 64 | 512 | 1.905 |
+------------+---------+-------------------------------------+
| 64 | 2048 | 0.983 |
+------------+---------+-------------------------------------+
To view detailed results, visit:
https://lab.dpdk.org/results/dashboard/patchsets/14466/
UNH-IOL DPDK Community Lab
To manage your email subscriptions, visit:
https://lab.dpdk.org/results/dashboard/preferences/subscriptions/
^ permalink raw reply [flat|nested] 6+ messages in thread
* [dpdk-test-report] |SUCCESS| pw84076 [PATCH] app/eventdev: fix segfault with incorrect timer adadpters
@ 2020-11-12 18:51 dpdklab
0 siblings, 0 replies; 6+ messages in thread
From: dpdklab @ 2020-11-12 18:51 UTC (permalink / raw)
To: Test Report; +Cc: dpdk-test-reports
[-- Attachment #1: Type: text/plain, Size: 991 bytes --]
Test-Label: iol-intel-Functional
Test-Status: SUCCESS
http://dpdk.org/patch/84076
_Functional Testing PASS_
Submitter: Pavan Nikhilesh Bhagavatula <pbhagavatula@marvell.com>
Date: Thursday, November 12 2020 17:43:29
DPDK git baseline: Repo:dpdk
Branch: master
CommitID:a8adac0bc098dad9ca7f7977b6204b29669244e8
84076 --> functional testing pass
Test environment and result as below:
Ubuntu 18.04
Kernel: 4.15.0-generic
Compiler: gcc 7.4
NIC: Intel Corporation Ethernet Converged Network Adapter XL710-QDA2 40000 Mbps
Target: x86_64-native-linuxapp-gcc
Fail/Total: 0/3
Ubuntu 18.04
Kernel: 4.15.0-generic
Compiler: gcc 7.4
NIC: Intel Corporation Ethernet Converged Network Adapter 82599ES 10000 Mbps
Target: x86_64-native-linuxapp-gcc
Fail/Total: 0/5
To view detailed results, visit:
https://lab.dpdk.org/results/dashboard/patchsets/14466/
UNH-IOL DPDK Community Lab
To manage your email subscriptions, visit:
https://lab.dpdk.org/results/dashboard/preferences/subscriptions/
^ permalink raw reply [flat|nested] 6+ messages in thread
* [dpdk-test-report] |SUCCESS| pw84076 [PATCH] app/eventdev: fix segfault with incorrect timer adadpters
@ 2020-11-12 18:37 dpdklab
0 siblings, 0 replies; 6+ messages in thread
From: dpdklab @ 2020-11-12 18:37 UTC (permalink / raw)
To: Ajit Khaparde, Test Report; +Cc: dpdk-test-reports
[-- Attachment #1: Type: text/plain, Size: 812 bytes --]
Test-Label: iol-broadcom-Functional
Test-Status: SUCCESS
http://dpdk.org/patch/84076
_Functional Testing PASS_
Submitter: Pavan Nikhilesh Bhagavatula <pbhagavatula@marvell.com>
Date: Thursday, November 12 2020 17:43:29
DPDK git baseline: Repo:dpdk
Branch: master
CommitID:a8adac0bc098dad9ca7f7977b6204b29669244e8
84076 --> functional testing pass
Test environment and result as below:
Ubuntu 18.04
Kernel: 4.15.0-65-generic
Compiler: gcc gcc (Ubuntu 7.4.0-1ubuntu1~18.04.1) 7.4.0
NIC: Broadcom Inc. brcm_57414 25000 Mbps
Target: x86_64-native-linuxapp-gcc
Fail/Total: 0/3
To view detailed results, visit:
https://lab.dpdk.org/results/dashboard/patchsets/14466/
UNH-IOL DPDK Community Lab
To manage your email subscriptions, visit:
https://lab.dpdk.org/results/dashboard/preferences/subscriptions/
^ permalink raw reply [flat|nested] 6+ messages in thread
* [dpdk-test-report] |SUCCESS| pw84076 [PATCH] app/eventdev: fix segfault with incorrect timer adadpters
@ 2020-11-12 18:29 dpdklab
0 siblings, 0 replies; 6+ messages in thread
From: dpdklab @ 2020-11-12 18:29 UTC (permalink / raw)
To: Ajit Khaparde, Test Report; +Cc: dpdk-test-reports
[-- Attachment #1: Type: text/plain, Size: 1285 bytes --]
Test-Label: iol-broadcom-Performance
Test-Status: SUCCESS
http://dpdk.org/patch/84076
_Performance Testing PASS_
Submitter: Pavan Nikhilesh Bhagavatula <pbhagavatula@marvell.com>
Date: Thursday, November 12 2020 17:43:29
DPDK git baseline: Repo:dpdk
Branch: master
CommitID:a8adac0bc098dad9ca7f7977b6204b29669244e8
84076 --> performance testing pass
Test environment and result as below:
Ubuntu 18.04
Kernel: 4.15.0-65-generic
Compiler: gcc gcc (Ubuntu 7.4.0-1ubuntu1~18.04.1) 7.4.0
NIC: Broadcom Inc. brcm_57414 25000 Mbps
Target: x86_64-native-linuxapp-gcc
Fail/Total: 0/2
Detail performance results:
+------------+---------+-------------------------------------+
| frame_size | txd/rxd | throughput difference from expected |
+============+=========+=====================================+
| 64 | 512 | 0.080 |
+------------+---------+-------------------------------------+
| 64 | 2048 | -0.046 |
+------------+---------+-------------------------------------+
To view detailed results, visit:
https://lab.dpdk.org/results/dashboard/patchsets/14466/
UNH-IOL DPDK Community Lab
To manage your email subscriptions, visit:
https://lab.dpdk.org/results/dashboard/preferences/subscriptions/
^ permalink raw reply [flat|nested] 6+ messages in thread
end of thread, other threads:[~2020-11-12 23:35 UTC | newest]
Thread overview: 6+ messages (download: mbox.gz / follow: Atom feed)
-- links below jump to the message on this page --
2020-11-12 18:39 [dpdk-test-report] |SUCCESS| pw84076 [PATCH] app/eventdev: fix segfault with incorrect timer adadpters dpdklab
-- strict thread matches above, loose matches on Subject: below --
2020-11-12 23:35 dpdklab
2020-11-12 18:59 dpdklab
2020-11-12 18:51 dpdklab
2020-11-12 18:37 dpdklab
2020-11-12 18:29 dpdklab
This is a public inbox, see mirroring instructions
for how to clone and mirror all data and code used for this inbox;
as well as URLs for NNTP newsgroup(s).