* [dpdk-test-report] |SUCCESS| pw84168 [PATCH] net/mlx5: add wire vport hint
@ 2020-11-13 16:08 dpdklab
0 siblings, 0 replies; 7+ messages in thread
From: dpdklab @ 2020-11-13 16:08 UTC (permalink / raw)
To: Ajit Khaparde, Test Report; +Cc: dpdk-test-reports
[-- Attachment #1: Type: text/plain, Size: 1274 bytes --]
Test-Label: iol-broadcom-Performance
Test-Status: SUCCESS
http://dpdk.org/patch/84168
_Performance Testing PASS_
Submitter: Viacheslav Ovsiienko <viacheslavo@nvidia.com>
Date: Friday, November 13 2020 15:32:52
DPDK git baseline: Repo:dpdk
Branch: master
CommitID:3495a68f2a5491b417ff080d57cbf7e39abc1f44
84168 --> performance testing pass
Test environment and result as below:
Ubuntu 18.04
Kernel: 4.15.0-65-generic
Compiler: gcc gcc (Ubuntu 7.4.0-1ubuntu1~18.04.1) 7.4.0
NIC: Broadcom Inc. brcm_57414 25000 Mbps
Target: x86_64-native-linuxapp-gcc
Fail/Total: 0/2
Detail performance results:
+------------+---------+-------------------------------------+
| frame_size | txd/rxd | throughput difference from expected |
+============+=========+=====================================+
| 64 | 512 | 0.007 |
+------------+---------+-------------------------------------+
| 64 | 2048 | -0.023 |
+------------+---------+-------------------------------------+
To view detailed results, visit:
https://lab.dpdk.org/results/dashboard/patchsets/14485/
UNH-IOL DPDK Community Lab
To manage your email subscriptions, visit:
https://lab.dpdk.org/results/dashboard/preferences/subscriptions/
^ permalink raw reply [flat|nested] 7+ messages in thread
* [dpdk-test-report] |SUCCESS| pw84168 [PATCH] net/mlx5: add wire vport hint
@ 2020-11-13 20:14 dpdklab
0 siblings, 0 replies; 7+ messages in thread
From: dpdklab @ 2020-11-13 20:14 UTC (permalink / raw)
To: Ali Alnubani, Test Report; +Cc: dpdk-test-reports
[-- Attachment #1: Type: text/plain, Size: 3973 bytes --]
Test-Label: iol-mellanox-Performance
Test-Status: SUCCESS
http://dpdk.org/patch/84168
_Performance Testing PASS_
Submitter: Viacheslav Ovsiienko <viacheslavo@nvidia.com>
Date: Friday, November 13 2020 15:32:52
DPDK git baseline: Repo:dpdk
Branch: master
CommitID:3495a68f2a5491b417ff080d57cbf7e39abc1f44
84168 --> performance testing pass
Test environment and result as below:
Ubuntu 18.04
Kernel: 4.15.0-generic
Compiler: gcc 7.4
NIC: Mellanox ConnectX-5 100000 Mbps
Target: x86_64-native-linuxapp-gcc
Fail/Total: 0/6
Detail performance results:
+------------+---------+-------------------------------------+
| frame_size | txd/rxd | throughput difference from expected |
+============+=========+=====================================+
| 64 | 256 | -0.242 |
+------------+---------+-------------------------------------+
| 128 | 256 | -0.024 |
+------------+---------+-------------------------------------+
| 256 | 256 | 0.160 |
+------------+---------+-------------------------------------+
| 512 | 256 | -0.303 |
+------------+---------+-------------------------------------+
| 1024 | 256 | -0.029 |
+------------+---------+-------------------------------------+
| 1518 | 256 | 0.021 |
+------------+---------+-------------------------------------+
Ubuntu 18.04
Kernel: 4.15.0-generic
Compiler: gcc 7.4
NIC: Mellanox ConnectX-4 Lx 25000 Mbps
Target: x86_64-native-linuxapp-gcc
Fail/Total: 0/6
Detail performance results:
+------------+---------+-------------------------------------+
| frame_size | txd/rxd | throughput difference from expected |
+============+=========+=====================================+
| 64 | 256 | 0.039 |
+------------+---------+-------------------------------------+
| 128 | 256 | 0.157 |
+------------+---------+-------------------------------------+
| 256 | 256 | 0.156 |
+------------+---------+-------------------------------------+
| 512 | 256 | -0.121 |
+------------+---------+-------------------------------------+
| 1024 | 256 | -0.026 |
+------------+---------+-------------------------------------+
| 1518 | 256 | -0.011 |
+------------+---------+-------------------------------------+
Ubuntu 18.04
Kernel: 4.15.0-generic
Compiler: gcc 7.4
NIC: Mellanox ConnectX-4 Lx 40000 Mbps
Target: x86_64-native-linuxapp-gcc
Fail/Total: 0/6
Detail performance results:
+------------+---------+-------------------------------------+
| frame_size | txd/rxd | throughput difference from expected |
+============+=========+=====================================+
| 64 | 256 | -0.014 |
+------------+---------+-------------------------------------+
| 128 | 256 | 0.278 |
+------------+---------+-------------------------------------+
| 256 | 256 | 0.167 |
+------------+---------+-------------------------------------+
| 512 | 256 | -0.040 |
+------------+---------+-------------------------------------+
| 1024 | 256 | -0.002 |
+------------+---------+-------------------------------------+
| 1518 | 256 | 0.014 |
+------------+---------+-------------------------------------+
To view detailed results, visit:
https://lab.dpdk.org/results/dashboard/patchsets/14485/
UNH-IOL DPDK Community Lab
To manage your email subscriptions, visit:
https://lab.dpdk.org/results/dashboard/preferences/subscriptions/
^ permalink raw reply [flat|nested] 7+ messages in thread
* [dpdk-test-report] |SUCCESS| pw84168 [PATCH] net/mlx5: add wire vport hint
@ 2020-11-13 16:49 dpdklab
0 siblings, 0 replies; 7+ messages in thread
From: dpdklab @ 2020-11-13 16:49 UTC (permalink / raw)
To: Test Report; +Cc: dpdk-test-reports
[-- Attachment #1: Type: text/plain, Size: 1923 bytes --]
Test-Label: iol-intel-Performance
Test-Status: SUCCESS
http://dpdk.org/patch/84168
_Performance Testing PASS_
Submitter: Viacheslav Ovsiienko <viacheslavo@nvidia.com>
Date: Friday, November 13 2020 15:32:52
DPDK git baseline: Repo:dpdk
Branch: master
CommitID:3495a68f2a5491b417ff080d57cbf7e39abc1f44
84168 --> performance testing pass
Test environment and result as below:
Ubuntu 18.04
Kernel: 4.15.0-generic
Compiler: gcc 7.4
NIC: Intel Corporation Ethernet Converged Network Adapter XL710-QDA2 40000 Mbps
Target: x86_64-native-linuxapp-gcc
Fail/Total: 0/2
Detail performance results:
+------------+---------+-------------------------------------+
| frame_size | txd/rxd | throughput difference from expected |
+============+=========+=====================================+
| 64 | 512 | 2.844 |
+------------+---------+-------------------------------------+
| 64 | 2048 | 1.465 |
+------------+---------+-------------------------------------+
Ubuntu 18.04
Kernel: 4.15.0-generic
Compiler: gcc 7.4
NIC: Intel Corporation Ethernet Converged Network Adapter 82599ES 10000 Mbps
Target: x86_64-native-linuxapp-gcc
Fail/Total: 0/2
Detail performance results:
+------------+---------+-------------------------------------+
| frame_size | txd/rxd | throughput difference from expected |
+============+=========+=====================================+
| 64 | 512 | 2.091 |
+------------+---------+-------------------------------------+
| 64 | 2048 | 1.339 |
+------------+---------+-------------------------------------+
To view detailed results, visit:
https://lab.dpdk.org/results/dashboard/patchsets/14485/
UNH-IOL DPDK Community Lab
To manage your email subscriptions, visit:
https://lab.dpdk.org/results/dashboard/preferences/subscriptions/
^ permalink raw reply [flat|nested] 7+ messages in thread
* [dpdk-test-report] |SUCCESS| pw84168 [PATCH] net/mlx5: add wire vport hint
@ 2020-11-13 16:36 dpdklab
0 siblings, 0 replies; 7+ messages in thread
From: dpdklab @ 2020-11-13 16:36 UTC (permalink / raw)
To: Test Report; +Cc: dpdk-test-reports
[-- Attachment #1: Type: text/plain, Size: 980 bytes --]
Test-Label: iol-intel-Functional
Test-Status: SUCCESS
http://dpdk.org/patch/84168
_Functional Testing PASS_
Submitter: Viacheslav Ovsiienko <viacheslavo@nvidia.com>
Date: Friday, November 13 2020 15:32:52
DPDK git baseline: Repo:dpdk
Branch: master
CommitID:3495a68f2a5491b417ff080d57cbf7e39abc1f44
84168 --> functional testing pass
Test environment and result as below:
Ubuntu 18.04
Kernel: 4.15.0-generic
Compiler: gcc 7.4
NIC: Intel Corporation Ethernet Converged Network Adapter XL710-QDA2 40000 Mbps
Target: x86_64-native-linuxapp-gcc
Fail/Total: 0/3
Ubuntu 18.04
Kernel: 4.15.0-generic
Compiler: gcc 7.4
NIC: Intel Corporation Ethernet Converged Network Adapter 82599ES 10000 Mbps
Target: x86_64-native-linuxapp-gcc
Fail/Total: 0/5
To view detailed results, visit:
https://lab.dpdk.org/results/dashboard/patchsets/14485/
UNH-IOL DPDK Community Lab
To manage your email subscriptions, visit:
https://lab.dpdk.org/results/dashboard/preferences/subscriptions/
^ permalink raw reply [flat|nested] 7+ messages in thread
* [dpdk-test-report] |SUCCESS| pw84168 [PATCH] net/mlx5: add wire vport hint
@ 2020-11-13 16:15 dpdklab
0 siblings, 0 replies; 7+ messages in thread
From: dpdklab @ 2020-11-13 16:15 UTC (permalink / raw)
To: Test Report; +Cc: dpdk-test-reports
[-- Attachment #1: Type: text/plain, Size: 2340 bytes --]
Test-Label: iol-testing
Test-Status: SUCCESS
http://dpdk.org/patch/84168
_Testing PASS_
Submitter: Viacheslav Ovsiienko <viacheslavo@nvidia.com>
Date: Friday, November 13 2020 15:32:52
DPDK git baseline: Repo:dpdk
Branch: master
CommitID:3495a68f2a5491b417ff080d57cbf7e39abc1f44
84168 --> testing pass
Test environment and result as below:
+---------------------+--------------------+-------------------+----------------+
| Environment | dpdk_meson_compile | dpdk_compile_spdk | dpdk_unit_test |
+=====================+====================+===================+================+
| Windows Server 2019 | PASS | SKIPPED | SKIPPED |
+---------------------+--------------------+-------------------+----------------+
| FreeBSD 11.2 | PASS | SKIPPED | SKIPPED |
+---------------------+--------------------+-------------------+----------------+
| Fedora 31 | PASS | SKIPPED | SKIPPED |
+---------------------+--------------------+-------------------+----------------+
| CentOS 8 | PASS | SKIPPED | SKIPPED |
+---------------------+--------------------+-------------------+----------------+
| Ubuntu 18.04 | PASS | PASS | PASS |
+---------------------+--------------------+-------------------+----------------+
| openSUSE Leap 15 | PASS | SKIPPED | SKIPPED |
+---------------------+--------------------+-------------------+----------------+
| Arch Linux | PASS | SKIPPED | SKIPPED |
+---------------------+--------------------+-------------------+----------------+
Windows Server 2019
Kernel: 10.0
Compiler: clang 9.0
FreeBSD 11.2
Kernel: 11.2
Compiler: gcc 8.3
Fedora 31
Kernel: 5.3.16
Compiler: gcc 9.2.1
CentOS 8
Kernel: 4.18.0.el8_0
Compiler: gcc 8.3.1
Ubuntu 18.04
Kernel: 4.15.0-generic
Compiler: gcc 7.5
openSUSE Leap 15
Kernel: 4.12.14
Compiler: gcc 7.4.1
Arch Linux
Kernel: latest
Compiler: gcc latest
To view detailed results, visit:
https://lab.dpdk.org/results/dashboard/patchsets/14485/
UNH-IOL DPDK Community Lab
To manage your email subscriptions, visit:
https://lab.dpdk.org/results/dashboard/preferences/subscriptions/
^ permalink raw reply [flat|nested] 7+ messages in thread
* [dpdk-test-report] |SUCCESS| pw84168 [PATCH] net/mlx5: add wire vport hint
@ 2020-11-13 16:03 dpdklab
0 siblings, 0 replies; 7+ messages in thread
From: dpdklab @ 2020-11-13 16:03 UTC (permalink / raw)
To: Ajit Khaparde, Test Report; +Cc: dpdk-test-reports
[-- Attachment #1: Type: text/plain, Size: 801 bytes --]
Test-Label: iol-broadcom-Functional
Test-Status: SUCCESS
http://dpdk.org/patch/84168
_Functional Testing PASS_
Submitter: Viacheslav Ovsiienko <viacheslavo@nvidia.com>
Date: Friday, November 13 2020 15:32:52
DPDK git baseline: Repo:dpdk
Branch: master
CommitID:3495a68f2a5491b417ff080d57cbf7e39abc1f44
84168 --> functional testing pass
Test environment and result as below:
Ubuntu 18.04
Kernel: 4.15.0-65-generic
Compiler: gcc gcc (Ubuntu 7.4.0-1ubuntu1~18.04.1) 7.4.0
NIC: Broadcom Inc. brcm_57414 25000 Mbps
Target: x86_64-native-linuxapp-gcc
Fail/Total: 0/3
To view detailed results, visit:
https://lab.dpdk.org/results/dashboard/patchsets/14485/
UNH-IOL DPDK Community Lab
To manage your email subscriptions, visit:
https://lab.dpdk.org/results/dashboard/preferences/subscriptions/
^ permalink raw reply [flat|nested] 7+ messages in thread
* [dpdk-test-report] |SUCCESS| pw84168 [PATCH] net/mlx5: add wire vport hint
[not found] <1605281572-31195-1-git-send-email-viacheslavo@nvidia.com>
@ 2020-11-13 15:33 ` checkpatch
0 siblings, 0 replies; 7+ messages in thread
From: checkpatch @ 2020-11-13 15:33 UTC (permalink / raw)
To: test-report
Test-Label: checkpatch
Test-Status: SUCCESS
http://dpdk.org/patch/84168
_coding style OK_
^ permalink raw reply [flat|nested] 7+ messages in thread
end of thread, other threads:[~2020-11-13 20:14 UTC | newest]
Thread overview: 7+ messages (download: mbox.gz / follow: Atom feed)
-- links below jump to the message on this page --
2020-11-13 16:08 [dpdk-test-report] |SUCCESS| pw84168 [PATCH] net/mlx5: add wire vport hint dpdklab
-- strict thread matches above, loose matches on Subject: below --
2020-11-13 20:14 dpdklab
2020-11-13 16:49 dpdklab
2020-11-13 16:36 dpdklab
2020-11-13 16:15 dpdklab
2020-11-13 16:03 dpdklab
[not found] <1605281572-31195-1-git-send-email-viacheslavo@nvidia.com>
2020-11-13 15:33 ` checkpatch
This is a public inbox, see mirroring instructions
for how to clone and mirror all data and code used for this inbox;
as well as URLs for NNTP newsgroup(s).