* [dpdk-test-report] |SUCCESS| pw84237-84242 [PATCH] [v5, 6/6] net/mlx5: fix crash in tunnel offload setup
@ 2020-11-16 15:11 dpdklab
0 siblings, 0 replies; 5+ messages in thread
From: dpdklab @ 2020-11-16 15:11 UTC (permalink / raw)
To: Test Report; +Cc: dpdk-test-reports
[-- Attachment #1: Type: text/plain, Size: 1921 bytes --]
Test-Label: iol-intel-Performance
Test-Status: SUCCESS
http://dpdk.org/patch/84242
_Performance Testing PASS_
Submitter: Gregory Etelson <getelson@nvidia.com>
Date: Monday, November 16 2020 14:02:23
DPDK git baseline: Repo:dpdk
Branch: master
CommitID:27cc0779220d6ae689329a0cbddb893acf1f1cd1
84237-84242 --> performance testing pass
Test environment and result as below:
Ubuntu 18.04
Kernel: 4.15.0-generic
Compiler: gcc 7.4
NIC: Intel Corporation Ethernet Converged Network Adapter XL710-QDA2 40000 Mbps
Target: x86_64-native-linuxapp-gcc
Fail/Total: 0/2
Detail performance results:
+------------+---------+-------------------------------------+
| frame_size | txd/rxd | throughput difference from expected |
+============+=========+=====================================+
| 64 | 512 | 2.987 |
+------------+---------+-------------------------------------+
| 64 | 2048 | 2.025 |
+------------+---------+-------------------------------------+
Ubuntu 18.04
Kernel: 4.15.0-generic
Compiler: gcc 7.4
NIC: Intel Corporation Ethernet Converged Network Adapter 82599ES 10000 Mbps
Target: x86_64-native-linuxapp-gcc
Fail/Total: 0/2
Detail performance results:
+------------+---------+-------------------------------------+
| frame_size | txd/rxd | throughput difference from expected |
+============+=========+=====================================+
| 64 | 512 | 2.194 |
+------------+---------+-------------------------------------+
| 64 | 2048 | 1.341 |
+------------+---------+-------------------------------------+
To view detailed results, visit:
https://lab.dpdk.org/results/dashboard/patchsets/14511/
UNH-IOL DPDK Community Lab
To manage your email subscriptions, visit:
https://lab.dpdk.org/results/dashboard/preferences/subscriptions/
^ permalink raw reply [flat|nested] 5+ messages in thread
* [dpdk-test-report] |SUCCESS| pw84237-84242 [PATCH] [v5, 6/6] net/mlx5: fix crash in tunnel offload setup
@ 2020-11-16 15:30 dpdklab
0 siblings, 0 replies; 5+ messages in thread
From: dpdklab @ 2020-11-16 15:30 UTC (permalink / raw)
To: Ali Alnubani, Test Report; +Cc: dpdk-test-reports
[-- Attachment #1: Type: text/plain, Size: 3971 bytes --]
Test-Label: iol-mellanox-Performance
Test-Status: SUCCESS
http://dpdk.org/patch/84242
_Performance Testing PASS_
Submitter: Gregory Etelson <getelson@nvidia.com>
Date: Monday, November 16 2020 14:02:23
DPDK git baseline: Repo:dpdk
Branch: master
CommitID:27cc0779220d6ae689329a0cbddb893acf1f1cd1
84237-84242 --> performance testing pass
Test environment and result as below:
Ubuntu 18.04
Kernel: 4.15.0-generic
Compiler: gcc 7.4
NIC: Mellanox ConnectX-5 100000 Mbps
Target: x86_64-native-linuxapp-gcc
Fail/Total: 0/6
Detail performance results:
+------------+---------+-------------------------------------+
| frame_size | txd/rxd | throughput difference from expected |
+============+=========+=====================================+
| 64 | 256 | 0.098 |
+------------+---------+-------------------------------------+
| 128 | 256 | -0.041 |
+------------+---------+-------------------------------------+
| 256 | 256 | -0.018 |
+------------+---------+-------------------------------------+
| 512 | 256 | -0.011 |
+------------+---------+-------------------------------------+
| 1024 | 256 | 0.059 |
+------------+---------+-------------------------------------+
| 1518 | 256 | -0.007 |
+------------+---------+-------------------------------------+
Ubuntu 18.04
Kernel: 4.15.0-generic
Compiler: gcc 7.4
NIC: Mellanox ConnectX-4 Lx 25000 Mbps
Target: x86_64-native-linuxapp-gcc
Fail/Total: 0/6
Detail performance results:
+------------+---------+-------------------------------------+
| frame_size | txd/rxd | throughput difference from expected |
+============+=========+=====================================+
| 64 | 256 | -0.001 |
+------------+---------+-------------------------------------+
| 128 | 256 | 0.178 |
+------------+---------+-------------------------------------+
| 256 | 256 | 0.083 |
+------------+---------+-------------------------------------+
| 512 | 256 | -0.051 |
+------------+---------+-------------------------------------+
| 1024 | 256 | -0.021 |
+------------+---------+-------------------------------------+
| 1518 | 256 | 0.011 |
+------------+---------+-------------------------------------+
Ubuntu 18.04
Kernel: 4.15.0-generic
Compiler: gcc 7.4
NIC: Mellanox ConnectX-4 Lx 40000 Mbps
Target: x86_64-native-linuxapp-gcc
Fail/Total: 0/6
Detail performance results:
+------------+---------+-------------------------------------+
| frame_size | txd/rxd | throughput difference from expected |
+============+=========+=====================================+
| 64 | 256 | -0.158 |
+------------+---------+-------------------------------------+
| 128 | 256 | -0.044 |
+------------+---------+-------------------------------------+
| 256 | 256 | 0.390 |
+------------+---------+-------------------------------------+
| 512 | 256 | 0.013 |
+------------+---------+-------------------------------------+
| 1024 | 256 | -0.020 |
+------------+---------+-------------------------------------+
| 1518 | 256 | -0.005 |
+------------+---------+-------------------------------------+
To view detailed results, visit:
https://lab.dpdk.org/results/dashboard/patchsets/14511/
UNH-IOL DPDK Community Lab
To manage your email subscriptions, visit:
https://lab.dpdk.org/results/dashboard/preferences/subscriptions/
^ permalink raw reply [flat|nested] 5+ messages in thread
* [dpdk-test-report] |SUCCESS| pw84237-84242 [PATCH] [v5, 6/6] net/mlx5: fix crash in tunnel offload setup
@ 2020-11-16 15:01 dpdklab
0 siblings, 0 replies; 5+ messages in thread
From: dpdklab @ 2020-11-16 15:01 UTC (permalink / raw)
To: Test Report; +Cc: dpdk-test-reports
[-- Attachment #1: Type: text/plain, Size: 2338 bytes --]
Test-Label: iol-testing
Test-Status: SUCCESS
http://dpdk.org/patch/84242
_Testing PASS_
Submitter: Gregory Etelson <getelson@nvidia.com>
Date: Monday, November 16 2020 14:02:23
DPDK git baseline: Repo:dpdk
Branch: master
CommitID:27cc0779220d6ae689329a0cbddb893acf1f1cd1
84237-84242 --> testing pass
Test environment and result as below:
+---------------------+--------------------+-------------------+----------------+
| Environment | dpdk_meson_compile | dpdk_compile_spdk | dpdk_unit_test |
+=====================+====================+===================+================+
| Windows Server 2019 | PASS | SKIPPED | SKIPPED |
+---------------------+--------------------+-------------------+----------------+
| FreeBSD 11.2 | PASS | SKIPPED | SKIPPED |
+---------------------+--------------------+-------------------+----------------+
| CentOS 8 | PASS | SKIPPED | SKIPPED |
+---------------------+--------------------+-------------------+----------------+
| Fedora 31 | PASS | SKIPPED | SKIPPED |
+---------------------+--------------------+-------------------+----------------+
| Ubuntu 18.04 | PASS | PASS | PASS |
+---------------------+--------------------+-------------------+----------------+
| openSUSE Leap 15 | PASS | SKIPPED | SKIPPED |
+---------------------+--------------------+-------------------+----------------+
| Arch Linux | PASS | SKIPPED | SKIPPED |
+---------------------+--------------------+-------------------+----------------+
Windows Server 2019
Kernel: 10.0
Compiler: clang 9.0
FreeBSD 11.2
Kernel: 11.2
Compiler: gcc 8.3
CentOS 8
Kernel: 4.18.0.el8_0
Compiler: gcc 8.3.1
Fedora 31
Kernel: 5.3.16
Compiler: gcc 9.2.1
Ubuntu 18.04
Kernel: 4.15.0-generic
Compiler: gcc 7.5
openSUSE Leap 15
Kernel: 4.12.14
Compiler: gcc 7.4.1
Arch Linux
Kernel: latest
Compiler: gcc latest
To view detailed results, visit:
https://lab.dpdk.org/results/dashboard/patchsets/14511/
UNH-IOL DPDK Community Lab
To manage your email subscriptions, visit:
https://lab.dpdk.org/results/dashboard/preferences/subscriptions/
^ permalink raw reply [flat|nested] 5+ messages in thread
* [dpdk-test-report] |SUCCESS| pw84237-84242 [PATCH] [v5, 6/6] net/mlx5: fix crash in tunnel offload setup
@ 2020-11-16 14:53 dpdklab
0 siblings, 0 replies; 5+ messages in thread
From: dpdklab @ 2020-11-16 14:53 UTC (permalink / raw)
To: Ajit Khaparde, Test Report; +Cc: dpdk-test-reports
[-- Attachment #1: Type: text/plain, Size: 1272 bytes --]
Test-Label: iol-broadcom-Performance
Test-Status: SUCCESS
http://dpdk.org/patch/84242
_Performance Testing PASS_
Submitter: Gregory Etelson <getelson@nvidia.com>
Date: Monday, November 16 2020 14:02:23
DPDK git baseline: Repo:dpdk
Branch: master
CommitID:27cc0779220d6ae689329a0cbddb893acf1f1cd1
84237-84242 --> performance testing pass
Test environment and result as below:
Ubuntu 18.04
Kernel: 4.15.0-65-generic
Compiler: gcc gcc (Ubuntu 7.4.0-1ubuntu1~18.04.1) 7.4.0
NIC: Broadcom Inc. brcm_57414 25000 Mbps
Target: x86_64-native-linuxapp-gcc
Fail/Total: 0/2
Detail performance results:
+------------+---------+-------------------------------------+
| frame_size | txd/rxd | throughput difference from expected |
+============+=========+=====================================+
| 64 | 512 | -0.093 |
+------------+---------+-------------------------------------+
| 64 | 2048 | 0.082 |
+------------+---------+-------------------------------------+
To view detailed results, visit:
https://lab.dpdk.org/results/dashboard/patchsets/14511/
UNH-IOL DPDK Community Lab
To manage your email subscriptions, visit:
https://lab.dpdk.org/results/dashboard/preferences/subscriptions/
^ permalink raw reply [flat|nested] 5+ messages in thread
* [dpdk-test-report] |SUCCESS| pw84237-84242 [PATCH] [v5, 6/6] net/mlx5: fix crash in tunnel offload setup
@ 2020-11-16 14:47 dpdklab
0 siblings, 0 replies; 5+ messages in thread
From: dpdklab @ 2020-11-16 14:47 UTC (permalink / raw)
To: Ajit Khaparde, Test Report; +Cc: dpdk-test-reports
[-- Attachment #1: Type: text/plain, Size: 799 bytes --]
Test-Label: iol-broadcom-Functional
Test-Status: SUCCESS
http://dpdk.org/patch/84242
_Functional Testing PASS_
Submitter: Gregory Etelson <getelson@nvidia.com>
Date: Monday, November 16 2020 14:02:23
DPDK git baseline: Repo:dpdk
Branch: master
CommitID:27cc0779220d6ae689329a0cbddb893acf1f1cd1
84237-84242 --> functional testing pass
Test environment and result as below:
Ubuntu 18.04
Kernel: 4.15.0-65-generic
Compiler: gcc gcc (Ubuntu 7.4.0-1ubuntu1~18.04.1) 7.4.0
NIC: Broadcom Inc. brcm_57414 25000 Mbps
Target: x86_64-native-linuxapp-gcc
Fail/Total: 0/3
To view detailed results, visit:
https://lab.dpdk.org/results/dashboard/patchsets/14511/
UNH-IOL DPDK Community Lab
To manage your email subscriptions, visit:
https://lab.dpdk.org/results/dashboard/preferences/subscriptions/
^ permalink raw reply [flat|nested] 5+ messages in thread
end of thread, other threads:[~2020-11-16 15:31 UTC | newest]
Thread overview: 5+ messages (download: mbox.gz / follow: Atom feed)
-- links below jump to the message on this page --
2020-11-16 15:11 [dpdk-test-report] |SUCCESS| pw84237-84242 [PATCH] [v5, 6/6] net/mlx5: fix crash in tunnel offload setup dpdklab
-- strict thread matches above, loose matches on Subject: below --
2020-11-16 15:30 dpdklab
2020-11-16 15:01 dpdklab
2020-11-16 14:53 dpdklab
2020-11-16 14:47 dpdklab
This is a public inbox, see mirroring instructions
for how to clone and mirror all data and code used for this inbox;
as well as URLs for NNTP newsgroup(s).